Felt | Verdi |
AlreadyApplied | True |
Aperture | 8.0 |
ApertureValue | 8.0 |
ApproximateFocusDistance | 4294967295 |
AutoLateralCA | 0 |
AutoWhiteVersion | 134348800 |
BitsPerSample (1) | 8 8 8 |
BitsPerSample | 8 |
Blacks2012 | -26 |
BlueHue | 0 |
BlueSaturation | 0 |
CameraProfile | Adobe Standard |
CFAPattern | [Red,Green][Green,Blue] |
CircleOfConfusion | 0.030 mm |
Clarity2012 | +48 |
ColorComponents | 3 |
ColorMode | RGB |
ColorNoiseReduction | 25 |
ColorNoiseReductionDetail | 50 |
ColorNoiseReductionSmoothness | 50 |
ColorSpace | sRGB |
ColorTemperature | 5000 |
ColorTransform | YCbCr |
Contrast | Normal |
Contrast2012 | +49 |
ConvertToGrayscale | False |
CreateDate | 2016:09:19 18:50:10 |
CreatorTool | Adobe Photoshop Lightroom 6.0 (Macintosh) |
CustomRendered | Normal |
DateCreated (1) | 2016:09:19 |
DateCreated | 2016:09:19 18:50:10.005 |
DateTimeOriginal | 2016:09:19 18:50:10 |
DefringeGreenAmount | 0 |
DefringeGreenHueHi | 60 |
DefringeGreenHueLo | 40 |
DefringePurpleAmount | 0 |
DefringePurpleHueHi | 70 |
DefringePurpleHueLo | 30 |
DigitalZoomRatio | 1 |
DOF | inf (1.66 m - inf) |
ExifImageHeight | 3136 |
ExifImageWidth | 6016 |
Exposure2012 | -1.15 |
ExposureCompensation | +1/3 |
ExposureMode | Manual |
ExposureProgram | Manual |
ExposureTime | 1/500 |
Flash | Off, Did not fire |
FNumber | 8.0 |
FocalLength | 20.0 mm |
FocalLength35efl | 20.0 mm (35 mm equivalent: 20.0 mm) |
FocalLengthIn35mmFormat | 20 mm |
Format | image/jpeg |
FOV | 84.0 deg |
GainControl | None |
GrainAmount | 0 |
GreenHue | 0 |
GreenSaturation | 0 |
HasCrop | False |
HasSettings | True |
Highlights2012 | -37 |
HueAdjustmentAqua | 0 |
HueAdjustmentBlue | 0 |
HueAdjustmentGreen | 0 |
HueAdjustmentMagenta | 0 |
HueAdjustmentOrange | +4 |
HueAdjustmentPurple | 0 |
HueAdjustmentRed | 0 |
HueAdjustmentYellow | -5 |
HyperfocalDistance | 1.66 m |
ICCProfileName | sRGB IEC61966-2.1 |
ImageHeight (1) | 4016 |
ImageHeight | 3136 |
ImageNumber | 10852 |
ImageSize | 6016x3136 |
ImageWidth | 6016 |
ISO | 100 |
Lens | 20.0 mm f/2.8 |
LensID (1) | 55 |
LensID | AF Nikkor 20mm f/2.8D |
LensInfo | 20mm f/2.8 |
LensManualDistortionAmount | 0 |
LensModel | 20.0 mm f/2.8 |
LensProfileEnable | 0 |
LensProfileSetup | LensDefaults |
LightSource | Unknown |
LightValue | 15.0 |
LuminanceAdjustmentAqua | 0 |
LuminanceAdjustmentBlue | 0 |
LuminanceAdjustmentGreen | 0 |
LuminanceAdjustmentMagenta | 0 |
LuminanceAdjustmentOrange | 0 |
LuminanceAdjustmentPurple | 0 |
LuminanceAdjustmentRed | 0 |
LuminanceAdjustmentYellow | 0 |
LuminanceSmoothing | 0 |
Make | NIKON CORPORATION |
MaxApertureValue | 2.8 |
Megapixels | 18.9 |
MeteringMode | Multi-segment |
Model | NIKON D610 |
ModifyDate (1) | 2016:09:29 01:04:45+02:00 |
ModifyDate | 2016:09:29 01:04:45 |
Orientation | Horizontal (normal) |
ParametricDarks | 0 |
ParametricHighlights | 0 |
ParametricHighlightSplit | 75 |
ParametricLights | 0 |
ParametricMidtoneSplit | 50 |
ParametricShadows | 0 |
ParametricShadowSplit | 25 |
PerspectiveAspect | 0 |
PerspectiveHorizontal | 0 |
PerspectiveRotate | 0.0 |
PerspectiveScale | 100 |
PerspectiveUpright | 0 |
PerspectiveVertical | 0 |
PhotometricInterpretation | RGB |
PostCropVignetteAmount | 0 |
ProcessVersion | 6.7 |
ProfileDescription | sRGB IEC61966-2.1 |
RawFileName | DSC_1067.jpg |
RedHue | 0 |
RedSaturation | 0 |
SamplesPerPixel | 3 |
Saturation (1) | +27 |
Saturation | Normal |
SaturationAdjustmentAqua | 0 |
SaturationAdjustmentBlue | 0 |
SaturationAdjustmentGreen | 0 |
SaturationAdjustmentMagenta | 0 |
SaturationAdjustmentOrange | 0 |
SaturationAdjustmentPurple | 0 |
SaturationAdjustmentRed | 0 |
SaturationAdjustmentYellow | 0 |
ScaleFactor35efl | 1.0 |
SceneCaptureType | Landscape |
SceneType | Directly photographed |
SensingMethod | One-chip color area |
SensitivityType | Recommended Exposure Index |
SerialNumber | 2032347 |
Shadows2012 | +52 |
ShadowTint | 0 |
SharpenDetail | 25 |
SharpenEdgeMasking | 0 |
SharpenRadius | +1.0 |
Sharpness (1) | 49 |
Sharpness | Normal |
ShutterSpeed | 1/500 |
ShutterSpeedValue | 1/500 |
Software | Adobe Photoshop CS6 (Macintosh) |
SplitToningBalance | 0 |
SplitToningHighlightHue | 0 |
SplitToningHighlightSaturation | 0 |
SplitToningShadowHue | 0 |
SplitToningShadowSaturation | 0 |
SubjectDistanceRange | Unknown |
Tint | +5 |
ToneCurve | 0, 0, 255, 255 |
ToneCurveBlue | 0, 0, 255, 255 |
ToneCurveGreen | 0, 0, 255, 255 |
ToneCurveName | Linear |
ToneCurveName2012 | Linear |
ToneCurvePV2012 | 0, 0, 255, 255 |
ToneCurvePV2012Blue | 0, 0, 255, 255 |
ToneCurvePV2012Green | 0, 0, 255, 255 |
ToneCurvePV2012Red | 0, 0, 255, 255 |
ToneCurveRed | 0, 0, 255, 255 |
URL_List | |
Version | 9.0 |
Vibrance | -11 |
VignetteAmount | 0 |
WhiteBalance (1) | As Shot |
WhiteBalance | Auto |
Whites2012 | +30 |