Felt | Verdi |
AlreadyApplied | True |
Aperture | 8.0 |
ApertureValue | 8.0 |
ApproximateFocusDistance | 4294967295 |
AutoLateralCA | 0 |
AutoWhiteVersion | 134348800 |
BitsPerSample | 8 |
Blacks2012 | -50 |
BlueHue | 0 |
BlueSaturation | 0 |
CameraProfile | Adobe Standard |
CFAPattern | [Red,Green][Green,Blue] |
CircleOfConfusion | 0.030 mm |
Clarity2012 | +27 |
ColorComponents | 3 |
ColorNoiseReduction | 25 |
ColorNoiseReductionDetail | 50 |
ColorNoiseReductionSmoothness | 50 |
ColorTemperature | 5000 |
ColorTransform | YCbCr |
Contrast | Normal |
Contrast2012 | +45 |
ConvertToGrayscale | True |
CreateDate (1) | 2016:09:13 18:00:31.70 |
CreateDate | 2016:09:13 18:00:31 |
CreatorTool | Adobe Photoshop Lightroom 6.0 (Macintosh) |
CropAngle | 0.796615 |
CropBottom | 0.772165 |
CropConstrainToWarp | 0 |
CropLeft | 0.014458 |
CropRight | 0.987367 |
CropTop | 0.0312 |
CustomRendered | Normal |
DateCreated (1) | 2016:09:13 18:00:31.70 |
DateCreated | 2016:09:13 |
DateTimeOriginal | 2016:09:13 18:00:31 |
DigitalZoomRatio | 1 |
DOF | inf (1.66 m - inf) |
Exposure2012 | -0.20 |
ExposureCompensation | +2 |
ExposureMode | Manual |
ExposureProgram | Manual |
ExposureTime | 1/400 |
Flash | Off, Did not fire |
FNumber | 8.0 |
FocalLength | 20.0 mm |
FocalLength35efl | 20.0 mm (35 mm equivalent: 20.0 mm) |
FocalLengthIn35mmFormat | 20 mm |
Format | image/jpeg |
FOV | 84.0 deg |
GainControl | None |
GradientBasedCorrActive | true |
GradientBasedCorrAmount | 1.000000 |
GradientBasedCorrBrightness | 0.000000 |
GradientBasedCorrClarity2012 | 1.000000 |
GradientBasedCorrContrast2012 (1) | 0.769259 |
GradientBasedCorrContrast2012 (2) | -0.295422 |
GradientBasedCorrContrast2012 | 0.706850 |
GradientBasedCorrDefringe | 0.000000 |
GradientBasedCorrExposure2012 (1) | -0.182685 |
GradientBasedCorrExposure2012 (2) | -0.359012 |
GradientBasedCorrExposure2012 | -0.161156 |
GradientBasedCorrHighlights2012 | 0.084302 |
GradientBasedCorrHue | 0.000000 |
GradientBasedCorrLuminanceNoise | 0.000000 |
GradientBasedCorrMaskFullX (1) | 0.490750 |
GradientBasedCorrMaskFullX (2) | 0.514531 |
GradientBasedCorrMaskFullX | 0.496987 |
GradientBasedCorrMaskFullY (1) | 0.325604 |
GradientBasedCorrMaskFullY (2) | 0.657786 |
GradientBasedCorrMaskFullY | 0.248196 |
GradientBasedCorrMaskValue | 1.000000 |
GradientBasedCorrMaskWhat | Mask/Gradient |
GradientBasedCorrMaskZeroX (1) | 0.488047 |
GradientBasedCorrMaskZeroX (2) | 0.508734 |
GradientBasedCorrMaskZeroX | 0.494301 |
GradientBasedCorrMaskZeroY (1) | 0.516415 |
GradientBasedCorrMaskZeroY (2) | 0.520197 |
GradientBasedCorrMaskZeroY | 0.418330 |
GradientBasedCorrMoire | 0.000000 |
GradientBasedCorrSaturation | 0.000000 |
GradientBasedCorrShadows2012 | 0.526254 |
GradientBasedCorrSharpness | 0.000000 |
GradientBasedCorrTemperature | 0.000000 |
GradientBasedCorrTint | 0.000000 |
GradientBasedCorrWhat | Correction |
GrainAmount | 0 |
GrayMixerAqua | -20 |
GrayMixerBlue | -3 |
GrayMixerGreen | -26 |
GrayMixerMagenta | +4 |
GrayMixerOrange | -17 |
GrayMixerPurple | +13 |
GrayMixerRed | -8 |
GrayMixerYellow | -21 |
GreenHue | 0 |
GreenSaturation | 0 |
HasCrop | True |
HasSettings | True |
Highlights2012 | -100 |
HyperfocalDistance | 1.66 m |
ImageHeight | 2894 |
ImageNumber | 9636 |
ImageSize | 5894x2894 |
ImageWidth | 5894 |
ISO | 80 |
Lens | 20.0 mm f/2.8 |
LensID (1) | 55 |
LensID | AF Nikkor 20mm f/2.8D |
LensInfo | 20mm f/2.8 |
LensManualDistortionAmount | 0 |
LensModel | 20.0 mm f/2.8 |
LensProfileChromaticAberrationScale | 100 |
LensProfileDistortionScale | 100 |
LensProfileEnable | 1 |
LensProfileFilename | NIKON D3X (Nikon AF NIKKOR 20mm f2.8D) - RAW.lcp |
LensProfileName | Adobe (Nikon AF NIKKOR 20mm f/2.8D) |
LensProfileSetup | LensDefaults |
LensProfileVignettingScale | 100 |
LightSource | Unknown |
LightValue | 15.0 |
LuminanceSmoothing | 0 |
Make | NIKON CORPORATION |
MaxApertureValue | 2.8 |
Megapixels | 17.1 |
MeteringMode | Multi-segment |
Model | NIKON D610 |
ModifyDate (1) | 2016:10:18 11:54:50+02:00 |
ModifyDate | 2016:10:18 11:54:50 |
Orientation | Horizontal (normal) |
PaintCorrectionActive | true |
PaintCorrectionAmount | 1.000000 |
PaintCorrectionBrightness | 0.000000 |
PaintCorrectionClarity2012 | 1.000000 |
PaintCorrectionContrast2012 (1) | 0.749909 |
PaintCorrectionContrast2012 | 0.445222 |
PaintCorrectionDefringe | 0.000000 |
PaintCorrectionExposure2012 (1) | 0.109012 |
PaintCorrectionExposure2012 | 0.074764 |
PaintCorrectionHighlights2012 (1) | 0.170422 |
PaintCorrectionHighlights2012 | -0.111919 |
PaintCorrectionHue | 0.000000 |
PaintCorrectionLuminanceNoise | 0.000000 |
PaintCorrectionMaskCenterWeight | 0.036378 |
PaintCorrectionMaskFlow | 1.000000 |
PaintCorrectionMaskRadius (1) | 0.137466 |
PaintCorrectionMaskRadius | 0.138053 |
PaintCorrectionMaskValue | 1.000000 |
PaintCorrectionMaskWhat | Mask/Paint |
PaintCorrectionMoire | 0.000000 |
PaintCorrectionSaturation | 0.000000 |
PaintCorrectionShadows2012 | 0.526254 |
PaintCorrectionSharpness | 0.000000 |
PaintCorrectionTemperature | 0.000000 |
PaintCorrectionTint | 0.000000 |
PaintCorrectionWhat | Correction |
ParametricDarks | 0 |
ParametricHighlights | 0 |
ParametricHighlightSplit | 75 |
ParametricLights | 0 |
ParametricMidtoneSplit | 50 |
ParametricShadows | 0 |
ParametricShadowSplit | 25 |
PerspectiveAspect | 0 |
PerspectiveHorizontal | 0 |
PerspectiveRotate | 0.0 |
PerspectiveScale | 100 |
PerspectiveUpright | 0 |
PerspectiveVertical | 0 |
PostCropVignetteAmount | 0 |
ProcessVersion | 6.7 |
ProfileDescription | sRGB IEC61966-2.1 |
RawFileName | DSC_9854-2.jpg |
RedHue | 0 |
RedSaturation | 0 |
Saturation | Normal |
ScaleFactor35efl | 1.0 |
SceneCaptureType | Landscape |
SceneType | Directly photographed |
SensingMethod | One-chip color area |
SensitivityType | Recommended Exposure Index |
SerialNumber | 2032347 |
Shadows2012 | +27 |
ShadowTint | 0 |
SharpenDetail | 64 |
SharpenEdgeMasking | 76 |
SharpenRadius | +1.9 |
Sharpness (1) | 108 |
Sharpness | Normal |
ShutterSpeed | 1/400 |
ShutterSpeedValue | 1/400 |
Software | Adobe Photoshop Lightroom 6.0 (Macintosh) |
SplitToningBalance | 0 |
SplitToningHighlightHue | 0 |
SplitToningHighlightSaturation | 0 |
SplitToningShadowHue | 0 |
SplitToningShadowSaturation | 0 |
SubjectDistanceRange | Unknown |
Tint | +4 |
ToneCurve | 0, 0, 255, 255 |
ToneCurveBlue | 0, 0, 255, 255 |
ToneCurveGreen | 0, 0, 255, 255 |
ToneCurveName | Linear |
ToneCurveName2012 | Linear |
ToneCurvePV2012 | 0, 0, 255, 255 |
ToneCurvePV2012Blue | 0, 0, 255, 255 |
ToneCurvePV2012Green | 0, 0, 255, 255 |
ToneCurvePV2012Red | 0, 0, 255, 255 |
ToneCurveRed | 0, 0, 255, 255 |
Version | 9.0 |
VignetteAmount | 0 |
WhiteBalance (1) | As Shot |
WhiteBalance | Auto |
Whites2012 | 0 |