Felt | Verdi |
AlreadyApplied | True |
Aperture | 8.0 |
ApertureValue | 8.0 |
ApproximateFocusDistance | 4294967295 |
Artist | Mikkel Nordbaek |
AutoLateralCA | 1 |
AutoWhiteVersion | 134348800 |
BitsPerSample | 8 |
Blacks2012 | -21 |
BlueHue | 0 |
BlueSaturation | 0 |
By-line | Mikkel Nordbaek |
CameraProfile | Camera Standard |
CircGradBasedCorrActive | true |
CircGradBasedCorrAmount | 1.000000 |
CircGradBasedCorrBrightness | 0.000000 |
CircGradBasedCorrClarity2012 | 0.000000 |
CircGradBasedCorrContrast2012 | 0.000000 |
CircGradBasedCorrDefringe | 0.000000 |
CircGradBasedCorrExposure2012 (1) | 0.000000 |
CircGradBasedCorrExposure2012 (3) | 0.058750 |
CircGradBasedCorrExposure2012 (6) | 0.103000 |
CircGradBasedCorrExposure2012 (7) | 0.117750 |
CircGradBasedCorrExposure2012 | 0.088250 |
CircGradBasedCorrHighlights2012 | 0.000000 |
CircGradBasedCorrHue | 0.000000 |
CircGradBasedCorrLocalBlacks2012 | 0.000000 |
CircGradBasedCorrLocalDehaze | 0.000000 |
CircGradBasedCorrLocalWhites2012 | 0.000000 |
CircGradBasedCorrLuminanceNoise | 0.000000 |
CircGradBasedCorrMaskAngle (2) | 19.065000 |
CircGradBasedCorrMaskAngle (5) | -12.882200 |
CircGradBasedCorrMaskAngle | 0.000000 |
CircGradBasedCorrMaskBottom (1) | 0.816704 |
CircGradBasedCorrMaskBottom (10) | 0.730408 |
CircGradBasedCorrMaskBottom (11) | 0.717714 |
CircGradBasedCorrMaskBottom (12) | 0.703778 |
CircGradBasedCorrMaskBottom (13) | 0.578431 |
CircGradBasedCorrMaskBottom (14) | 0.437719 |
CircGradBasedCorrMaskBottom (2) | 0.533285 |
CircGradBasedCorrMaskBottom (3) | 0.585194 |
CircGradBasedCorrMaskBottom (4) | 0.475439 |
CircGradBasedCorrMaskBottom (5) | 0.627980 |
CircGradBasedCorrMaskBottom (6) | 0.538066 |
CircGradBasedCorrMaskBottom (7) | 0.658615 |
CircGradBasedCorrMaskBottom (8) | 0.840000 |
CircGradBasedCorrMaskBottom (9) | 0.836221 |
CircGradBasedCorrMaskBottom | 0.751324 |
CircGradBasedCorrMaskFeather | +100 |
CircGradBasedCorrMaskFlipped | true |
CircGradBasedCorrMaskLeft (1) | 0.204444 |
CircGradBasedCorrMaskLeft (10) | 0.035220 |
CircGradBasedCorrMaskLeft (11) | 0.091566 |
CircGradBasedCorrMaskLeft (12) | 0.061778 |
CircGradBasedCorrMaskLeft (13) | 0.393834 |
CircGradBasedCorrMaskLeft (14) | 0.439453 |
CircGradBasedCorrMaskLeft (2) | 0.074067 |
CircGradBasedCorrMaskLeft (3) | 0.087556 |
CircGradBasedCorrMaskLeft (4) | 0.151486 |
CircGradBasedCorrMaskLeft (5) | 0.117460 |
CircGradBasedCorrMaskLeft (6) | 0.164969 |
CircGradBasedCorrMaskLeft (7) | 0.736721 |
CircGradBasedCorrMaskLeft (8) | 0.020858 |
CircGradBasedCorrMaskLeft (9) | 0.049943 |
CircGradBasedCorrMaskLeft | 0.762234 |
CircGradBasedCorrMaskMidpoint | +50 |
CircGradBasedCorrMaskRight (1) | 0.261858 |
CircGradBasedCorrMaskRight (10) | 0.070237 |
CircGradBasedCorrMaskRight (11) | 0.126686 |
CircGradBasedCorrMaskRight (12) | 0.096851 |
CircGradBasedCorrMaskRight (13) | 0.429568 |
CircGradBasedCorrMaskRight (14) | 0.466586 |
CircGradBasedCorrMaskRight (2) | 0.077303 |
CircGradBasedCorrMaskRight (3) | 0.108907 |
CircGradBasedCorrMaskRight (4) | 0.204760 |
CircGradBasedCorrMaskRight (5) | 0.170433 |
CircGradBasedCorrMaskRight (6) | 0.194475 |
CircGradBasedCorrMaskRight (7) | 0.772151 |
CircGradBasedCorrMaskRight (8) | 0.055744 |
CircGradBasedCorrMaskRight (9) | 0.084856 |
CircGradBasedCorrMaskRight | 0.788938 |
CircGradBasedCorrMaskRoundness | 0 |
CircGradBasedCorrMaskTop (1) | 0.351635 |
CircGradBasedCorrMaskTop (10) | 0.672205 |
CircGradBasedCorrMaskTop (11) | 0.659340 |
CircGradBasedCorrMaskTop (12) | 0.665388 |
CircGradBasedCorrMaskTop (13) | 0.517586 |
CircGradBasedCorrMaskTop (14) | 0.367949 |
CircGradBasedCorrMaskTop (2) | 0.481735 |
CircGradBasedCorrMaskTop (3) | 0.541241 |
CircGradBasedCorrMaskTop (4) | 0.442082 |
CircGradBasedCorrMaskTop (5) | 0.594812 |
CircGradBasedCorrMaskTop (6) | 0.486289 |
CircGradBasedCorrMaskTop (7) | 0.611215 |
CircGradBasedCorrMaskTop (8) | 0.793328 |
CircGradBasedCorrMaskTop (9) | 0.789514 |
CircGradBasedCorrMaskTop | 0.682658 |
CircGradBasedCorrMaskValue | 1.000000 |
CircGradBasedCorrMaskVersion | +2 |
CircGradBasedCorrMaskWhat | Mask/CircularGradient |
CircGradBasedCorrMoire | 0.000000 |
CircGradBasedCorrSaturation | 0.000000 |
CircGradBasedCorrShadows2012 | 0.000000 |
CircGradBasedCorrSharpness (1) | 0.764710 |
CircGradBasedCorrSharpness | 0.000000 |
CircGradBasedCorrTemperature (10) | 0.294120 |
CircGradBasedCorrTemperature | 0.000000 |
CircGradBasedCorrTint | 0.000000 |
CircGradBasedCorrWhat | Correction |
CircleOfConfusion | 0.019 mm |
Clarity2012 | +59 |
ColorComponents | 3 |
ColorNoiseReduction | 100 |
ColorNoiseReductionDetail | 50 |
ColorNoiseReductionSmoothness | 50 |
ColorSpace | sRGB |
ColorTemperature | 5529 |
Contrast2012 | +19 |
ConvertToGrayscale | False |
Copyright | Mikkel Nordbaek |
CopyrightNotice | Mikkel Nordbaek |
CreateDate (1) | 2016:10:09 18:17:03.11 |
CreateDate | 2016:10:09 18:17:03 |
Creator | Mikkel Nordbaek |
CreatorTool | Adobe Photoshop Lightroom 6.6.1 (Windows) |
CropAngle | 0 |
CropBottom | 0.936968 |
CropConstrainToWarp | 0 |
CropLeft | 0 |
CropRight | 1 |
CropTop | 0.074957 |
CustomRendered | Normal |
DateCreated (1) | 2016:10:09 18:17:03.11 |
DateCreated | 2016:10:09 |
DateTimeOriginal | 2016:10:09 18:17:03 |
DefringeGreenAmount | 0 |
DefringeGreenHueHi | 60 |
DefringeGreenHueLo | 40 |
DefringePurpleAmount | 0 |
DefringePurpleHueHi | 70 |
DefringePurpleHueLo | 30 |
Dehaze | 0 |
DOF | inf (6.70 m - inf) |
ExifImageHeight | 2979 |
ExifImageWidth | 5184 |
Exposure2012 | 0.00 |
ExposureCompensation | 0 |
ExposureMode | Manual |
ExposureProgram | Manual |
ExposureTime | 1.3 |
Firmware | 1.0.9 |
Flash | Off, Did not fire |
FlashCompensation | 0 |
FNumber | 8.0 |
FocalLength | 32.0 mm |
FocalLength35efl | 32.0 mm (35 mm equivalent: 50.3 mm) |
Format | image/jpeg |
FOV | 39.4 deg |
GradientBasedCorrActive | true |
GradientBasedCorrAmount | 1.000000 |
GradientBasedCorrBrightness | 0.000000 |
GradientBasedCorrClarity2012 (1) | 0.294120 |
GradientBasedCorrClarity2012 | 0.000000 |
GradientBasedCorrContrast2012 (1) | 0.279410 |
GradientBasedCorrContrast2012 | 0.000000 |
GradientBasedCorrDefringe | 0.000000 |
GradientBasedCorrExposure2012 (1) | -0.191250 |
GradientBasedCorrExposure2012 (2) | -0.103000 |
GradientBasedCorrExposure2012 | -0.073500 |
GradientBasedCorrHighlights2012 (1) | -0.264710 |
GradientBasedCorrHighlights2012 | 0.000000 |
GradientBasedCorrHue (1) | 228.000000 |
GradientBasedCorrHue | 0.000000 |
GradientBasedCorrLocalBlacks2012 | 0.000000 |
GradientBasedCorrLocalDehaze | 0.000000 |
GradientBasedCorrLocalWhites2012 | 0.000000 |
GradientBasedCorrLuminanceNoise (1) | 1.000000 |
GradientBasedCorrLuminanceNoise | 0.000000 |
GradientBasedCorrMaskCenterWeight | 0.000000 |
GradientBasedCorrMaskFlow (1) | 1.000000 |
GradientBasedCorrMaskFlow | 0.692000 |
GradientBasedCorrMaskFullX (1) | 0.515447 |
GradientBasedCorrMaskFullX (2) | 0.958535 |
GradientBasedCorrMaskFullX | 0.997481 |
GradientBasedCorrMaskFullY (1) | 0.175200 |
GradientBasedCorrMaskFullY (2) | 0.954427 |
GradientBasedCorrMaskFullY | 0.464205 |
GradientBasedCorrMaskRadius (1) | 0.078413 |
GradientBasedCorrMaskRadius (2) | 0.064428 |
GradientBasedCorrMaskRadius (3) | 0.064985 |
GradientBasedCorrMaskRadius (4) | 0.065580 |
GradientBasedCorrMaskRadius (5) | 0.065576 |
GradientBasedCorrMaskRadius | 0.065570 |
GradientBasedCorrMaskValue (6) | 0.000000 |
GradientBasedCorrMaskValue | 1.000000 |
GradientBasedCorrMaskWhat (4) | Mask/Paint |
GradientBasedCorrMaskWhat | Mask/Gradient |
GradientBasedCorrMaskZeroX (1) | 0.517706 |
GradientBasedCorrMaskZeroX (2) | 0.783557 |
GradientBasedCorrMaskZeroX | 0.788213 |
GradientBasedCorrMaskZeroY (1) | 0.469815 |
GradientBasedCorrMaskZeroY (2) | 0.515579 |
GradientBasedCorrMaskZeroY | 0.467618 |
GradientBasedCorrMoire | 0.000000 |
GradientBasedCorrSaturation | 0.000000 |
GradientBasedCorrShadows2012 (1) | -0.220590 |
GradientBasedCorrShadows2012 | 0.000000 |
GradientBasedCorrSharpness | 0.000000 |
GradientBasedCorrTemperature | 0.000000 |
GradientBasedCorrTint (1) | 0.279410 |
GradientBasedCorrTint | 0.000000 |
GradientBasedCorrWhat | Correction |
GrainAmount | 0 |
GreenHue | 0 |
GreenSaturation | 0 |
HasCrop | True |
HasSettings | True |
Highlights2012 | -100 |
HueAdjustmentAqua | 0 |
HueAdjustmentBlue | 0 |
HueAdjustmentGreen | 0 |
HueAdjustmentMagenta | 0 |
HueAdjustmentOrange | 0 |
HueAdjustmentPurple | 0 |
HueAdjustmentRed | -8 |
HueAdjustmentYellow | 0 |
HyperfocalDistance | 6.70 m |
ImageHeight | 2979 |
ImageNumber | 0 |
ImageSize | 5184x2979 |
ImageWidth | 5184 |
ISO | 100 |
Lens | EF-S18-55mm f/3.5-5.6 III |
LensID (1) | 53 |
LensID | Canon EF-S 18-55mm f/3.5-5.6 III |
LensInfo | 18-55mm f/? |
LensManualDistortionAmount | 0 |
LensModel | EF-S18-55mm f/3.5-5.6 III |
LensProfileChromaticAberrationScale | 100 |
LensProfileDistortionScale | 100 |
LensProfileEnable | 1 |
LensProfileFilename | Canon EOS 50D (Canon EF-S 18-55mm f3.5-5.6 IS STM) - RAW.lcp |
LensProfileName | Adobe (Canon EF-S 18-55mm f/3.5-5.6 IS STM) |
LensProfileSetup | Custom |
LensProfileVignettingScale | 100 |
LightValue | 5.6 |
LuminanceAdjustmentAqua | 0 |
LuminanceAdjustmentBlue | 0 |
LuminanceAdjustmentGreen | +15 |
LuminanceAdjustmentMagenta | 0 |
LuminanceAdjustmentOrange | 0 |
LuminanceAdjustmentPurple | 0 |
LuminanceAdjustmentRed | 0 |
LuminanceAdjustmentYellow | +24 |
LuminanceNoiseReductionContrast | 0 |
LuminanceNoiseReductionDetail | 50 |
LuminanceSmoothing | 40 |
Make | Canon |
MaxApertureValue | 4.4 |
Megapixels | 15.4 |
MeteringMode | Multi-segment |
Model | Canon EOS 550D |
ModifyDate (1) | 2016:10:11 19:54:07+02:00 |
ModifyDate | 2016:10:11 19:54:07 |
PaintCorrectionActive | true |
PaintCorrectionAmount | 1.000000 |
PaintCorrectionBrightness | 0.000000 |
PaintCorrectionClarity2012 | 0.000000 |
PaintCorrectionContrast2012 | 0.000000 |
PaintCorrectionDefringe | 0.000000 |
PaintCorrectionExposure2012 (1) | 0.176500 |
PaintCorrectionExposure2012 (3) | 0.103000 |
PaintCorrectionExposure2012 (4) | 0.191250 |
PaintCorrectionExposure2012 | 0.029500 |
PaintCorrectionHighlights2012 | 0.000000 |
PaintCorrectionHue | 0.000000 |
PaintCorrectionLocalBlacks2012 | 0.000000 |
PaintCorrectionLocalDehaze | 0.000000 |
PaintCorrectionLocalWhites2012 | 0.000000 |
PaintCorrectionLuminanceNoise | 0.000000 |
PaintCorrectionMaskCenterWeight | 0.000000 |
PaintCorrectionMaskFlow | 0.871000 |
PaintCorrectionMaskRadius (1) | 0.040528 |
PaintCorrectionMaskRadius (2) | 0.040546 |
PaintCorrectionMaskRadius (3) | 0.040549 |
PaintCorrectionMaskRadius (4) | 0.040585 |
PaintCorrectionMaskRadius (5) | 0.040212 |
PaintCorrectionMaskRadius (6) | 0.039747 |
PaintCorrectionMaskRadius (7) | 0.052141 |
PaintCorrectionMaskRadius (8) | 0.052477 |
PaintCorrectionMaskRadius (9) | 0.022968 |
PaintCorrectionMaskRadius | 0.028713 |
PaintCorrectionMaskValue | 1.000000 |
PaintCorrectionMaskWhat | Mask/Paint |
PaintCorrectionMoire | 0.000000 |
PaintCorrectionSaturation | 0.000000 |
PaintCorrectionShadows2012 | 0.000000 |
PaintCorrectionSharpness (4) | 0.661760 |
PaintCorrectionSharpness | 0.000000 |
PaintCorrectionTemperature | 0.000000 |
PaintCorrectionTint | 0.000000 |
PaintCorrectionWhat | Correction |
ParametricDarks | 0 |
ParametricHighlights | 0 |
ParametricHighlightSplit | 75 |
ParametricLights | 0 |
ParametricMidtoneSplit | 50 |
ParametricShadows | 0 |
ParametricShadowSplit | 25 |
PerspectiveAspect | 0 |
PerspectiveHorizontal | 0 |
PerspectiveRotate | 0.0 |
PerspectiveScale | 100 |
PerspectiveUpright | 1 |
PerspectiveVertical | 0 |
PerspectiveX | 0.00 |
PerspectiveY | 0.00 |
PostCropVignetteAmount | 0 |
ProcessVersion | 6.7 |
ProfileDescription | sRGB IEC61966-2.1 |
RedHue | 0 |
RedSaturation | 0 |
Rights | Mikkel Nordbaek |
Saturation | +26 |
SaturationAdjustmentAqua | 0 |
SaturationAdjustmentBlue | 0 |
SaturationAdjustmentGreen | +14 |
SaturationAdjustmentMagenta | 0 |
SaturationAdjustmentOrange | +38 |
SaturationAdjustmentPurple | 0 |
SaturationAdjustmentRed | +31 |
SaturationAdjustmentYellow | +30 |
ScaleFactor35efl | 1.6 |
SceneCaptureType | Standard |
SerialNumber | 2933541025 |
Shadows2012 | +100 |
ShadowTint | 0 |
SharpenDetail | 25 |
SharpenEdgeMasking | 34 |
SharpenRadius | +1.0 |
Sharpness | 74 |
ShutterSpeed | 1.3 |
ShutterSpeedValue | 1.3 |
Software | Adobe Photoshop Lightroom 6.6.1 (Windows) |
SplitToningBalance | 0 |
SplitToningHighlightHue | 199 |
SplitToningHighlightSaturation | 16 |
SplitToningShadowHue | 53 |
SplitToningShadowSaturation | 18 |
Tint | -7 |
ToneCurve | 0, 0, 255, 255 |
ToneCurveBlue | 0, 0, 255, 255 |
ToneCurveGreen | 0, 0, 255, 255 |
ToneCurveName | Linear |
ToneCurveName2012 | Linear |
ToneCurvePV2012 | 0, 0, 255, 255 |
ToneCurvePV2012Blue | 0, 0, 255, 255 |
ToneCurvePV2012Green | 0, 0, 255, 255 |
ToneCurvePV2012Red | 0, 0, 255, 255 |
ToneCurveRed | 0, 0, 255, 255 |
ToneMapStrength | 0 |
Version | 9.6 |
Vibrance | +43 |
VignetteAmount | 0 |
WhiteBalance (1) | Custom |
WhiteBalance | Auto |
Whites2012 | +59 |