Felt | Verdi |
AlreadyApplied | True |
Aperture | 8.0 |
ApertureValue | 8.0 |
ApproximateFocusDistance | 4294967295 |
AutoLateralCA | 1 |
AutoWhiteVersion | 134348800 |
BitsPerSample | 8 |
Blacks2012 | +40 |
BlueHue | 0 |
BlueSaturation | +5 |
CameraProfile | Adobe Standard |
CircleOfConfusion | 0.025 mm |
Clarity2012 | +20 |
ColorComponents | 3 |
ColorNoiseReduction | 25 |
ColorNoiseReductionDetail | 29 |
ColorNoiseReductionSmoothness | 74 |
ColorSpace | sRGB |
ColorTemperature | 7150 |
ColorTransform | YCbCr |
Contrast2012 | +15 |
ConvertToGrayscale | False |
CreateDate (1) | 2016:11:08 07:14:54.40 |
CreateDate | 2016:11:08 07:14:54 |
CreatorTool | Adobe Photoshop Lightroom 6.7 (Windows) |
CropAngle | 0 |
CropBottom | 0.826087 |
CropConstrainToWarp | 0 |
CropLeft | 0.102415 |
CropRight | 0.974879 |
CropTop | 0.046377 |
CustomRendered | Normal |
DateCreated (1) | 2016:11:08 |
DateCreated | 2016:11:08 07:14:54.40 |
DateTimeOriginal | 2016:11:08 07:14:54 |
DefringeGreenAmount | 0 |
DefringeGreenHueHi | 60 |
DefringeGreenHueLo | 40 |
DefringePurpleAmount | 0 |
DefringePurpleHueHi | 70 |
DefringePurpleHueLo | 30 |
Dehaze | +13 |
DOF | inf (1.97 m - inf) |
Exposure2012 | +0.40 |
ExposureCompensation | -2/3 |
ExposureMode | Auto |
ExposureProgram | Aperture-priority AE |
ExposureTime | 5 |
Firmware | 1.1.6 |
Flash | Off, Did not fire |
FlashCompensation | 0 |
FNumber | 8.0 |
FocalLength | 20.0 mm |
FocalLength35efl | 20.0 mm (35 mm equivalent: 23.7 mm) |
Format | image/jpeg |
FOV | 74.5 deg |
GrainAmount | 0 |
GreenHue | 0 |
GreenSaturation | 0 |
HasCrop | True |
HasSettings | True |
Highlights2012 | -100 |
HueAdjustmentAqua | 0 |
HueAdjustmentBlue | 0 |
HueAdjustmentGreen | 0 |
HueAdjustmentMagenta | 0 |
HueAdjustmentOrange | +10 |
HueAdjustmentPurple | 0 |
HueAdjustmentRed | +10 |
HueAdjustmentYellow | +15 |
HyperfocalDistance | 1.97 m |
ImageHeight | 2844 |
ImageNumber | 0 |
ImageSize | 4773x2844 |
ImageWidth | 4773 |
ISO | 400 |
Lens | EF16-35mm f/4L IS USM |
LensID (1) | 507 |
LensID | Canon EF 16-35mm f/4L IS USM |
LensInfo | 16-35mm f/? |
LensManualDistortionAmount | 0 |
LensModel | EF16-35mm f/4L IS USM |
LensProfileChromaticAberrationScale | 100 |
LensProfileDistortionScale | 100 |
LensProfileEnable | 1 |
LensProfileFilename | Canon EOS-1Ds Mark III (Canon EF 16-35mm f4L IS USM v2) - RAW.lcp |
LensProfileName | Adobe (Canon EF 16-35mm f/4L IS USM) v2 |
LensProfileSetup | LensDefaults |
LensProfileVignettingScale | 100 |
LensSerialNumber | 3010000535 |
LightValue | 1.7 |
LuminanceAdjustmentAqua | 0 |
LuminanceAdjustmentBlue | 0 |
LuminanceAdjustmentGreen | 0 |
LuminanceAdjustmentMagenta | 0 |
LuminanceAdjustmentOrange | 0 |
LuminanceAdjustmentPurple | 0 |
LuminanceAdjustmentRed | 0 |
LuminanceAdjustmentYellow | 0 |
LuminanceNoiseReductionContrast | 0 |
LuminanceNoiseReductionDetail | 55 |
LuminanceSmoothing | 58 |
Make | Canon |
MaxApertureValue | 4.0 |
Megapixels | 13.6 |
MeteringMode | Multi-segment |
Model | Canon EOS 6D |
ModifyDate (1) | 2016:11:08 10:35:35+01:00 |
ModifyDate | 2016:11:08 10:35:35 |
ParametricDarks | 0 |
ParametricHighlights | +10 |
ParametricHighlightSplit | 75 |
ParametricLights | 0 |
ParametricMidtoneSplit | 50 |
ParametricShadows | 0 |
ParametricShadowSplit | 25 |
PerspectiveAspect | 0 |
PerspectiveHorizontal | 0 |
PerspectiveRotate | 0.0 |
PerspectiveScale | 100 |
PerspectiveUpright | 0 |
PerspectiveVertical | 0 |
PerspectiveX | 0.00 |
PerspectiveY | 0.00 |
PostCropVignetteAmount | 0 |
ProcessVersion | 6.7 |
ProfileDescription | sRGB IEC61966-2.1 |
RecommendedExposureIndex | 400 |
RedHue | 0 |
RedSaturation | +10 |
Saturation | +10 |
SaturationAdjustmentAqua | 0 |
SaturationAdjustmentBlue | 0 |
SaturationAdjustmentGreen | 0 |
SaturationAdjustmentMagenta | 0 |
SaturationAdjustmentOrange | +10 |
SaturationAdjustmentPurple | 0 |
SaturationAdjustmentRed | +10 |
SaturationAdjustmentYellow | +10 |
ScaleFactor35efl | 1.2 |
SceneCaptureType | Standard |
SensitivityType | Recommended Exposure Index |
SerialNumber | 353051001974 |
Shadows2012 | +45 |
ShadowTint | 0 |
SharpenDetail | 50 |
SharpenEdgeMasking | 42 |
SharpenRadius | +1.0 |
Sharpness | 47 |
ShutterSpeed | 5 |
ShutterSpeedValue | 5 |
Software | Adobe Photoshop Lightroom 6.7 (Windows) |
SplitToningBalance | 0 |
SplitToningHighlightHue | 0 |
SplitToningHighlightSaturation | 0 |
SplitToningShadowHue | 0 |
SplitToningShadowSaturation | 0 |
Tint | -1 |
ToneCurve | 0, 0, 255, 255 |
ToneCurveBlue | 0, 0, 255, 255 |
ToneCurveGreen | 0, 0, 255, 255 |
ToneCurveName | Linear |
ToneCurveName2012 | Linear |
ToneCurvePV2012 | 0, 0, 255, 255 |
ToneCurvePV2012Blue | 0, 0, 255, 255 |
ToneCurvePV2012Green | 0, 0, 255, 255 |
ToneCurvePV2012Red | 0, 0, 255, 255 |
ToneCurveRed | 0, 0, 255, 255 |
ToneMapStrength | 0 |
Version | 9.7 |
Vibrance | +10 |
VignetteAmount | 0 |
WhiteBalance (1) | As Shot |
WhiteBalance | Auto |
Whites2012 | 0 |