Felt | Verdi |
AlreadyApplied | True |
Aperture | 13.0 |
ApertureValue | 13.0 |
ApproximateFocusDistance | 9.44 |
AutoLateralCA | 1 |
AutoWhiteVersion | 134348800 |
BitsPerSample (1) | 8 8 8 |
BitsPerSample | 8 |
Blacks2012 | -13 |
BlueHue | 0 |
BlueSaturation | 0 |
CameraProfile | Adobe Standard |
CFAPattern | [Red,Green][Green,Blue] |
CircleOfConfusion | 0.030 mm |
Clarity2012 | +65 |
ColorComponents | 3 |
ColorMode | RGB |
ColorNoiseReduction | 25 |
ColorNoiseReductionDetail | 50 |
ColorNoiseReductionSmoothness | 50 |
ColorSpace | sRGB |
ColorTemperature | 5942 |
ColorTransform | YCbCr |
Contrast | Normal |
Contrast2012 | +13 |
ConvertToGrayscale | False |
CreateDate | 2016:11:29 09:24:54 |
CreatorTool | Adobe Photoshop Lightroom 6.0 (Macintosh) |
CustomRendered | Normal |
DateCreated (1) | 2016:11:29 |
DateCreated | 2016:11:29 09:24:54.009 |
DateTimeOriginal | 2016:11:29 09:24:54 |
DefringeGreenAmount | 0 |
DefringeGreenHueHi | 60 |
DefringeGreenHueLo | 40 |
DefringePurpleAmount | 0 |
DefringePurpleHueHi | 70 |
DefringePurpleHueLo | 30 |
DigitalZoomRatio | 1 |
DOF | inf (1.66 m - inf) |
ExifImageHeight | 4016 |
ExifImageWidth | 6016 |
Exposure2012 | +0.75 |
ExposureCompensation | -2/3 |
ExposureMode | Manual |
ExposureProgram | Manual |
ExposureTime | 1/5 |
Flash | Off, Did not fire |
FNumber | 13.0 |
FocalLength | 28.0 mm |
FocalLength35efl | 28.0 mm (35 mm equivalent: 28.0 mm) |
FocalLengthIn35mmFormat | 28 mm |
Format | image/jpeg |
FOV | 65.5 deg |
GainControl | None |
GradientBasedCorrActive | true |
GradientBasedCorrAmount | 1.000000 |
GradientBasedCorrBrightness | 0.000000 |
GradientBasedCorrClarity2012 | 1.000000 |
GradientBasedCorrContrast2012 (1) | 0.595203 |
GradientBasedCorrContrast2012 | -0.001363 |
GradientBasedCorrDefringe | 0.000000 |
GradientBasedCorrExposure2012 (1) | 0.029797 |
GradientBasedCorrExposure2012 (2) | 0.289608 |
GradientBasedCorrExposure2012 | 0.017624 |
GradientBasedCorrHighlights2012 (1) | 0.373456 |
GradientBasedCorrHighlights2012 | 0.178597 |
GradientBasedCorrHue | 0.000000 |
GradientBasedCorrLuminanceNoise | 0.000000 |
GradientBasedCorrMaskFullX (1) | 0.540835 |
GradientBasedCorrMaskFullX (2) | 0.554285 |
GradientBasedCorrMaskFullX | 0.548744 |
GradientBasedCorrMaskFullY (1) | 0.087717 |
GradientBasedCorrMaskFullY (2) | 0.965530 |
GradientBasedCorrMaskFullY | 0.974649 |
GradientBasedCorrMaskValue | 1.000000 |
GradientBasedCorrMaskWhat | Mask/Gradient |
GradientBasedCorrMaskZeroX (1) | 0.535580 |
GradientBasedCorrMaskZeroX (2) | 0.557986 |
GradientBasedCorrMaskZeroX | 0.549000 |
GradientBasedCorrMaskZeroY (1) | 0.457721 |
GradientBasedCorrMaskZeroY (2) | 0.741890 |
GradientBasedCorrMaskZeroY | 0.901969 |
GradientBasedCorrMoire | 0.000000 |
GradientBasedCorrSaturation (3) | 0.415243 |
GradientBasedCorrSaturation | 0.004177 |
GradientBasedCorrShadows2012 (1) | -0.262445 |
GradientBasedCorrShadows2012 | -0.117460 |
GradientBasedCorrSharpness | 0.000000 |
GradientBasedCorrTemperature (1) | -0.215298 |
GradientBasedCorrTemperature (2) | -0.317406 |
GradientBasedCorrTemperature | 0.051690 |
GradientBasedCorrTint (2) | 0.000000 |
GradientBasedCorrTint | -0.069858 |
GradientBasedCorrWhat | Correction |
GrainAmount | 0 |
GreenHue | 0 |
GreenSaturation | 0 |
HasCrop | False |
HasSettings | True |
Highlights2012 | -100 |
HueAdjustmentAqua | 0 |
HueAdjustmentBlue | 0 |
HueAdjustmentGreen | 0 |
HueAdjustmentMagenta | 0 |
HueAdjustmentOrange | -28 |
HueAdjustmentPurple | 0 |
HueAdjustmentRed | 0 |
HueAdjustmentYellow | -48 |
HyperfocalDistance | 2.01 m |
ICCProfileName | sRGB IEC61966-2.1 |
ImageHeight | 4016 |
ImageNumber | 12665 |
ImageSize | 6016x4016 |
ImageWidth | 6016 |
ISO | 100 |
Lens | 28.0-300.0 mm f/3.5-5.6 |
LensID (1) | 165 |
LensID | AF-S Nikkor 28-300mm f/3.5-5.6G ED VR |
LensInfo | 28-300mm f/3.5-5.6 |
LensManualDistortionAmount | 0 |
LensModel | 28.0-300.0 mm f/3.5-5.6 |
LensProfileChromaticAberrationScale | 100 |
LensProfileDistortionScale | 100 |
LensProfileEnable | 1 |
LensProfileFilename | NIKON D3X (Nikon AF-S NIKKOR 28-300mm f3.5-5.6 ED VR) - RAW.lcp |
LensProfileName | Adobe (Nikon AF-S NIKKOR 28-300mm f/3.5-5.6 ED VR) |
LensProfileSetup | LensDefaults |
LensProfileVignettingScale | 100 |
LightSource | Unknown |
LightValue | 9.7 |
LuminanceAdjustmentAqua | 0 |
LuminanceAdjustmentBlue | 0 |
LuminanceAdjustmentGreen | 0 |
LuminanceAdjustmentMagenta | 0 |
LuminanceAdjustmentOrange | 0 |
LuminanceAdjustmentPurple | 0 |
LuminanceAdjustmentRed | 0 |
LuminanceAdjustmentYellow | 0 |
LuminanceNoiseReductionContrast | 0 |
LuminanceNoiseReductionDetail | 50 |
LuminanceSmoothing | 24 |
Make | NIKON CORPORATION |
MaxApertureValue | 3.6 |
Megapixels | 24.2 |
MeteringMode | Multi-segment |
Model | NIKON D610 |
ModifyDate (1) | 2016:11:29 10:01:32+01:00 |
ModifyDate | 2016:11:29 10:01:32 |
Orientation | Horizontal (normal) |
PaintCorrectionActive | true |
PaintCorrectionAmount | 1.000000 |
PaintCorrectionBrightness | 0.000000 |
PaintCorrectionClarity2012 | 1.000000 |
PaintCorrectionContrast2012 | -0.090207 |
PaintCorrectionDefringe | 0.000000 |
PaintCorrectionExposure2012 | 0.149982 |
PaintCorrectionHighlights2012 | -0.297148 |
PaintCorrectionHue | 0.000000 |
PaintCorrectionLuminanceNoise | 0.000000 |
PaintCorrectionMaskCenterWeight | 0.135958 |
PaintCorrectionMaskFlow | 0.977324 |
PaintCorrectionMaskRadius | 0.091222 |
PaintCorrectionMaskValue | 1.000000 |
PaintCorrectionMaskWhat | Mask/Paint |
PaintCorrectionMoire | 0.000000 |
PaintCorrectionSaturation (1) | 0.181504 |
PaintCorrectionSaturation | 0.004177 |
PaintCorrectionShadows2012 | 0.017987 |
PaintCorrectionSharpness | 0.000000 |
PaintCorrectionTemperature | 0.166697 |
PaintCorrectionTint | 0.000000 |
PaintCorrectionWhat | Correction |
ParametricDarks | 0 |
ParametricHighlights | 0 |
ParametricHighlightSplit | 75 |
ParametricLights | 0 |
ParametricMidtoneSplit | 50 |
ParametricShadows | 0 |
ParametricShadowSplit | 25 |
PerspectiveAspect | 0 |
PerspectiveHorizontal | 0 |
PerspectiveRotate | 0.0 |
PerspectiveScale | 100 |
PerspectiveUpright | 1 |
PerspectiveVertical | 0 |
PhotometricInterpretation | RGB |
PostCropVignetteAmount | 0 |
ProcessVersion | 6.7 |
ProfileDescription | sRGB IEC61966-2.1 |
RawFileName | DSC_2859.jpg |
RedHue | 0 |
RedSaturation | 0 |
SamplesPerPixel | 3 |
Saturation (1) | 0 |
Saturation | Normal |
SaturationAdjustmentAqua | 0 |
SaturationAdjustmentBlue | +24 |
SaturationAdjustmentGreen | 0 |
SaturationAdjustmentMagenta | 0 |
SaturationAdjustmentOrange | 0 |
SaturationAdjustmentPurple | 0 |
SaturationAdjustmentRed | 0 |
SaturationAdjustmentYellow | 0 |
ScaleFactor35efl | 1.0 |
SceneCaptureType | Landscape |
SceneType | Directly photographed |
SensingMethod | One-chip color area |
SensitivityType | Recommended Exposure Index |
SerialNumber | 2032347 |
Shadows2012 | +99 |
ShadowTint | 0 |
SharpenDetail | 35 |
SharpenEdgeMasking | 50 |
SharpenRadius | +1.3 |
Sharpness (1) | 25 |
Sharpness | Normal |
ShutterSpeed | 1/5 |
ShutterSpeedValue | 1/5 |
Software | Adobe Photoshop CS6 (Macintosh) |
SplitToningBalance | 0 |
SplitToningHighlightHue | 0 |
SplitToningHighlightSaturation | 0 |
SplitToningShadowHue | 0 |
SplitToningShadowSaturation | 0 |
SubjectDistanceRange | Unknown |
Tint | -26 |
ToneCurve | 0, 0, 255, 255 |
ToneCurveBlue | 0, 0, 255, 255 |
ToneCurveGreen | 0, 0, 255, 255 |
ToneCurveName | Linear |
ToneCurveName2012 | Linear |
ToneCurvePV2012 | 0, 0, 255, 255 |
ToneCurvePV2012Blue | 0, 0, 255, 255 |
ToneCurvePV2012Green | 0, 0, 255, 255 |
ToneCurvePV2012Red | 0, 0, 255, 255 |
ToneCurveRed | 0, 0, 255, 255 |
URL_List | |
Version | 9.0 |
Vibrance | +41 |
VignetteAmount | 0 |
WhiteBalance (1) | Custom |
WhiteBalance | Auto |
Whites2012 | +12 |