Felt | Verdi |
AlreadyApplied | True |
Aperture | 10.0 |
ApertureValue | 10.0 |
ApproximateFocusDistance | 2 |
Artist | Johnny Helge Strom. |
AutoLateralCA | 1 |
AutoWhiteVersion | 134348800 |
BitsPerSample | 8 |
Blacks2012 | -55 |
BlueHue | 0 |
BlueSaturation | 0 |
By-line | Johnny Helge Strom. |
CameraProfile | Adobe Standard |
CircGradBasedCorrActive | true |
CircGradBasedCorrAmount | 1.000000 |
CircGradBasedCorrBrightness | 0.000000 |
CircGradBasedCorrClarity2012 | 0.000000 |
CircGradBasedCorrContrast2012 | 0.000000 |
CircGradBasedCorrDefringe | 0.000000 |
CircGradBasedCorrExposure2012 (1) | 0.050000 |
CircGradBasedCorrExposure2012 (2) | 0.025000 |
CircGradBasedCorrExposure2012 (3) | 0.125000 |
CircGradBasedCorrExposure2012 (4) | 0.075000 |
CircGradBasedCorrExposure2012 | -0.122500 |
CircGradBasedCorrHighlights2012 (2) | -0.290000 |
CircGradBasedCorrHighlights2012 (3) | -0.200000 |
CircGradBasedCorrHighlights2012 | 0.250000 |
CircGradBasedCorrHue | 240.000000 |
CircGradBasedCorrLocalBlacks2012 (4) | 0.000000 |
CircGradBasedCorrLocalBlacks2012 | -0.001380 |
CircGradBasedCorrLocalDehaze | 0.000000 |
CircGradBasedCorrLocalWhites2012 | 0.000000 |
CircGradBasedCorrLuminanceNoise | 0.000000 |
CircGradBasedCorrMaskAngle (1) | 13.113300 |
CircGradBasedCorrMaskAngle (2) | 15.818200 |
CircGradBasedCorrMaskAngle (4) | -0.135120 |
CircGradBasedCorrMaskAngle | 0.000000 |
CircGradBasedCorrMaskBottom (1) | 1.169200 |
CircGradBasedCorrMaskBottom (2) | 0.905668 |
CircGradBasedCorrMaskBottom (3) | 0.720641 |
CircGradBasedCorrMaskBottom (4) | 0.721143 |
CircGradBasedCorrMaskBottom | 1.153060 |
CircGradBasedCorrMaskFeather | +50 |
CircGradBasedCorrMaskFlipped (2) | true |
CircGradBasedCorrMaskFlipped | false |
CircGradBasedCorrMaskLeft (1) | 0.612914 |
CircGradBasedCorrMaskLeft (2) | 0.887390 |
CircGradBasedCorrMaskLeft (3) | 0.496452 |
CircGradBasedCorrMaskLeft (4) | 0.020051 |
CircGradBasedCorrMaskLeft | 0.026663 |
CircGradBasedCorrMaskMidpoint | +50 |
CircGradBasedCorrMaskRight (1) | 0.973586 |
CircGradBasedCorrMaskRight (2) | 0.966069 |
CircGradBasedCorrMaskRight (3) | 0.753968 |
CircGradBasedCorrMaskRight (4) | 0.269477 |
CircGradBasedCorrMaskRight | 0.972416 |
CircGradBasedCorrMaskRoundness | 0 |
CircGradBasedCorrMaskTop (1) | 0.772912 |
CircGradBasedCorrMaskTop (2) | 0.641273 |
CircGradBasedCorrMaskTop (3) | 0.675641 |
CircGradBasedCorrMaskTop (4) | 0.688018 |
CircGradBasedCorrMaskTop | 0.010716 |
CircGradBasedCorrMaskValue | 1.000000 |
CircGradBasedCorrMaskVersion | +2 |
CircGradBasedCorrMaskWhat | Mask/CircularGradient |
CircGradBasedCorrMoire | 0.000000 |
CircGradBasedCorrSaturation | 0.000000 |
CircGradBasedCorrShadows2012 (2) | 0.298390 |
CircGradBasedCorrShadows2012 | 0.000000 |
CircGradBasedCorrSharpness | 0.000000 |
CircGradBasedCorrTemperature | 0.000000 |
CircGradBasedCorrTint | 0.000000 |
CircGradBasedCorrWhat | Correction |
CircleOfConfusion | 0.030 mm |
Clarity2012 | +40 |
ColorComponents | 3 |
ColorNoiseReduction | 25 |
ColorNoiseReductionDetail | 50 |
ColorNoiseReductionSmoothness | 50 |
ColorSpace | sRGB |
ColorTemperature | 6550 |
ColorTransform | YCbCr |
Contrast2012 | +38 |
ConvertToGrayscale | True |
Copyright | Johnny H STROM. |
CopyrightNotice | Johnny H STROM. |
CreateDate (1) | 2016:11:28 13:07:28.05 |
CreateDate | 2016:11:28 13:07:28 |
Creator | Johnny Helge Strom. |
CreatorTool | Adobe Photoshop Lightroom 6.7 (Windows) |
CustomRendered | Normal |
DateCreated (1) | 2016:11:28 |
DateCreated | 2016:11:28 13:07:28.05 |
DateTimeOriginal | 2016:11:28 13:07:28 |
Dehaze | +15 |
DOF | inf (0.98 m - inf) |
Exposure2012 | 0.00 |
ExposureCompensation | 0 |
ExposureMode | Auto |
ExposureProgram | Bulb |
ExposureTime | 93 |
Firmware | 1.1.6 |
Flash | Off, Did not fire |
FlashCompensation | 0 |
FNumber | 10.0 |
FocalLength | 24.0 mm |
FocalLength35efl | 24.0 mm (35 mm equivalent: 24.0 mm) |
Format | image/jpeg |
FOV | 73.7 deg |
GradientBasedCorrActive | true |
GradientBasedCorrAmount | 1.000000 |
GradientBasedCorrBrightness | 0.000000 |
GradientBasedCorrClarity2012 | 0.000000 |
GradientBasedCorrContrast2012 (1) | 0.333330 |
GradientBasedCorrContrast2012 | 0.586210 |
GradientBasedCorrDefringe | 0.000000 |
GradientBasedCorrExposure2012 (1) | -0.425000 |
GradientBasedCorrExposure2012 | -0.057500 |
GradientBasedCorrHighlights2012 | -1.000000 |
GradientBasedCorrHue | 240.000000 |
GradientBasedCorrLocalBlacks2012 (1) | -0.196440 |
GradientBasedCorrLocalBlacks2012 | 0.000000 |
GradientBasedCorrLocalDehaze | 0.000000 |
GradientBasedCorrLocalWhites2012 (1) | 0.598280 |
GradientBasedCorrLocalWhites2012 | 0.000000 |
GradientBasedCorrLuminanceNoise | 0.000000 |
GradientBasedCorrMaskFullX (1) | 0.472112 |
GradientBasedCorrMaskFullX | 0.457274 |
GradientBasedCorrMaskFullY (1) | 0.499913 |
GradientBasedCorrMaskFullY | 0.720458 |
GradientBasedCorrMaskValue | 1.000000 |
GradientBasedCorrMaskWhat | Mask/Gradient |
GradientBasedCorrMaskZeroX (1) | 0.472007 |
GradientBasedCorrMaskZeroX | 0.457008 |
GradientBasedCorrMaskZeroY (1) | 0.745861 |
GradientBasedCorrMaskZeroY | 0.643236 |
GradientBasedCorrMoire | 0.000000 |
GradientBasedCorrSaturation | 0.000000 |
GradientBasedCorrShadows2012 (1) | 0.000000 |
GradientBasedCorrShadows2012 | 0.654250 |
GradientBasedCorrSharpness | 0.000000 |
GradientBasedCorrTemperature | 0.000000 |
GradientBasedCorrTint | 0.000000 |
GradientBasedCorrWhat | Correction |
GrainAmount | 0 |
GrayMixerAqua | -17 |
GrayMixerBlue | +12 |
GrayMixerGreen | -27 |
GrayMixerMagenta | +3 |
GrayMixerOrange | -20 |
GrayMixerPurple | +16 |
GrayMixerRed | +47 |
GrayMixerYellow | -24 |
GreenHue | 0 |
GreenSaturation | 0 |
HasCrop | False |
HasExtendedXMP | BD8EEA64A6F4C4A18ECBAEF4752A2322 |
HasSettings | True |
Highlights2012 | 0 |
HyperfocalDistance | 1.92 m |
ImageHeight | 3648 |
ImageNumber | 0 |
ImageSize | 5472x3648 |
ImageWidth | 5472 |
ISO | 50 |
Lens | 24-105mm |
LensID (1) | 255 |
LensID | Sigma 24-105mm f/4 DG OS HSM | A |
LensInfo | 24-105mm f/? |
LensManualDistortionAmount | 0 |
LensModel | 24-105mm |
LensProfileChromaticAberrationScale | 100 |
LensProfileDistortionScale | 100 |
LensProfileEnable | 1 |
LensProfileFilename | Canon (SIGMA 24-105mm F4 DG OS HSM A013) - RAW.lcp |
LensProfileName | Adobe (SIGMA 24-105mm F4 DG OS HSM A013, Canon) |
LensProfileSetup | LensDefaults |
LensProfileVignettingScale | 100 |
LensSerialNumber | 0000000000 |
LightValue | 1.1 |
LuminanceSmoothing | 0 |
Make | Canon |
MaxApertureValue | 4.0 |
Megapixels | 20.0 |
MeteringMode | Multi-segment |
Model | Canon EOS 6D |
ModifyDate (1) | 2016:11:30 02:34:32+01:00 |
ModifyDate | 2016:11:30 02:34:32 |
PaintCorrectionActive | true |
PaintCorrectionAmount | 1.000000 |
PaintCorrectionBrightness | 0.000000 |
PaintCorrectionClarity2012 | 0.000000 |
PaintCorrectionContrast2012 | 0.000000 |
PaintCorrectionDefringe | 0.000000 |
PaintCorrectionExposure2012 (1) | 0.261250 |
PaintCorrectionExposure2012 (2) | -0.225000 |
PaintCorrectionExposure2012 | -0.075000 |
PaintCorrectionHighlights2012 (2) | 0.000000 |
PaintCorrectionHighlights2012 | 0.250000 |
PaintCorrectionHue | 240.000000 |
PaintCorrectionLocalBlacks2012 | 0.000000 |
PaintCorrectionLocalDehaze | 0.000000 |
PaintCorrectionLocalWhites2012 (1) | -0.218390 |
PaintCorrectionLocalWhites2012 (2) | 0.000000 |
PaintCorrectionLocalWhites2012 | 0.609200 |
PaintCorrectionLuminanceNoise | 0.000000 |
PaintCorrectionMaskCenterWeight | 0.000000 |
PaintCorrectionMaskFlow | 1.000000 |
PaintCorrectionMaskRadius (1) | 0.004400 |
PaintCorrectionMaskRadius (11) | 0.001779 |
PaintCorrectionMaskRadius (12) | 0.001778 |
PaintCorrectionMaskRadius (13) | 0.005762 |
PaintCorrectionMaskRadius (15) | 0.000623 |
PaintCorrectionMaskRadius (16) | 0.000624 |
PaintCorrectionMaskRadius (2) | 0.008550 |
PaintCorrectionMaskRadius (21) | 0.001768 |
PaintCorrectionMaskRadius (22) | 0.001770 |
PaintCorrectionMaskRadius (24) | 0.001776 |
PaintCorrectionMaskRadius (25) | 0.001772 |
PaintCorrectionMaskRadius (26) | 0.005756 |
PaintCorrectionMaskRadius (27) | 0.014336 |
PaintCorrectionMaskRadius (28) | 0.014327 |
PaintCorrectionMaskRadius (29) | 0.014354 |
PaintCorrectionMaskRadius (3) | 0.008545 |
PaintCorrectionMaskRadius (30) | 0.014372 |
PaintCorrectionMaskRadius (31) | 0.014349 |
PaintCorrectionMaskRadius (32) | 0.014407 |
PaintCorrectionMaskRadius (33) | 0.014395 |
PaintCorrectionMaskRadius (34) | 0.014350 |
PaintCorrectionMaskRadius (36) | 0.014318 |
PaintCorrectionMaskRadius (37) | 0.014345 |
PaintCorrectionMaskRadius (39) | 0.014323 |
PaintCorrectionMaskRadius (4) | 0.008525 |
PaintCorrectionMaskRadius (40) | 0.014319 |
PaintCorrectionMaskRadius (41) | 0.014351 |
PaintCorrectionMaskRadius (42) | 0.008547 |
PaintCorrectionMaskRadius (43) | 0.007100 |
PaintCorrectionMaskRadius (5) | 0.005768 |
PaintCorrectionMaskRadius (6) | 0.005747 |
PaintCorrectionMaskRadius (7) | 0.001767 |
PaintCorrectionMaskRadius (8) | 0.001773 |
PaintCorrectionMaskRadius (9) | 0.001775 |
PaintCorrectionMaskRadius | 0.007081 |
PaintCorrectionMaskValue | 0.500000 |
PaintCorrectionMaskWhat | Mask/Paint |
PaintCorrectionMoire | 0.000000 |
PaintCorrectionSaturation | 0.000000 |
PaintCorrectionShadows2012 | 0.000000 |
PaintCorrectionSharpness | 0.000000 |
PaintCorrectionTemperature | 0.000000 |
PaintCorrectionTint | 0.000000 |
PaintCorrectionWhat | Correction |
ParametricDarks | 0 |
ParametricHighlights | 0 |
ParametricHighlightSplit | 75 |
ParametricLights | 0 |
ParametricMidtoneSplit | 50 |
ParametricShadows | 0 |
ParametricShadowSplit | 25 |
PerspectiveAspect | 0 |
PerspectiveHorizontal | 0 |
PerspectiveRotate | 0.0 |
PerspectiveScale | 100 |
PerspectiveUpright | 0 |
PerspectiveVertical | 0 |
PerspectiveX | 0.00 |
PerspectiveY | 0.00 |
PostCropVignetteAmount | 0 |
ProcessVersion | 6.7 |
ProfileDescription | sRGB IEC61966-2.1 |
RecommendedExposureIndex | 50 |
RedHue | 0 |
RedSaturation | 0 |
Rights | Johnny H STROM. |
ScaleFactor35efl | 1.0 |
SceneCaptureType | Standard |
SensitivityType | Recommended Exposure Index |
SerialNumber | 023022000212 |
Shadows2012 | -4 |
ShadowTint | 0 |
SharpenDetail | 25 |
SharpenEdgeMasking | 0 |
SharpenRadius | +1.0 |
Sharpness | 25 |
ShutterSpeed | 93 |
ShutterSpeedValue | 93 |
Software | Adobe Photoshop Lightroom 6.7 (Windows) |
SplitToningBalance | 0 |
SplitToningHighlightHue | 0 |
SplitToningHighlightSaturation | 0 |
SplitToningShadowHue | 0 |
SplitToningShadowSaturation | 0 |
Tint | -3 |
ToneCurve | 0, 0, 255, 255 |
ToneCurveBlue | 0, 0, 255, 255 |
ToneCurveGreen | 0, 0, 255, 255 |
ToneCurveName | Linear |
ToneCurveName2012 | Linear |
ToneCurvePV2012 | 0, 0, 255, 255 |
ToneCurvePV2012Blue | 0, 0, 255, 255 |
ToneCurvePV2012Green | 0, 0, 255, 255 |
ToneCurvePV2012Red | 0, 0, 255, 255 |
ToneCurveRed | 0, 0, 255, 255 |
ToneMapStrength | 0 |
Version | 9.7 |
VignetteAmount | 0 |
WhiteBalance (1) | As Shot |
WhiteBalance | Auto |
Whites2012 | +28 |