Felt | Verdi |
AlreadyApplied | True |
Aperture | 7.1 |
ApertureValue | 7.1 |
ApproximateFocusDistance | 0.45 |
AutoLateralCA | 0 |
AutoWhiteVersion | 134348800 |
BitsPerSample | 8 |
Blacks2012 | -32 |
BlueHue | 0 |
BlueSaturation | 0 |
CameraProfile | Adobe Standard |
CircleOfConfusion | 0.007 mm |
Clarity2012 | +56 |
ColorComponents | 3 |
ColorMode | RGB |
ColorNoiseReduction | 25 |
ColorNoiseReductionDetail | 50 |
ColorNoiseReductionSmoothness | 50 |
ColorSpace | Uncalibrated |
ColorTemperature | 33000 |
ColorTransform | YCbCr |
Contrast2012 | +24 |
ConvertToGrayscale | False |
CreateDate | 2018:01:29 16:40:29 |
CropAngle | 0 |
CropBottom | 0.824786 |
CropConstrainToWarp | 1 |
CropLeft | 0.095442 |
CropRight | 0.901709 |
CropTop | 0 |
CustomRendered | Normal |
DateCreated (1) | 2018:01:29 16:40:29.064 |
DateCreated | 2018:01:29 |
DateTimeOriginal | 2018:01:29 16:40:29 |
DefringeGreenAmount | 0 |
DefringeGreenHueHi | 60 |
DefringeGreenHueLo | 40 |
DefringePurpleAmount | 0 |
DefringePurpleHueHi | 70 |
DefringePurpleHueLo | 30 |
Dehaze | 0 |
DOF | 0.016 m (0.442 - 0.458 m) |
ExifImageHeight | 818 |
ExifImageWidth | 1200 |
Exposure2012 | -1.55 |
ExposureCompensation | 0 |
ExposureMode | Manual |
ExposureProgram | Manual |
ExposureTime | 1/100 |
Firmware | 2.1.2 |
Flash | On, Fired |
FlashCompensation | -1 |
FNumber | 7.1 |
FocalLength | 33.0 mm |
FocalLength35efl | 33.0 mm (35 mm equivalent: 149.7 mm) |
Format | image/jpeg |
FOV | 13.7 deg |
GrainAmount | 0 |
GreenHue | 0 |
GreenSaturation | 0 |
HasCrop | True |
HasSettings | True |
Highlights2012 | -23 |
HueAdjustmentAqua | -11 |
HueAdjustmentBlue | +55 |
HueAdjustmentGreen | -48 |
HueAdjustmentMagenta | 0 |
HueAdjustmentOrange | -5 |
HueAdjustmentPurple | -27 |
HueAdjustmentRed | 0 |
HueAdjustmentYellow | -23 |
HyperfocalDistance | 23.16 m |
ICCProfileName | Adobe RGB (1998) |
ImageHeight | 818 |
ImageNumber | 0 |
ImageSize | 1200x818 |
ImageWidth | 1200 |
ISO | 640 |
Lens | EF17-40mm f/4L USM |
LensID (1) | 231 |
LensID | Canon EF 17-40mm f/4L USM |
LensInfo (1) | 17-40mm f/? |
LensInfo | 17-40mm f/0 |
LensManualDistortionAmount | 0 |
LensModel | EF17-40mm f/4L USM |
LensProfileEnable | 0 |
LensProfileSetup | LensDefaults |
LightValue | 9.6 |
LuminanceAdjustmentAqua | +23 |
LuminanceAdjustmentBlue | -73 |
LuminanceAdjustmentGreen | +76 |
LuminanceAdjustmentMagenta | 0 |
LuminanceAdjustmentOrange | -10 |
LuminanceAdjustmentPurple | 0 |
LuminanceAdjustmentRed | 0 |
LuminanceAdjustmentYellow | -14 |
LuminanceSmoothing | 0 |
Make | Canon |
MaxApertureValue | 4.0 |
Megapixels | 0.982 |
MeteringMode | Multi-segment |
Model | Canon EOS 5D Mark II |
ModifyDate (1) | 2017:01:28 19:34:54+01:00 |
ModifyDate | 2017:01:28 19:34:54 |
Orientation | Horizontal (normal) |
ParametricDarks | 0 |
ParametricHighlights | 0 |
ParametricHighlightSplit | 75 |
ParametricLights | 0 |
ParametricMidtoneSplit | 50 |
ParametricShadows | 0 |
ParametricShadowSplit | 25 |
PerspectiveAspect | 0 |
PerspectiveHorizontal | 0 |
PerspectiveRotate | 0.0 |
PerspectiveScale | 100 |
PerspectiveUpright | 0 |
PerspectiveVertical | 0 |
PerspectiveX | 0.00 |
PerspectiveY | 0.00 |
PostCropVignetteAmount | 0 |
ProcessVersion | 6.7 |
ProfileDescription | Adobe RGB (1998) |
Rating | 0 |
RawFileName | IMG_4943.CR2 |
RedHue | 0 |
RedSaturation | 0 |
Saturation | 0 |
SaturationAdjustmentAqua | -38 |
SaturationAdjustmentBlue | -32 |
SaturationAdjustmentGreen | -15 |
SaturationAdjustmentMagenta | 0 |
SaturationAdjustmentOrange | -3 |
SaturationAdjustmentPurple | 0 |
SaturationAdjustmentRed | 0 |
SaturationAdjustmentYellow | +28 |
ScaleFactor35efl | 4.5 |
SceneCaptureType | Standard |
SerialNumber | 530304310 |
Shadows2012 | 0 |
ShadowTint | 0 |
SharpenDetail | 25 |
SharpenEdgeMasking | 0 |
SharpenRadius | +1.0 |
Sharpness | 25 |
ShutterSpeed | 1/100 |
ShutterSpeedValue | 1/100 |
Software | Adobe Photoshop CC 2017 (Windows) |
SplitToningBalance | 0 |
SplitToningHighlightHue | 0 |
SplitToningHighlightSaturation | 0 |
SplitToningShadowHue | 0 |
SplitToningShadowSaturation | 0 |
Tint | +86 |
ToneCurve | 0, 0, 32, 22, 64, 56, 128, 128, 192, 196, 255, 255 |
ToneCurveBlue | 0, 0, 255, 255 |
ToneCurveGreen | 0, 0, 255, 255 |
ToneCurveName | Medium Contrast |
ToneCurveName2012 | Linear |
ToneCurvePV2012 | 0, 0, 255, 255 |
ToneCurvePV2012Blue | 0, 0, 255, 255 |
ToneCurvePV2012Green | 0, 0, 255, 255 |
ToneCurvePV2012Red | 0, 0, 255, 255 |
ToneCurveRed | 0, 0, 255, 255 |
ToneMapStrength | 0 |
URL_List | |
Version | 9.8 |
Vibrance | 0 |
VignetteAmount | 0 |
WhiteBalance (1) | Custom |
WhiteBalance | Auto |
Whites2012 | +43 |