Felt | Verdi |
AlreadyApplied | True |
Aperture | 4.0 |
ApertureValue | 4.0 |
Artist | Roger Hansson |
AutoLateralCA | 1 |
AutoWhiteVersion | 134348800 |
BitsPerSample | 8 |
Blacks2012 | 0 |
BlueHue | 0 |
BlueSaturation | 0 |
By-line | Roger Hansson |
CameraProfile | Adobe Standard |
CircleOfConfusion | 0.031 mm |
Clarity2012 | -10 |
ColorComponents | 3 |
ColorNoiseReduction | 25 |
ColorNoiseReductionDetail | 50 |
ColorNoiseReductionSmoothness | 50 |
ColorSpace | Uncalibrated |
ColorTemperature | 6006 |
ColorTransform | YCbCr |
Contrast2012 | +29 |
ConvertToGrayscale | True |
CreateDate (1) | 2015:06:04 07:04:54.42 |
CreateDate | 2015:06:04 07:04:54 |
Creator | Roger Hansson |
CreatorTool | Adobe Photoshop Lightroom 6.8 (Macintosh) |
CropAngle | 0 |
CropBottom | 0.991336 |
CropConstrainToWarp | 0 |
CropLeft | 0.166667 |
CropRight | 0.827558 |
CropTop | 0 |
CustomRendered | Normal |
DateCreated (1) | 2015:06:04 |
DateCreated | 2015:06:04 07:04:54.42 |
DateTimeOriginal | 2015:06:04 07:04:54 |
Dehaze | 0 |
Exposure2012 | +0.80 |
ExposureCompensation | -1/3 |
ExposureMode | Auto |
ExposureProgram | Aperture-priority AE |
ExposureTime | 1/250 |
Firmware | 1.2.4 |
Flash | Off, Did not fire |
FlashCompensation | 0 |
FNumber | 4.0 |
FocalLength | 50.0 mm |
FocalLength35efl | 50.0 mm (35 mm equivalent: 48.8 mm) |
Format | image/jpeg |
FOV | 40.5 deg |
GrainAmount | 0 |
GrayMixerAqua | -17 |
GrayMixerBlue | -6 |
GrayMixerGreen | -28 |
GrayMixerMagenta | +4 |
GrayMixerOrange | -22 |
GrayMixerPurple | +20 |
GrayMixerRed | -12 |
GrayMixerYellow | -26 |
GreenHue | 0 |
GreenSaturation | 0 |
HasCrop | True |
HasSettings | True |
Highlights2012 | +29 |
HyperfocalDistance | 20.30 m |
ImageHeight | 1024 |
ImageNumber | 0 |
ImageSize | 1024x1024 |
ImageWidth | 1024 |
ISO | 100 |
Label | Grön |
Lens | EF50mm f/1.4 USM |
LensID (1) | 198 |
LensID | Canon EF 50mm f/1.4 USM |
LensInfo | 50mm f/? |
LensManualDistortionAmount | 0 |
LensModel | EF50mm f/1.4 USM |
LensProfileChromaticAberrationScale | 100 |
LensProfileDistortionScale | 100 |
LensProfileEnable | 1 |
LensProfileFilename | Canon EOS-1Ds Mark III (Canon EF 50mm f1.4 USM) - RAW.lcp |
LensProfileName | Adobe (Canon EF 50mm f/1.4 USM) |
LensProfileSetup | Custom |
LensProfileVignettingScale | 100 |
LightValue | 12.0 |
LuminanceNoiseReductionContrast | 0 |
LuminanceNoiseReductionDetail | 50 |
LuminanceSmoothing | 21 |
Make | Canon |
MaxApertureValue | 1.4 |
Megapixels | 1.0 |
MeteringMode | Center-weighted average |
Model | Canon EOS 5D Mark II |
ModifyDate (1) | 2017:01:28 15:16:59+01:00 |
ModifyDate | 2017:01:28 15:16:59 |
OwnerName | Roger Hansson |
PaintCorrectionActive | true |
PaintCorrectionAmount | 1.000000 |
PaintCorrectionBrightness | 0.000000 |
PaintCorrectionClarity2012 | 0.000000 |
PaintCorrectionContrast2012 | 0.231934 |
PaintCorrectionDefringe | 0.000000 |
PaintCorrectionExposure2012 | 0.000000 |
PaintCorrectionHighlights2012 | 0.000000 |
PaintCorrectionHue | 240.000000 |
PaintCorrectionLuminanceNoise | 0.000000 |
PaintCorrectionMaskCenterWeight | 0.484525 |
PaintCorrectionMaskFlow (1) | 0.191086 |
PaintCorrectionMaskFlow (2) | 0.241331 |
PaintCorrectionMaskFlow (3) | 0.307481 |
PaintCorrectionMaskFlow (4) | 0.018806 |
PaintCorrectionMaskFlow | 0.054621 |
PaintCorrectionMaskRadius (1) | 0.016676 |
PaintCorrectionMaskRadius (2) | 0.016840 |
PaintCorrectionMaskRadius (3) | 0.016866 |
PaintCorrectionMaskRadius | 0.016856 |
PaintCorrectionMaskValue | 1.000000 |
PaintCorrectionMaskWhat | Mask/Paint |
PaintCorrectionMoire | 0.000000 |
PaintCorrectionSaturation | 0.000000 |
PaintCorrectionShadows2012 | -0.421945 |
PaintCorrectionSharpness | 0.000000 |
PaintCorrectionTemperature | 0.000000 |
PaintCorrectionTint | 0.000000 |
PaintCorrectionWhat | Correction |
ParametricDarks | 0 |
ParametricHighlights | 0 |
ParametricHighlightSplit | 75 |
ParametricLights | 0 |
ParametricMidtoneSplit | 50 |
ParametricShadows | 0 |
ParametricShadowSplit | 25 |
PerspectiveAspect | 0 |
PerspectiveHorizontal | 0 |
PerspectiveRotate | -0.6 |
PerspectiveScale | 100 |
PerspectiveUpright | 0 |
PerspectiveVertical | -1 |
PerspectiveX | 0.00 |
PerspectiveY | 0.00 |
PostCropVignetteAmount | 0 |
ProcessVersion | 6.7 |
ProfileDescription | Adobe RGB (1998) |
Rating | 1 |
RedHue | 0 |
RedSaturation | 0 |
ScaleFactor35efl | 1.0 |
SceneCaptureType | Standard |
SerialNumber | 1631001432 |
Shadows2012 | -22 |
ShadowTint | 0 |
SharpenDetail | 86 |
SharpenEdgeMasking | 0 |
SharpenRadius | +1.2 |
Sharpness | 44 |
ShutterSpeed | 1/250 |
ShutterSpeedValue | 1/250 |
Software | Adobe Photoshop Lightroom 6.8 (Macintosh) |
SplitToningBalance | 0 |
SplitToningHighlightHue | 0 |
SplitToningHighlightSaturation | 0 |
SplitToningShadowHue | 0 |
SplitToningShadowSaturation | 0 |
Tint | -11 |
ToneCurve | 0, 0, 255, 255 |
ToneCurveBlue | 0, 0, 255, 255 |
ToneCurveGreen | 0, 0, 255, 255 |
ToneCurveName | Linear |
ToneCurveName2012 | Custom |
ToneCurvePV2012 | 14, 0, 98, 92, 123, 121, 158, 177, 231, 255 |
ToneCurvePV2012Blue | 0, 0, 255, 255 |
ToneCurvePV2012Green | 0, 0, 255, 255 |
ToneCurvePV2012Red | 0, 0, 255, 255 |
ToneCurveRed | 0, 0, 255, 255 |
ToneMapStrength | 0 |
Version | 9.8 |
VignetteAmount | 0 |
WhiteBalance (1) | Custom |
WhiteBalance | Auto |
Whites2012 | +27 |