Felt | Verdi |
AlreadyApplied | True |
Aperture | 4.0 |
ApertureValue | 4.0 |
ApproximateFocusDistance | 4.47 |
Artist | Roger Hansson |
AutoLateralCA | 0 |
AutoWhiteVersion | 134348800 |
BitsPerSample | 8 |
Blacks2012 | -9 |
BlueHue | 0 |
BlueSaturation | 0 |
By-line | Roger Hansson |
CameraProfile | Adobe Standard |
CircleOfConfusion | 0.031 mm |
Clarity2012 | +52 |
ColorComponents | 3 |
ColorNoiseReduction | 25 |
ColorNoiseReductionDetail | 50 |
ColorNoiseReductionSmoothness | 50 |
ColorSpace | Uncalibrated |
ColorTemperature | 4850 |
ColorTransform | YCbCr |
Contrast2012 | +40 |
ConvertToGrayscale | True |
CreateDate (1) | 2015:05:14 18:43:50.26 |
CreateDate | 2015:05:14 18:43:50 |
Creator | Roger Hansson |
CreatorTool | Adobe Photoshop Lightroom 6.8 (Macintosh) |
CropAngle | 0.324587 |
CropBottom | 1 |
CropConstrainToWarp | 0 |
CropLeft | 0.080417 |
CropRight | 0.739571 |
CropTop | 0 |
CustomRendered | Normal |
DateCreated (1) | 2015:05:14 |
DateCreated | 2015:05:14 18:43:50.26 |
DateTimeOriginal | 2015:05:14 18:43:50 |
Dehaze | 0 |
DOF | 1.17 m (3.96 - 5.13 m) |
Exposure2012 | 0.00 |
ExposureCompensation | 0 |
ExposureMode | Auto |
ExposureProgram | Aperture-priority AE |
ExposureTime | 1/800 |
Firmware | 1.2.4 |
Flash | Off, Did not fire |
FlashCompensation | 0 |
FNumber | 4.0 |
FocalLength | 65.0 mm |
FocalLength35efl | 65.0 mm (35 mm equivalent: 63.4 mm) |
Format | image/jpeg |
FOV | 31.7 deg |
GrainAmount | 0 |
GrayMixerAqua | -14 |
GrayMixerBlue | -81 |
GrayMixerGreen | +4 |
GrayMixerMagenta | -46 |
GrayMixerOrange | +26 |
GrayMixerPurple | -68 |
GrayMixerRed | +29 |
GrayMixerYellow | +4 |
GreenHue | 0 |
GreenSaturation | 0 |
HasCrop | True |
HasExtendedXMP | 02A05429D70C9A56468EF54BC5444056 |
HasSettings | True |
Highlights2012 | 0 |
HyperfocalDistance | 34.31 m |
ImageHeight | 1024 |
ImageNumber | 0 |
ImageSize | 1024x1024 |
ImageWidth | 1024 |
ISO | 400 |
Label | Grön |
Lens | EF24-105mm f/4L IS USM |
LensID (1) | 237 |
LensID | Canon EF 24-105mm f/4L IS USM |
LensInfo | 24-105mm f/? |
LensManualDistortionAmount | 0 |
LensModel | EF24-105mm f/4L IS USM |
LensProfileChromaticAberrationScale | 100 |
LensProfileDistortionScale | 100 |
LensProfileEnable | 1 |
LensProfileFilename | Canon EOS-1Ds Mark III (Canon EF 24-105mm f4 L IS USM) - RAW.lcp |
LensProfileName | Adobe (Canon EF 24-105mm f/4 L IS USM) |
LensProfileSetup | LensDefaults |
LensProfileVignettingScale | 100 |
LightValue | 11.6 |
LuminanceNoiseReductionContrast | 0 |
LuminanceNoiseReductionDetail | 50 |
LuminanceSmoothing | 20 |
Make | Canon |
MaxApertureValue | 4.0 |
Megapixels | 1.0 |
MeteringMode | Center-weighted average |
Model | Canon EOS 5D Mark II |
ModifyDate (1) | 2017:02:13 22:09:43+01:00 |
ModifyDate | 2017:02:13 22:09:43 |
OwnerName | Roger Hansson |
PaintCorrectionActive | true |
PaintCorrectionAmount | 1.000000 |
PaintCorrectionBrightness | 0.000000 |
PaintCorrectionClarity2012 (2) | 0.163923 |
PaintCorrectionClarity2012 (3) | 0.145089 |
PaintCorrectionClarity2012 (4) | 0.206822 |
PaintCorrectionClarity2012 | 0.000000 |
PaintCorrectionContrast2012 (1) | 0.681989 |
PaintCorrectionContrast2012 (2) | 0.005650 |
PaintCorrectionContrast2012 (3) | 0.123256 |
PaintCorrectionContrast2012 | 0.000000 |
PaintCorrectionDefringe | 0.000000 |
PaintCorrectionExposure2012 (1) | 0.000000 |
PaintCorrectionExposure2012 (4) | -0.122070 |
PaintCorrectionExposure2012 | -0.079660 |
PaintCorrectionHighlights2012 | 0.000000 |
PaintCorrectionHue | 240.000000 |
PaintCorrectionLuminanceNoise | 0.000000 |
PaintCorrectionMaskCenterWeight | 0.484525 |
PaintCorrectionMaskFlow | 0.925845 |
PaintCorrectionMaskRadius (1) | 0.057316 |
PaintCorrectionMaskRadius (2) | 0.014079 |
PaintCorrectionMaskRadius (3) | 0.013922 |
PaintCorrectionMaskRadius (4) | 0.013729 |
PaintCorrectionMaskRadius (5) | 0.013730 |
PaintCorrectionMaskRadius (6) | 0.008311 |
PaintCorrectionMaskRadius (7) | 0.002841 |
PaintCorrectionMaskRadius (8) | 0.002842 |
PaintCorrectionMaskRadius | 0.002843 |
PaintCorrectionMaskValue | 1.000000 |
PaintCorrectionMaskWhat | Mask/Paint |
PaintCorrectionMoire | 0.000000 |
PaintCorrectionSaturation | 0.000000 |
PaintCorrectionShadows2012 (2) | -1.000000 |
PaintCorrectionShadows2012 (4) | -0.512695 |
PaintCorrectionShadows2012 | -0.070452 |
PaintCorrectionSharpness | 0.000000 |
PaintCorrectionTemperature | 0.000000 |
PaintCorrectionTint | 0.000000 |
PaintCorrectionWhat | Correction |
ParametricDarks | 0 |
ParametricHighlights | 0 |
ParametricHighlightSplit | 75 |
ParametricLights | 0 |
ParametricMidtoneSplit | 50 |
ParametricShadows | 0 |
ParametricShadowSplit | 25 |
PerspectiveAspect | 0 |
PerspectiveHorizontal | 0 |
PerspectiveRotate | 0.0 |
PerspectiveScale | 100 |
PerspectiveUpright | 0 |
PerspectiveVertical | 0 |
PerspectiveX | 0.00 |
PerspectiveY | 0.00 |
PostCropVignetteAmount | 0 |
ProcessVersion | 6.7 |
ProfileDescription | Adobe RGB (1998) |
Rating | 1 |
RedHue | 0 |
RedSaturation | 0 |
ScaleFactor35efl | 1.0 |
SceneCaptureType | Standard |
SerialNumber | 1631001432 |
Shadows2012 | 0 |
ShadowTint | 0 |
SharpenDetail | 82 |
SharpenEdgeMasking | 0 |
SharpenRadius | +1.0 |
Sharpness | 41 |
ShutterSpeed | 1/800 |
ShutterSpeedValue | 1/800 |
Software | Adobe Photoshop Lightroom 6.8 (Macintosh) |
SplitToningBalance | 0 |
SplitToningHighlightHue | 0 |
SplitToningHighlightSaturation | 0 |
SplitToningShadowHue | 0 |
SplitToningShadowSaturation | 0 |
Tint | +1 |
ToneCurve | 0, 0, 255, 255 |
ToneCurveBlue | 0, 0, 255, 255 |
ToneCurveGreen | 0, 0, 255, 255 |
ToneCurveName | Linear |
ToneCurveName2012 | Custom |
ToneCurvePV2012 | 7, 0, 190, 212, 227, 252 |
ToneCurvePV2012Blue | 0, 0, 255, 255 |
ToneCurvePV2012Green | 0, 0, 255, 255 |
ToneCurvePV2012Red | 0, 0, 255, 255 |
ToneCurveRed | 0, 0, 255, 255 |
ToneMapStrength | 0 |
Version | 9.8 |
VignetteAmount | 0 |
WhiteBalance (1) | As Shot |
WhiteBalance | Manual |
Whites2012 | 0 |