Felt | Verdi |
Accentuation | 0.0 |
AlreadyApplied | True |
Aperture | 6.3 |
ApertureValue | 6.3 |
AutoLateralCA | 0 |
AutoWhiteVersion | 134348800 |
BitsPerSample | 16 16 16 |
BlackClip | 0.000000 |
Blacks2012 | -40 |
BlendingPoint | -1.6 |
BlueHue | 0 |
BlueSaturation | 0 |
CameraProfile | Embedded |
Caption-Abstract | OLYMPUS DIGITAL CAMERA |
CFAPattern | [Red,Green][Green,Blue] |
Clarity2012 | +25 |
ColorNoiseReduction | 30 |
ColorNoiseReductionDetail | 50 |
ColorNoiseReductionSmoothness | 50 |
ColorSpace | Uncalibrated |
Contrast | Normal |
Contrast2012 | +20 |
ConvertToGrayscale | False |
CreateDate (1) | 2017:03:09 16:48:45+01:00 |
CreateDate | 2017:03:09 16:48:45 |
CreatorTool | Adobe Photoshop Lightroom 6.1 (Windows) |
CustomRendered | Normal |
DefringeGreenAmount | 0 |
DefringeGreenHueHi | 60 |
DefringeGreenHueLo | 40 |
DefringePurpleAmount | 0 |
DefringePurpleHueHi | 70 |
DefringePurpleHueLo | 30 |
Dehaze | 0 |
Description | OLYMPUS DIGITAL CAMERA |
DigitalZoomRatio | 1 |
Exposure2012 | 0.00 |
ExposureCompensation | 0 |
ExposureMode | Manual |
ExposureProgram | Manual |
ExposureTime | 1/125 |
Flash | On, Did not fire |
FlashCompensation | 0 |
FNumber | 6.3 |
FocalLength | 42.0 mm |
FocalLength35efl | 42.0 mm |
Format | image/tiff |
GainControl | None |
GrainAmount | 0 |
GreenHue | 0 |
GreenSaturation | 0 |
HasCrop | False |
HasSettings | True |
Highlights2012 | -80 |
HueAdjustmentAqua | 0 |
HueAdjustmentBlue | 0 |
HueAdjustmentGreen | 0 |
HueAdjustmentMagenta | 0 |
HueAdjustmentOrange | 0 |
HueAdjustmentPurple | 0 |
HueAdjustmentRed | 0 |
HueAdjustmentYellow | 0 |
ImageDescription | OLYMPUS DIGITAL CAMERA |
ImageHeight | 2736 |
ImageSize | 3648x2736 |
ImageWidth | 3648 |
IncrementalTemperature | 0 |
IncrementalTint | 0 |
ISO | 100 |
IsPano360 | No |
Lens | 14.0-42.0 mm f/3.5-5.6 |
LensInfo | 14-42mm f/3.5-5.6 |
LensManualDistortionAmount | 0 |
LensModel | 14.0-42.0 mm f/3.5-5.6 |
LensProfileEnable | 1 |
LensProfileSetup | LensDefaults |
LensSerialNumber | 212879439 |
LightSource | Other |
LightValue | 12.3 |
LuminanceAdjustmentAqua | 0 |
LuminanceAdjustmentBlue | 0 |
LuminanceAdjustmentGreen | 0 |
LuminanceAdjustmentMagenta | 0 |
LuminanceAdjustmentOrange | 0 |
LuminanceAdjustmentPurple | 0 |
LuminanceAdjustmentRed | 0 |
LuminanceAdjustmentYellow | 0 |
LuminanceNoiseReductionContrast | 20 |
LuminanceNoiseReductionDetail | 50 |
LuminanceSmoothing | 40 |
Make | OLYMPUS IMAGING CORP. |
MaxApertureValue | 3.5 |
Megapixels | 10.0 |
MeteringMode | Multi-segment |
Method | Fusion/Adjust |
MidtonesAdjustment | -0.5 |
Model | E-420 |
ModifyDate (1) | 2017:03:09 17:53:03+01:00 |
ModifyDate | 2017:03:09 17:53:03 |
Orientation | Horizontal (normal) |
PaintCorrectionActive | true |
PaintCorrectionAmount | 1.000000 |
PaintCorrectionBrightness | 0.000000 |
PaintCorrectionClarity2012 (1) | -0.908050 |
PaintCorrectionClarity2012 (2) | -0.770110 |
PaintCorrectionClarity2012 (3) | -0.011490 |
PaintCorrectionClarity2012 (4) | 0.034480 |
PaintCorrectionClarity2012 (5) | 0.000000 |
PaintCorrectionClarity2012 (6) | 0.264370 |
PaintCorrectionClarity2012 (7) | 0.218390 |
PaintCorrectionClarity2012 (8) | -0.425290 |
PaintCorrectionClarity2012 | -0.218390 |
PaintCorrectionContrast2012 | 0.000000 |
PaintCorrectionDefringe | 0.000000 |
PaintCorrectionExposure2012 (3) | -0.287250 |
PaintCorrectionExposure2012 (4) | -0.310250 |
PaintCorrectionExposure2012 (5) | -0.241500 |
PaintCorrectionExposure2012 (7) | -0.126500 |
PaintCorrectionExposure2012 | 0.000000 |
PaintCorrectionHighlights2012 (6) | 0.149430 |
PaintCorrectionHighlights2012 (8) | 0.000000 |
PaintCorrectionHighlights2012 | 0.655170 |
PaintCorrectionHue | 0.000000 |
PaintCorrectionLocalBlacks2012 | 0.000000 |
PaintCorrectionLocalWhites2012 | 0.000000 |
PaintCorrectionLuminanceNoise | 0.000000 |
PaintCorrectionMaskCenterWeight | 0.000000 |
PaintCorrectionMaskFlow | 1.000000 |
PaintCorrectionMaskRadius (2) | 0.007461 |
PaintCorrectionMaskRadius (25) | 0.052469 |
PaintCorrectionMaskRadius (26) | 0.052483 |
PaintCorrectionMaskRadius (27) | 0.052484 |
PaintCorrectionMaskRadius (28) | 0.035676 |
PaintCorrectionMaskRadius (30) | 0.011009 |
PaintCorrectionMaskRadius (31) | 0.011008 |
PaintCorrectionMaskRadius (33) | 0.035680 |
PaintCorrectionMaskRadius (9) | 0.005101 |
PaintCorrectionMaskRadius | 0.018818 |
PaintCorrectionMaskValue | 1.000000 |
PaintCorrectionMaskWhat | Mask/Paint |
PaintCorrectionMoire | 0.000000 |
PaintCorrectionSaturation (15) | 0.241380 |
PaintCorrectionSaturation | 0.000000 |
PaintCorrectionShadows2012 | 0.000000 |
PaintCorrectionSharpness (1) | -0.540230 |
PaintCorrectionSharpness (2) | -0.839080 |
PaintCorrectionSharpness (3) | -0.011490 |
PaintCorrectionSharpness (4) | 0.034480 |
PaintCorrectionSharpness (7) | 0.149430 |
PaintCorrectionSharpness (8) | -0.402300 |
PaintCorrectionSharpness | 0.000000 |
PaintCorrectionTemperature (8) | -0.011490 |
PaintCorrectionTemperature | 0.000000 |
PaintCorrectionTint (6) | 0.379310 |
PaintCorrectionTint | 0.000000 |
PaintCorrectionWhat | Correction |
ParametricDarks | 0 |
ParametricHighlights | 0 |
ParametricHighlightSplit | 75 |
ParametricLights | 0 |
ParametricMidtoneSplit | 50 |
ParametricShadows | 0 |
ParametricShadowSplit | 25 |
PerspectiveAspect | 0 |
PerspectiveHorizontal | 0 |
PerspectiveRotate | 0.0 |
PerspectiveScale | 100 |
PerspectiveUpright | 1 |
PerspectiveVertical | 0 |
PhotometricInterpretation | RGB |
PlanarConfiguration | Chunky |
PostCropVignetteAmount | -12 |
PostCropVignetteFeather | 50 |
PostCropVignetteHighlightContrast | 0 |
PostCropVignetteMidpoint | 50 |
PostCropVignetteRoundness | 0 |
PostCropVignetteStyle | 1 |
ProcessVersion | 6.7 |
ProfileDescription | Adobe RGB (1998) |
RawFileName | Gathering on a rock by the sea.tif |
RedHue | 0 |
RedSaturation | 0 |
RowsPerStrip | 2736 |
SamplesPerPixel | 3 |
Saturation (1) | 0 |
Saturation (2) | -0.6 |
Saturation | Normal |
SaturationAdjustmentAqua | -100 |
SaturationAdjustmentBlue | 0 |
SaturationAdjustmentGreen | -100 |
SaturationAdjustmentMagenta | 0 |
SaturationAdjustmentOrange | -58 |
SaturationAdjustmentPurple | 0 |
SaturationAdjustmentRed | -2 |
SaturationAdjustmentYellow | -100 |
SceneCaptureType | Standard |
SerialNumber | G21615072 |
Shadows | 0.0 |
Shadows2012 | +80 |
ShadowTint | 0 |
SharpenDetail | 42 |
SharpenEdgeMasking | 54 |
SharpenRadius | +1.5 |
Sharpness (1) | 50 |
Sharpness (2) | 2.0 |
Sharpness | Normal |
ShutterSpeed | 1/125 |
ShutterSpeedValue | 1/125 |
Software | Adobe Photoshop Lightroom 6.1 (Windows) |
SplitToningBalance | 0 |
SplitToningHighlightHue | 0 |
SplitToningHighlightSaturation | 0 |
SplitToningShadowHue | 0 |
SplitToningShadowSaturation | 0 |
StripByteCounts | 59885568 |
StripOffsets | 320680 |
SubfileType | Full-resolution Image |
ToneCurve | 0, 0, 255, 255 |
ToneCurveBlue | 0, 0, 255, 255 |
ToneCurveGreen | 0, 0, 255, 255 |
ToneCurveName | Linear |
ToneCurveName2012 | Linear |
ToneCurvePV2012 | 0, 0, 255, 255 |
ToneCurvePV2012Blue | 0, 0, 255, 255 |
ToneCurvePV2012Green | 0, 0, 255, 255 |
ToneCurvePV2012Red | 0, 0, 255, 255 |
ToneCurveRed | 0, 0, 255, 255 |
ToneMapStrength | 0 |
Version (1) | 5.0 |
Version | 9.1 |
Vibrance | +5 |
VignetteAmount | 0 |
WhiteBalance (1) | Manual |
WhiteBalance | As Shot |
WhiteClip | 0.200000 |
Whites2012 | +21 |