Felt | Verdi |
AlreadyApplied | True |
Aperture | 1.8 |
ApertureValue | 1.8 |
Artist | Hans Jørgen Lindeløff |
AutoLateralCA | 1 |
AutoWhiteVersion | 134348800 |
BitsPerSample | 8 |
Blacks2012 | -25 |
BlueHue | 0 |
BlueSaturation | 0 |
BrightnessValue | 11.43571429 |
By-line | Hans Jørgen Lindeløff |
CameraProfile | Embedded |
CircGradBasedCorrActive | true |
CircGradBasedCorrAmount | 1.000000 |
CircGradBasedCorrBrightness | 0.000000 |
CircGradBasedCorrClarity2012 (2) | 0.000000 |
CircGradBasedCorrClarity2012 | 0.247275 |
CircGradBasedCorrContrast2012 | 0.000000 |
CircGradBasedCorrDefringe | 0.000000 |
CircGradBasedCorrExposure2012 (1) | 0.200857 |
CircGradBasedCorrExposure2012 (2) | 0.145329 |
CircGradBasedCorrExposure2012 | 0.070494 |
CircGradBasedCorrHighlights2012 (1) | 0.000000 |
CircGradBasedCorrHighlights2012 | -0.484466 |
CircGradBasedCorrHue (2) | 0.000000 |
CircGradBasedCorrHue | 240.000000 |
CircGradBasedCorrLocalBlacks2012 (2) | -0.170512 |
CircGradBasedCorrLocalBlacks2012 | 0.000000 |
CircGradBasedCorrLocalDehaze | 0.000000 |
CircGradBasedCorrLocalWhites2012 | 0.000000 |
CircGradBasedCorrLuminanceNoise | 0.000000 |
CircGradBasedCorrMaskAngle | 0.000000 |
CircGradBasedCorrMaskBottom (1) | 0.629867 |
CircGradBasedCorrMaskBottom (2) | 0.802452 |
CircGradBasedCorrMaskBottom | 0.961706 |
CircGradBasedCorrMaskFeather | +100 |
CircGradBasedCorrMaskFlipped | true |
CircGradBasedCorrMaskLeft (1) | 0.140927 |
CircGradBasedCorrMaskLeft (2) | 0.079758 |
CircGradBasedCorrMaskLeft | -0.072277 |
CircGradBasedCorrMaskMidpoint | +50 |
CircGradBasedCorrMaskRight (1) | 0.722139 |
CircGradBasedCorrMaskRight (2) | 0.661205 |
CircGradBasedCorrMaskRight | 1.031040 |
CircGradBasedCorrMaskRoundness | 0 |
CircGradBasedCorrMaskTop (1) | -0.048451 |
CircGradBasedCorrMaskTop (2) | 0.123857 |
CircGradBasedCorrMaskTop | 0.113354 |
CircGradBasedCorrMaskValue | 1.000000 |
CircGradBasedCorrMaskVersion | +2 |
CircGradBasedCorrMaskWhat | Mask/CircularGradient |
CircGradBasedCorrMoire | 0.000000 |
CircGradBasedCorrSaturation | 0.000000 |
CircGradBasedCorrShadows2012 | 0.000000 |
CircGradBasedCorrSharpness | 0.000000 |
CircGradBasedCorrTemperature (1) | 0.378696 |
CircGradBasedCorrTemperature (2) | 0.279906 |
CircGradBasedCorrTemperature | 0.012082 |
CircGradBasedCorrTint (1) | 0.362735 |
CircGradBasedCorrTint (2) | 0.381552 |
CircGradBasedCorrTint | 0.037518 |
CircGradBasedCorrWhat | Correction |
CircleOfConfusion | 0.004 mm |
City | Fredrikstad |
Clarity2012 | 0 |
ColorComponents | 3 |
ColorNoiseReduction | 25 |
ColorNoiseReductionDetail | 50 |
ColorNoiseReductionSmoothness | 50 |
ColorSpace | sRGB |
ColorTransform | YCbCr |
Contrast2012 | +42 |
ConvertToGrayscale | False |
Copyright | © Hans Jørgen Lindeløff 2017 |
CopyrightFlag | True |
CopyrightNotice | © Hans Jørgen Lindeløff 2017 |
Country | Norway |
Country-PrimaryLocationCode | NO |
Country-PrimaryLocationName | Norway |
CountryCode | NO |
CreateDate | 2017:03:26 18:36:23 |
Creator | Hans Jørgen Lindeløff |
CreatorAddress | Bjørnevågveien 8 |
CreatorCity | Kråkerøy |
CreatorCountry | Norway |
CreatorPostalCode | 1676 |
CreatorTool | Adobe Photoshop Lightroom 6.9 (Macintosh) |
CreatorWorkEmail | lundeli@me.com |
CreatorWorkTelephone | +47 92049534 |
CreatorWorkURL | lundeliphoto.no |
CropAngle | 0 |
CropBottom | 0.994167 |
CropConstrainToWarp | 0 |
CropLeft | 0.005597 |
CropRight | 0.994201 |
CropTop | 0.005563 |
DateCreated (1) | 2017:03:26 |
DateCreated | 2017:03:26 18:36:23.315 |
DateTimeOriginal | 2017:03:26 18:36:23 |
DefringeGreenAmount | 0 |
DefringeGreenHueHi | 60 |
DefringeGreenHueLo | 40 |
DefringePurpleAmount | 0 |
DefringePurpleHueHi | 70 |
DefringePurpleHueLo | 30 |
Dehaze | 0 |
DistortionCorrectionAlreadyApplied | True |
Exposure2012 | +0.15 |
ExposureCompensation | -5.66 |
ExposureMode | Auto |
ExposureProgram | Program AE |
ExposureTime | 1/200000 |
Flash | Off, Did not fire |
FNumber | 1.8 |
FocalLength | 4.0 mm |
FocalLength35efl | 4.0 mm (35 mm equivalent: 28.0 mm) |
FocalLengthIn35mmFormat | 28 mm |
Format | image/jpeg |
FOV | 65.5 deg |
GPSAltitude (1) | 13.30948122 m |
GPSAltitude | 13.3 m Above Sea Level |
GPSAltitudeRef | Above Sea Level |
GPSDateStamp | 2017:03:26 |
GPSDateTime | 2017:03:26 16:36:09.77Z |
GPSDOP | 104.9251497 |
GPSImgDirection | 217.5972851 |
GPSImgDirectionRef | True North |
GPSLatitude (1) | 59 deg 12' 11.55" |
GPSLatitude | 59 deg 12' 11.55" N |
GPSLatitudeRef | North |
GPSLongitude (1) | 10 deg 56' 55.34" |
GPSLongitude | 10 deg 56' 55.34" E |
GPSLongitudeRef | East |
GPSPosition | 59 deg 12' 11.55" N, 10 deg 56' 55.34" E |
GPSTimeStamp | 16:36:09.77 |
GPSVersionID | 2.2.0.0 |
GradientBasedCorrActive | true |
GradientBasedCorrAmount | 1.000000 |
GradientBasedCorrBrightness | 0.000000 |
GradientBasedCorrClarity2012 | 0.000000 |
GradientBasedCorrContrast2012 | 0.000000 |
GradientBasedCorrDefringe | 0.000000 |
GradientBasedCorrExposure2012 (1) | -0.551579 |
GradientBasedCorrExposure2012 | -0.263357 |
GradientBasedCorrHighlights2012 | 0.000000 |
GradientBasedCorrHue | 0.000000 |
GradientBasedCorrLocalBlacks2012 | 0.000000 |
GradientBasedCorrLocalDehaze | 0.000000 |
GradientBasedCorrLocalWhites2012 | 0.000000 |
GradientBasedCorrLuminanceNoise | 0.000000 |
GradientBasedCorrMaskCenterWeight | 0.000000 |
GradientBasedCorrMaskFlow | 0.498892 |
GradientBasedCorrMaskFullX (1) | 0.665609 |
GradientBasedCorrMaskFullX | 0.343459 |
GradientBasedCorrMaskFullY (1) | 1.087400 |
GradientBasedCorrMaskFullY | 0.284956 |
GradientBasedCorrMaskRadius (1) | 0.191017 |
GradientBasedCorrMaskRadius | 0.190347 |
GradientBasedCorrMaskValue (2) | 0.000000 |
GradientBasedCorrMaskValue | 1.000000 |
GradientBasedCorrMaskWhat (2) | Mask/Paint |
GradientBasedCorrMaskWhat | Mask/Gradient |
GradientBasedCorrMaskZeroX (1) | 0.566087 |
GradientBasedCorrMaskZeroX | 0.535437 |
GradientBasedCorrMaskZeroY (1) | 0.642959 |
GradientBasedCorrMaskZeroY | 0.687714 |
GradientBasedCorrMoire | 0.000000 |
GradientBasedCorrSaturation | 0.000000 |
GradientBasedCorrShadows2012 | 0.000000 |
GradientBasedCorrSharpness | 0.000000 |
GradientBasedCorrTemperature | 0.000000 |
GradientBasedCorrTint | 0.000000 |
GradientBasedCorrWhat | Correction |
GrainAmount | 0 |
GreenHue | 0 |
GreenSaturation | 0 |
HasCrop | True |
HasExtendedXMP | 53534713A371AB288B6F93AE418778D8 |
HasSettings | True |
Highlights2012 | -50 |
HueAdjustmentAqua | 0 |
HueAdjustmentBlue | 0 |
HueAdjustmentGreen | 0 |
HueAdjustmentMagenta | 0 |
HueAdjustmentOrange | 0 |
HueAdjustmentPurple | 0 |
HueAdjustmentRed | 0 |
HueAdjustmentYellow | 0 |
HyperfocalDistance | 2.07 m |
ImageHeight | 1152 |
ImageSize | 2048x1152 |
ImageWidth | 2048 |
IncrementalTemperature | -1 |
IncrementalTint | +1 |
IsMergedHDR | True |
ISO | 20 |
Keywords | Fredrikstad, Solnedgang, panorama |
LateralChromaticAberrationCorrectionAlreadyApplied | True |
Lens | iPhone 7 Plus back camera 3.99mm f/1.8 |
LensInfo | 3.99mm f/1.8 |
LensMake | Apple |
LensManualDistortionAmount | 0 |
LensModel | iPhone 7 Plus back camera 3.99mm f/1.8 |
LensProfileChromaticAberrationScale | 100 |
LensProfileDistortionScale | 100 |
LensProfileEnable | 1 |
LensProfileFilename | Apple iPhone (Apple iPhone 7 Plus back camera 3.99mm f1.8).lcp |
LensProfileName | Adobe (Apple iPhone 7 Plus back camera 3.99mm f/1.8) |
LensProfileSetup | LensDefaults |
LensProfileVignettingScale | 100 |
LightValue | 21.6 |
LuminanceAdjustmentAqua | 0 |
LuminanceAdjustmentBlue | 0 |
LuminanceAdjustmentGreen | 0 |
LuminanceAdjustmentMagenta | 0 |
LuminanceAdjustmentOrange | 0 |
LuminanceAdjustmentPurple | 0 |
LuminanceAdjustmentRed | 0 |
LuminanceAdjustmentYellow | 0 |
LuminanceNoiseReductionContrast | 0 |
LuminanceNoiseReductionDetail | 50 |
LuminanceSmoothing | 16 |
Make | Apple |
Marked | True |
Megapixels | 2.4 |
MeteringMode | Multi-segment |
Model | iPhone 7 Plus |
ModifyDate (1) | 2017:03:26 21:51:26+02:00 |
ModifyDate | 2017:03:26 21:51:26 |
PaintCorrectionActive | true |
PaintCorrectionAmount | 1.000000 |
PaintCorrectionBrightness | 0.000000 |
PaintCorrectionClarity2012 | 0.000000 |
PaintCorrectionContrast2012 | 0.000000 |
PaintCorrectionDefringe | 0.000000 |
PaintCorrectionExposure2012 (1) | 0.289153 |
PaintCorrectionExposure2012 (2) | -0.514353 |
PaintCorrectionExposure2012 (3) | 0.170967 |
PaintCorrectionExposure2012 (4) | -0.072493 |
PaintCorrectionExposure2012 (5) | 0.310683 |
PaintCorrectionExposure2012 (6) | 0.226290 |
PaintCorrectionExposure2012 | 0.152162 |
PaintCorrectionHighlights2012 | 0.000000 |
PaintCorrectionHue | 240.000000 |
PaintCorrectionLocalBlacks2012 (1) | -0.075309 |
PaintCorrectionLocalBlacks2012 (5) | -0.267533 |
PaintCorrectionLocalBlacks2012 | 0.000000 |
PaintCorrectionLocalDehaze | 0.000000 |
PaintCorrectionLocalWhites2012 (5) | 0.355923 |
PaintCorrectionLocalWhites2012 | 0.000000 |
PaintCorrectionLuminanceNoise | 0.000000 |
PaintCorrectionMaskCenterWeight | 0.000000 |
PaintCorrectionMaskFlow | 0.527544 |
PaintCorrectionMaskRadius (1) | 0.030772 |
PaintCorrectionMaskRadius (10) | 0.030561 |
PaintCorrectionMaskRadius (11) | 0.030699 |
PaintCorrectionMaskRadius (12) | 0.030669 |
PaintCorrectionMaskRadius (13) | 0.030926 |
PaintCorrectionMaskRadius (14) | 0.031441 |
PaintCorrectionMaskRadius (15) | 0.036443 |
PaintCorrectionMaskRadius (16) | 0.036755 |
PaintCorrectionMaskRadius (17) | 0.048684 |
PaintCorrectionMaskRadius (18) | 0.049117 |
PaintCorrectionMaskRadius (19) | 0.048497 |
PaintCorrectionMaskRadius (2) | 0.030545 |
PaintCorrectionMaskRadius (20) | 0.067738 |
PaintCorrectionMaskRadius (21) | 0.067847 |
PaintCorrectionMaskRadius (22) | 0.024871 |
PaintCorrectionMaskRadius (23) | 0.024802 |
PaintCorrectionMaskRadius (24) | 0.024701 |
PaintCorrectionMaskRadius (25) | 0.024526 |
PaintCorrectionMaskRadius (26) | 0.024625 |
PaintCorrectionMaskRadius (27) | 0.024572 |
PaintCorrectionMaskRadius (3) | 0.030392 |
PaintCorrectionMaskRadius (4) | 0.024346 |
PaintCorrectionMaskRadius (5) | 0.024333 |
PaintCorrectionMaskRadius (6) | 0.024368 |
PaintCorrectionMaskRadius (7) | 0.024343 |
PaintCorrectionMaskRadius (8) | 0.030662 |
PaintCorrectionMaskRadius (9) | 0.030644 |
PaintCorrectionMaskRadius | 0.024946 |
PaintCorrectionMaskValue | 0.578658 |
PaintCorrectionMaskWhat | Mask/Paint |
PaintCorrectionMoire | 0.000000 |
PaintCorrectionSaturation | 0.000000 |
PaintCorrectionShadows2012 | 0.000000 |
PaintCorrectionSharpness | 0.000000 |
PaintCorrectionTemperature (1) | 0.292515 |
PaintCorrectionTemperature (3) | 0.218023 |
PaintCorrectionTemperature (5) | 0.207576 |
PaintCorrectionTemperature | 0.000000 |
PaintCorrectionTint (1) | 0.139444 |
PaintCorrectionTint (3) | 0.041334 |
PaintCorrectionTint | 0.000000 |
PaintCorrectionWhat | Correction |
ParametricDarks | 0 |
ParametricHighlights | 0 |
ParametricHighlightSplit | 75 |
ParametricLights | 0 |
ParametricMidtoneSplit | 50 |
ParametricShadows | 0 |
ParametricShadowSplit | 25 |
PerspectiveAspect | 0 |
PerspectiveHorizontal | 0 |
PerspectiveRotate | 0.0 |
PerspectiveScale | 100 |
PerspectiveUpright | 0 |
PerspectiveVertical | -3 |
PerspectiveX | 0.00 |
PerspectiveY | 0.00 |
PostCropVignetteAmount | -2 |
PostCropVignetteFeather | 50 |
PostCropVignetteHighlightContrast | 0 |
PostCropVignetteMidpoint | 50 |
PostCropVignetteRoundness | 0 |
PostCropVignetteStyle | 1 |
ProcessVersion | 6.7 |
ProfileDescription | sRGB IEC61966-2.1 |
Province-State | Østfold |
Rating | 5 |
RedHue | 0 |
RedSaturation | 0 |
Rights | © Hans Jørgen Lindeløff 2017 |
Saturation | +5 |
SaturationAdjustmentAqua | 0 |
SaturationAdjustmentBlue | 0 |
SaturationAdjustmentGreen | 0 |
SaturationAdjustmentMagenta | 0 |
SaturationAdjustmentOrange | 0 |
SaturationAdjustmentPurple | 0 |
SaturationAdjustmentRed | 0 |
SaturationAdjustmentYellow | 0 |
ScaleFactor35efl | 7.0 |
SceneType | Directly photographed |
SensingMethod | One-chip color area |
Shadows2012 | +100 |
ShadowTint | 0 |
SharpenDetail | 25 |
SharpenEdgeMasking | 48 |
SharpenRadius | +1.0 |
Sharpness | 71 |
ShutterSpeed | 1/200000 |
ShutterSpeedValue | 1/200000 |
Software | Adobe Photoshop Lightroom 6.9 (Macintosh) |
SplitToningBalance | -40 |
SplitToningHighlightHue | 43 |
SplitToningHighlightSaturation | 65 |
SplitToningShadowHue | 232 |
SplitToningShadowSaturation | 34 |
State | Østfold |
Subject | Fredrikstad, Solnedgang, panorama |
SubjectArea | 2015 1511 2217 1330 |
ToneCurve | 0, 0, 255, 255 |
ToneCurveBlue | 0, 0, 255, 255 |
ToneCurveGreen | 0, 0, 255, 255 |
ToneCurveName | Linear |
ToneCurveName2012 | Linear |
ToneCurvePV2012 | 0, 0, 255, 255 |
ToneCurvePV2012Blue | 0, 0, 255, 255 |
ToneCurvePV2012Green | 0, 0, 255, 255 |
ToneCurvePV2012Red | 0, 0, 255, 255 |
ToneCurveRed | 0, 0, 255, 255 |
ToneMapStrength | 0 |
Transformation | Cylindrical |
Version | 9.9 |
Vibrance | +15 |
VignetteAmount | 0 |
VirtualFocalLength | 0.730529 |
VirtualImageXCenter | 0.717896 |
VirtualImageYCenter | 0.348675 |
WhiteBalance (1) | Custom |
WhiteBalance | Auto |
Whites2012 | +36 |