Felt | Verdi |
AlreadyApplied | True |
Aperture | 8.0 |
ApertureValue | 8.0 |
ApproximateFocusDistance | 4294967295 |
Artist | Roger Holter |
AutoLateralCA | 0 |
AutoWhiteVersion | 134348800 |
BitsPerSample | 8 |
Blacks2012 | +2 |
BlueHue | 0 |
BlueSaturation | 0 |
By-line | Roger Holter |
CameraProfile | Adobe Standard |
CircGradBasedCorrActive | true |
CircGradBasedCorrAmount | 1.000000 |
CircGradBasedCorrBrightness | 0.000000 |
CircGradBasedCorrClarity2012 | 0.142860 |
CircGradBasedCorrContrast2012 (1) | 1.000000 |
CircGradBasedCorrContrast2012 | 0.595240 |
CircGradBasedCorrDefringe | 0.000000 |
CircGradBasedCorrExposure2012 (1) | -0.571500 |
CircGradBasedCorrExposure2012 | -0.262000 |
CircGradBasedCorrHighlights2012 | 1.000000 |
CircGradBasedCorrHue | 240.000000 |
CircGradBasedCorrLocalBlacks2012 (1) | 0.071430 |
CircGradBasedCorrLocalBlacks2012 | 0.428570 |
CircGradBasedCorrLocalDehaze | 0.000000 |
CircGradBasedCorrLocalWhites2012 (1) | 0.666670 |
CircGradBasedCorrLocalWhites2012 | 0.047620 |
CircGradBasedCorrLuminanceNoise | 0.400000 |
CircGradBasedCorrMaskAngle (1) | 6.064340 |
CircGradBasedCorrMaskAngle | 8.290960 |
CircGradBasedCorrMaskBottom (1) | 0.763011 |
CircGradBasedCorrMaskBottom | 0.723525 |
CircGradBasedCorrMaskFeather (1) | +92 |
CircGradBasedCorrMaskFeather | +95 |
CircGradBasedCorrMaskFlipped | true |
CircGradBasedCorrMaskLeft (1) | 0.346372 |
CircGradBasedCorrMaskLeft | -0.462578 |
CircGradBasedCorrMaskMidpoint | +50 |
CircGradBasedCorrMaskRight (1) | 1.050090 |
CircGradBasedCorrMaskRight | 0.411252 |
CircGradBasedCorrMaskRoundness | 0 |
CircGradBasedCorrMaskTop (1) | 0.495952 |
CircGradBasedCorrMaskTop | 0.365452 |
CircGradBasedCorrMaskValue | 1.000000 |
CircGradBasedCorrMaskVersion | +2 |
CircGradBasedCorrMaskWhat | Mask/CircularGradient |
CircGradBasedCorrMoire | 0.000000 |
CircGradBasedCorrSaturation | 0.000000 |
CircGradBasedCorrShadows2012 (1) | -0.904760 |
CircGradBasedCorrShadows2012 | 0.761900 |
CircGradBasedCorrSharpness | 0.238100 |
CircGradBasedCorrTemperature (1) | 0.333330 |
CircGradBasedCorrTemperature | 0.095240 |
CircGradBasedCorrTint (1) | 0.047620 |
CircGradBasedCorrTint | 0.000000 |
CircGradBasedCorrWhat | Correction |
CircleOfConfusion | 0.019 mm |
Clarity2012 | 0 |
ColorComponents | 3 |
ColorNoiseReduction | 25 |
ColorNoiseReductionDetail | 50 |
ColorNoiseReductionSmoothness | 50 |
ColorSpace | sRGB |
ColorTemperature | 5691 |
ColorTransform | YCbCr |
Contrast2012 | +5 |
ConvertToGrayscale | False |
CreateDate (1) | 2017:05:06 13:20:31.75 |
CreateDate | 2017:05:06 13:20:31 |
Creator | Roger Holter |
CreatorTool | Adobe Photoshop Lightroom 6.8 (Windows) |
CustomRendered | Normal |
DateCreated (1) | 2017:05:06 |
DateCreated | 2017:05:06 13:20:31.75 |
DateTimeOriginal | 2017:05:06 13:20:31 |
DefringeGreenAmount | 0 |
DefringeGreenHueHi | 60 |
DefringeGreenHueLo | 40 |
DefringePurpleAmount | 0 |
DefringePurpleHueHi | 70 |
DefringePurpleHueLo | 30 |
Dehaze | 0 |
DOF | inf (72.68 m - inf) |
Exposure2012 | +1.79 |
ExposureCompensation | 0 |
ExposureMode | Auto |
ExposureProgram | Aperture-priority AE |
ExposureTime | 1/1250 |
Firmware | 1.1.5 |
Flash | Off, Did not fire |
FlashCompensation | 0 |
FNumber | 8.0 |
FocalLength | 105.0 mm |
FocalLength35efl | 105.0 mm (35 mm equivalent: 166.4 mm) |
Format | image/jpeg |
FOV | 12.3 deg |
GradientBasedCorrActive | true |
GradientBasedCorrAmount | 1.000000 |
GradientBasedCorrBrightness | 0.000000 |
GradientBasedCorrClarity2012 (2) | 0.238100 |
GradientBasedCorrClarity2012 | 0.142860 |
GradientBasedCorrContrast2012 (1) | 0.857140 |
GradientBasedCorrContrast2012 (2) | -0.166670 |
GradientBasedCorrContrast2012 | -1.000000 |
GradientBasedCorrDefringe (1) | 0.285710 |
GradientBasedCorrDefringe | 0.000000 |
GradientBasedCorrExposure2012 (1) | -0.595250 |
GradientBasedCorrExposure2012 (2) | -0.190500 |
GradientBasedCorrExposure2012 | -0.309500 |
GradientBasedCorrHighlights2012 (2) | -1.000000 |
GradientBasedCorrHighlights2012 | 1.000000 |
GradientBasedCorrHue | 240.000000 |
GradientBasedCorrLocalBlacks2012 (1) | -0.285710 |
GradientBasedCorrLocalBlacks2012 (2) | -1.000000 |
GradientBasedCorrLocalBlacks2012 | -0.428570 |
GradientBasedCorrLocalDehaze | 0.000000 |
GradientBasedCorrLocalWhites2012 (1) | 0.190480 |
GradientBasedCorrLocalWhites2012 (2) | 0.285710 |
GradientBasedCorrLocalWhites2012 | 0.404760 |
GradientBasedCorrLuminanceNoise (1) | 0.333330 |
GradientBasedCorrLuminanceNoise (2) | 0.214290 |
GradientBasedCorrLuminanceNoise | 0.400000 |
GradientBasedCorrMaskFullX (1) | 0.478079 |
GradientBasedCorrMaskFullX (2) | 0.517564 |
GradientBasedCorrMaskFullX | 0.429086 |
GradientBasedCorrMaskFullY (1) | 0.399441 |
GradientBasedCorrMaskFullY (2) | 1.080450 |
GradientBasedCorrMaskFullY | 0.950324 |
GradientBasedCorrMaskValue | 1.000000 |
GradientBasedCorrMaskWhat | Mask/Gradient |
GradientBasedCorrMaskZeroX (1) | 0.481550 |
GradientBasedCorrMaskZeroX (2) | 0.522827 |
GradientBasedCorrMaskZeroX | 0.432685 |
GradientBasedCorrMaskZeroY (1) | 0.839980 |
GradientBasedCorrMaskZeroY (2) | 0.192033 |
GradientBasedCorrMaskZeroY | 0.664147 |
GradientBasedCorrMoire | 0.000000 |
GradientBasedCorrSaturation (1) | 0.380950 |
GradientBasedCorrSaturation | 0.000000 |
GradientBasedCorrShadows2012 (1) | 0.833330 |
GradientBasedCorrShadows2012 (2) | -0.119050 |
GradientBasedCorrShadows2012 | 0.761900 |
GradientBasedCorrSharpness | 0.238100 |
GradientBasedCorrTemperature (1) | 0.000000 |
GradientBasedCorrTemperature | 0.333330 |
GradientBasedCorrTint | 0.047620 |
GradientBasedCorrWhat | Correction |
GrainAmount | 0 |
GreenHue | 0 |
GreenSaturation | 0 |
HasCrop | False |
HasSettings | True |
Highlights2012 | -100 |
HueAdjustmentAqua | 0 |
HueAdjustmentBlue | 0 |
HueAdjustmentGreen | 0 |
HueAdjustmentMagenta | 0 |
HueAdjustmentOrange | 0 |
HueAdjustmentPurple | 0 |
HueAdjustmentRed | 0 |
HueAdjustmentYellow | 0 |
HyperfocalDistance | 72.68 m |
ImageHeight | 3456 |
ImageNumber | 0 |
ImageSize | 5184x3456 |
ImageWidth | 5184 |
ISO | 100 |
Lens | EF28-105mm f/3.5-4.5 USM |
LensID (1) | 156 |
LensID | Canon EF 28-105mm f/3.5-4.5 USM |
LensInfo | 28-105mm f/? |
LensManualDistortionAmount | 0 |
LensModel | EF28-105mm f/3.5-4.5 USM |
LensProfileEnable | 0 |
LensProfileSetup | LensDefaults |
LensSerialNumber | 0000000000 |
LightValue | 16.3 |
LuminanceAdjustmentAqua | 0 |
LuminanceAdjustmentBlue | 0 |
LuminanceAdjustmentGreen | 0 |
LuminanceAdjustmentMagenta | 0 |
LuminanceAdjustmentOrange | 0 |
LuminanceAdjustmentPurple | 0 |
LuminanceAdjustmentRed | 0 |
LuminanceAdjustmentYellow | 0 |
LuminanceSmoothing | 0 |
Make | Canon |
MaxApertureValue | 4.6 |
Megapixels | 17.9 |
MeteringMode | Spot |
Model | Canon EOS 700D |
ModifyDate (1) | 2017:05:06 22:13:03+02:00 |
ModifyDate | 2017:05:06 22:13:03 |
ParametricDarks | 0 |
ParametricHighlights | 0 |
ParametricHighlightSplit | 75 |
ParametricLights | 0 |
ParametricMidtoneSplit | 50 |
ParametricShadows | 0 |
ParametricShadowSplit | 25 |
PerspectiveAspect | 0 |
PerspectiveHorizontal | 0 |
PerspectiveRotate | 0.0 |
PerspectiveScale | 100 |
PerspectiveUpright | 0 |
PerspectiveVertical | 0 |
PerspectiveX | 0.00 |
PerspectiveY | 0.00 |
PostCropVignetteAmount | 0 |
ProcessVersion | 6.7 |
ProfileDescription | sRGB IEC61966-2.1 |
RecommendedExposureIndex | 100 |
RedHue | 0 |
RedSaturation | 0 |
Saturation | 0 |
SaturationAdjustmentAqua | 0 |
SaturationAdjustmentBlue | 0 |
SaturationAdjustmentGreen | 0 |
SaturationAdjustmentMagenta | 0 |
SaturationAdjustmentOrange | 0 |
SaturationAdjustmentPurple | 0 |
SaturationAdjustmentRed | 0 |
SaturationAdjustmentYellow | 0 |
ScaleFactor35efl | 1.6 |
SceneCaptureType | Standard |
SensitivityType | Recommended Exposure Index |
SerialNumber | 063031021286 |
Shadows2012 | -24 |
ShadowTint | 0 |
SharpenDetail | 25 |
SharpenEdgeMasking | 0 |
SharpenRadius | +1.0 |
Sharpness | 25 |
ShutterSpeed | 1/1250 |
ShutterSpeedValue | 1/1250 |
Software | Adobe Photoshop Lightroom 6.8 (Windows) |
SplitToningBalance | 0 |
SplitToningHighlightHue | 0 |
SplitToningHighlightSaturation | 0 |
SplitToningShadowHue | 0 |
SplitToningShadowSaturation | 0 |
Tint | +20 |
ToneCurve | 0, 0, 255, 255 |
ToneCurveBlue | 0, 0, 255, 255 |
ToneCurveGreen | 0, 0, 255, 255 |
ToneCurveName | Linear |
ToneCurveName2012 | Linear |
ToneCurvePV2012 | 0, 0, 255, 255 |
ToneCurvePV2012Blue | 0, 0, 255, 255 |
ToneCurvePV2012Green | 0, 0, 255, 255 |
ToneCurvePV2012Red | 0, 0, 255, 255 |
ToneCurveRed | 0, 0, 255, 255 |
ToneMapStrength | 0 |
Version | 9.8 |
Vibrance | 0 |
VignetteAmount | 0 |
WhiteBalance (1) | Custom |
WhiteBalance | Auto |
Whites2012 | -100 |