Felt | Verdi |
AlreadyApplied | True |
Aperture | 25.0 |
ApertureValue | 25.0 |
ApproximateFocusDistance | 0.32 |
AutoLateralCA | 0 |
BitsPerSample (1) | 8 8 8 |
BitsPerSample | 8 |
Blacks2012 | 0 |
BlueHue | 0 |
BlueSaturation | 0 |
Brightness | +50 |
CameraProfile | Adobe Standard |
CircleOfConfusion | 0.031 mm |
Clarity | 0 |
Clarity2012 | +12 |
ColorComponents | 3 |
ColorMode | RGB |
ColorNoiseReduction | 25 |
ColorNoiseReductionDetail | 50 |
ColorSpace | sRGB |
ColorTemperature | 5600 |
ColorTransform | YCbCr |
Contrast | +25 |
Contrast2012 | 0 |
ConvertToGrayscale | False |
CreateDate | 2017:05:27 15:33:45 |
CreatorTool | Adobe Photoshop CS6 (Macintosh) |
CustomRendered | Normal |
DateCreated (1) | 2017:05:27 |
DateCreated | 2017:05:27 15:33:45.024 |
DateTimeOriginal | 2017:05:27 15:33:45 |
Defringe | 0 |
DOF | 0.011 m (0.315 - 0.326 m) |
ExifImageHeight | 849 |
ExifImageWidth | 1200 |
Exposure | 0.00 |
Exposure2012 | +0.10 |
ExposureCompensation | 0 |
ExposureMode | Manual |
ExposureProgram | Manual |
ExposureTime | 1/200 |
FillLight | 0 |
Firmware | 2.1.2 |
Flash | On, Fired |
FlashCompensation | -0.5 |
FNumber | 25.0 |
FocalLength | 100.0 mm |
FocalLength35efl | 100.0 mm (35 mm equivalent: 97.6 mm) |
Format | image/jpeg |
FOV | 20.9 deg |
GrainAmount | 0 |
GreenHue | 0 |
GreenSaturation | 0 |
HasCrop | False |
HasSettings | True |
HighlightRecovery | 0 |
Highlights2012 | +1 |
HueAdjustmentAqua | 0 |
HueAdjustmentBlue | 0 |
HueAdjustmentGreen | 0 |
HueAdjustmentMagenta | 0 |
HueAdjustmentOrange | 0 |
HueAdjustmentPurple | 0 |
HueAdjustmentRed | 0 |
HueAdjustmentYellow | 0 |
HyperfocalDistance | 12.99 m |
ICCProfileName | sRGB IEC61966-2.1 |
ImageHeight (1) | 4191 |
ImageHeight | 849 |
ImageNumber | 0 |
ImageSize | 1200x849 |
ImageWidth (1) | 6144 |
ImageWidth | 1200 |
ISO | 250 |
Lens | EF100mm f/2.8L Macro IS USM |
LensID (1) | 254 |
LensID | Canon EF 100mm f/2.8L Macro IS USM |
LensInfo | 100mm f/? |
LensManualDistortionAmount | 0 |
LensModel | EF100mm f/2.8L Macro IS USM |
LensProfileEnable | 0 |
LensProfileSetup | LensDefaults |
LightValue | 15.6 |
LuminanceAdjustmentAqua | 0 |
LuminanceAdjustmentBlue | 0 |
LuminanceAdjustmentGreen | 0 |
LuminanceAdjustmentMagenta | 0 |
LuminanceAdjustmentOrange | 0 |
LuminanceAdjustmentPurple | 0 |
LuminanceAdjustmentRed | 0 |
LuminanceAdjustmentYellow | 0 |
LuminanceSmoothing | 0 |
Make | Canon |
MaxApertureValue | 2.8 |
Megapixels | 1.0 |
MeteringMode | Multi-segment |
Model | Canon EOS 5D Mark II |
ModifyDate (1) | 2017:05:24 22:28:14+02:00 |
ModifyDate | 2017:05:24 22:28:14 |
Orientation | Horizontal (normal) |
ParametricDarks | 0 |
ParametricHighlights | 0 |
ParametricHighlightSplit | 75 |
ParametricLights | 0 |
ParametricMidtoneSplit | 50 |
ParametricShadows | 0 |
ParametricShadowSplit | 25 |
PerspectiveHorizontal | 0 |
PerspectiveRotate | 0.0 |
PerspectiveScale | 100 |
PerspectiveVertical | 0 |
PhotometricInterpretation | RGB |
PostCropVignetteAmount | 0 |
ProcessVersion | 6.7 |
ProfileDescription | sRGB IEC61966-2.1 |
Rating | 0 |
RawFileName | IMG_0841.CR2 |
RedHue | 0 |
RedSaturation | 0 |
SamplesPerPixel | 3 |
Saturation | 0 |
SaturationAdjustmentAqua | 0 |
SaturationAdjustmentBlue | 0 |
SaturationAdjustmentGreen | 0 |
SaturationAdjustmentMagenta | 0 |
SaturationAdjustmentOrange | 0 |
SaturationAdjustmentPurple | 0 |
SaturationAdjustmentRed | 0 |
SaturationAdjustmentYellow | 0 |
ScaleFactor35efl | 1.0 |
SceneCaptureType | Standard |
SerialNumber | 530304310 |
Shadows | 5 |
Shadows2012 | 0 |
ShadowTint | 0 |
SharpenDetail | 25 |
SharpenEdgeMasking | 0 |
SharpenRadius | +1.0 |
Sharpness | 25 |
ShutterSpeed | 1/200 |
ShutterSpeedValue | 1/200 |
Software | Adobe Photoshop CC 2017 (Macintosh) |
SplitToningBalance | 0 |
SplitToningHighlightHue | 0 |
SplitToningHighlightSaturation | 0 |
SplitToningShadowHue | 0 |
SplitToningShadowSaturation | 0 |
Tint | 0 |
ToneCurve | 0, 0, 32, 22, 64, 56, 128, 128, 192, 196, 255, 255 |
ToneCurveBlue | 0, 0, 255, 255 |
ToneCurveGreen | 0, 0, 255, 255 |
ToneCurveName | Medium Contrast |
ToneCurveName2012 | Linear |
ToneCurvePV2012 | 0, 0, 255, 255 |
ToneCurvePV2012Blue | 0, 0, 255, 255 |
ToneCurvePV2012Green | 0, 0, 255, 255 |
ToneCurvePV2012Red | 0, 0, 255, 255 |
ToneCurveRed | 0, 0, 255, 255 |
URL_List | |
Version | 7.0 |
Vibrance | 0 |
VignetteAmount | 0 |
WhiteBalance (1) | As Shot |
WhiteBalance | Auto |
Whites2012 | -40 |