Felt | Verdi |
AlreadyApplied | True |
Aperture | 4.5 |
ApertureValue | 4.5 |
Artist | 373051003880 |
AutoLateralCA | 1 |
AutoWhiteVersion | 134348800 |
BitsPerSample | 8 |
Blacks2012 | +20 |
BlueHue | 0 |
BlueSaturation | 0 |
By-line | 373051003880 |
CameraProfile | Embedded |
CircleOfConfusion | 0.030 mm |
Clarity2012 | -10 |
ColorComponents | 3 |
ColorNoiseReduction | 20 |
ColorNoiseReductionDetail | 50 |
ColorNoiseReductionSmoothness | 50 |
ColorSpace | sRGB |
ColorTransform | YCbCr |
Contrast2012 | +18 |
ConvertToGrayscale | False |
CreateDate | 2017:07:17 19:12:39 |
Creator | 373051003880 |
CreatorTool | Adobe Photoshop Lightroom 5.7.1 (Macintosh) |
CropAngle | 0 |
CropBottom | 1 |
CropConstrainToWarp | 0 |
CropLeft | 0 |
CropRight | 0.971826 |
CropTop | 0.031045 |
CustomRendered | Normal |
DateCreated (1) | 2017:07:17 |
DateCreated | 2017:07:17 19:12:39 |
DateTimeOriginal | 2017:07:17 19:12:39 |
DefringeGreenAmount | 0 |
DefringeGreenHueHi | 60 |
DefringeGreenHueLo | 40 |
DefringePurpleAmount | 0 |
DefringePurpleHueHi | 70 |
DefringePurpleHueLo | 30 |
Exposure2012 | -0.20 |
ExposureCompensation | 0 |
ExposureMode | Manual |
ExposureProgram | Manual |
ExposureTime | 1/40 |
Firmware | Firmware Version 1.1.6 |
Flash | Off, Did not fire |
FlashCompensation | 0 |
FNumber | 4.5 |
FocalLength | 30.0 mm |
FocalLength35efl | 30.0 mm (35 mm equivalent: 30.5 mm) |
Format | image/jpeg |
FOV | 61.1 deg |
GrainAmount | 0 |
GreenHue | 0 |
GreenSaturation | 0 |
HasCrop | True |
HasExtendedXMP | ECB2F0F7FC0BEEDA9EA347AD14561E30 |
HasSettings | True |
Highlights2012 | +28 |
HueAdjustmentAqua | 0 |
HueAdjustmentBlue | 0 |
HueAdjustmentGreen | 0 |
HueAdjustmentMagenta | 0 |
HueAdjustmentOrange | 0 |
HueAdjustmentPurple | 0 |
HueAdjustmentRed | 0 |
HueAdjustmentYellow | 0 |
HyperfocalDistance | 6.77 m |
ImageHeight | 3535 |
ImageSize | 5318x3535 |
ImageWidth | 5318 |
IncrementalTemperature | 0 |
IncrementalTint | 0 |
ISO | 640 |
Lens | Canon EF 24-70mm f/2.8L II USM |
LensID (1) | 495 |
LensID | Canon EF 24-70mm f/2.8L II USM |
LensInfo | 24-70mm f/? |
LensManualDistortionAmount | 0 |
LensModel | Canon EF 24-70mm f/2.8L II USM |
LensProfileChromaticAberrationScale | 100 |
LensProfileDistortionScale | 100 |
LensProfileEnable | 1 |
LensProfileFilename | Canon EOS-1Ds Mark III (Canon EF 24-70mm f2.8 L USM).lcp |
LensProfileName | Adobe (Canon EF 24-70mm f/2.8 L USM) |
LensProfileSetup | Custom |
LensProfileVignettingScale | 100 |
LensSerialNumber | 3630000901 |
LightValue | 7.0 |
LuminanceAdjustmentAqua | +21 |
LuminanceAdjustmentBlue | +31 |
LuminanceAdjustmentGreen | +37 |
LuminanceAdjustmentMagenta | +10 |
LuminanceAdjustmentOrange | +18 |
LuminanceAdjustmentPurple | +23 |
LuminanceAdjustmentRed | +25 |
LuminanceAdjustmentYellow | +13 |
LuminanceNoiseReductionContrast | 27 |
LuminanceNoiseReductionDetail | 50 |
LuminanceSmoothing | 27 |
Make | Canon |
MaxApertureValue | 2.7 |
Megapixels | 18.8 |
MeteringMode | Multi-segment |
Model | Canon EOS 6D |
ModifyDate (1) | 2017:07:19 09:02:57+02:00 |
ModifyDate | 2017:07:19 09:02:57 |
OwnerName | 373051003880 |
PaintCorrectionActive | true |
PaintCorrectionAmount | 1.000000 |
PaintCorrectionBrightness | 0.000000 |
PaintCorrectionClarity2012 (1) | 0.478931 |
PaintCorrectionClarity2012 (2) | 0.599192 |
PaintCorrectionClarity2012 (3) | 0.678919 |
PaintCorrectionClarity2012 | 0.521594 |
PaintCorrectionContrast2012 (1) | 0.534359 |
PaintCorrectionContrast2012 (3) | 0.870186 |
PaintCorrectionContrast2012 | 0.668539 |
PaintCorrectionDefringe (1) | -0.000702 |
PaintCorrectionDefringe (3) | -0.001143 |
PaintCorrectionDefringe | -0.000878 |
PaintCorrectionExposure2012 (1) | 0.251534 |
PaintCorrectionExposure2012 (3) | 0.409615 |
PaintCorrectionExposure2012 | 0.314695 |
PaintCorrectionHighlights2012 (1) | 0.052482 |
PaintCorrectionHighlights2012 (3) | 0.085465 |
PaintCorrectionHighlights2012 | 0.065660 |
PaintCorrectionHue | 43.523399 |
PaintCorrectionLuminanceNoise | 0.000000 |
PaintCorrectionMaskCenterWeight | 0.308387 |
PaintCorrectionMaskFlow | 0.111439 |
PaintCorrectionMaskRadius (1) | 0.016582 |
PaintCorrectionMaskRadius (2) | 0.016595 |
PaintCorrectionMaskRadius (3) | 0.016726 |
PaintCorrectionMaskRadius (4) | 0.016797 |
PaintCorrectionMaskRadius (5) | 0.016597 |
PaintCorrectionMaskRadius (6) | 0.016815 |
PaintCorrectionMaskRadius | 0.016709 |
PaintCorrectionMaskValue | 0.000000 |
PaintCorrectionMaskWhat | Mask/Paint |
PaintCorrectionMoire | 0.000000 |
PaintCorrectionSaturation (1) | 0.496682 |
PaintCorrectionSaturation (3) | 0.358058 |
PaintCorrectionSaturation (5) | 0.943541 |
PaintCorrectionSaturation (9) | 0.378072 |
PaintCorrectionSaturation | 0.000000 |
PaintCorrectionShadows2012 (1) | 0.150008 |
PaintCorrectionShadows2012 (2) | 0.187676 |
PaintCorrectionShadows2012 (3) | 0.471884 |
PaintCorrectionShadows2012 | 0.362535 |
PaintCorrectionSharpness (1) | 0.363443 |
PaintCorrectionSharpness (2) | 0.454705 |
PaintCorrectionSharpness (3) | 0.486509 |
PaintCorrectionSharpness | 0.373771 |
PaintCorrectionTemperature (1) | 0.001543 |
PaintCorrectionTemperature (3) | 0.002513 |
PaintCorrectionTemperature | 0.001931 |
PaintCorrectionTint | 0.000000 |
PaintCorrectionWhat | Correction |
ParametricDarks | -4 |
ParametricHighlights | +19 |
ParametricHighlightSplit | 75 |
ParametricLights | +26 |
ParametricMidtoneSplit | 50 |
ParametricShadows | +17 |
ParametricShadowSplit | 25 |
PerspectiveAspect | 0 |
PerspectiveHorizontal | 0 |
PerspectiveRotate | 0.0 |
PerspectiveScale | 100 |
PerspectiveUpright | 1 |
PerspectiveVertical | 0 |
PostCropVignetteAmount | 0 |
ProcessVersion | 6.7 |
ProfileDescription | sRGB IEC61966-2.1 |
RedHue | 0 |
RedSaturation | 0 |
Saturation | 0 |
SaturationAdjustmentAqua | +24 |
SaturationAdjustmentBlue | +41 |
SaturationAdjustmentGreen | +18 |
SaturationAdjustmentMagenta | +24 |
SaturationAdjustmentOrange | +18 |
SaturationAdjustmentPurple | +20 |
SaturationAdjustmentRed | +29 |
SaturationAdjustmentYellow | +16 |
ScaleFactor35efl | 1.0 |
SceneCaptureType | Standard |
SerialNumber | 373051003880 |
Shadows2012 | +12 |
ShadowTint | 0 |
SharpenDetail | 67 |
SharpenEdgeMasking | 0 |
SharpenRadius | +1.0 |
Sharpness | 101 |
ShutterSpeed | 1/40 |
ShutterSpeedValue | 1/40 |
Software | Adobe Photoshop Lightroom 5.7.1 (Macintosh) |
SplitToningBalance | 0 |
SplitToningHighlightHue | 0 |
SplitToningHighlightSaturation | 0 |
SplitToningShadowHue | 0 |
SplitToningShadowSaturation | 0 |
ToneCurve | 0, 0, 255, 255 |
ToneCurveBlue | 0, 0, 255, 255 |
ToneCurveGreen | 0, 0, 255, 255 |
ToneCurveName | Linear |
ToneCurveName2012 | Custom |
ToneCurvePV2012 | 0, 0, 68, 70, 139, 137, 201, 178, 255, 255 |
ToneCurvePV2012Blue | 0, 0, 255, 255 |
ToneCurvePV2012Green | 0, 0, 255, 255 |
ToneCurvePV2012Red | 0, 0, 255, 255 |
ToneCurveRed | 0, 0, 255, 255 |
Version | 8.7.1 |
Vibrance | 0 |
VignetteAmount | 0 |
WhiteBalance (1) | As Shot |
WhiteBalance | Auto |
Whites2012 | +34 |