Felt | Verdi |
AlreadyApplied | True |
Aperture | 5.6 |
ApertureValue | 5.6 |
AutoLateralCA | 1 |
AutoWhiteVersion | 134348800 |
BitsPerSample | 8 |
Blacks2012 | -20 |
BlueHue | 0 |
BlueSaturation | 0 |
BrightnessValue | 8.11 |
CameraProfile | Adobe Standard |
CircleOfConfusion | 0.020 mm |
Clarity2012 | +50 |
ColorComponents | 3 |
ColorNoiseReduction | 25 |
ColorNoiseReductionDetail | 50 |
ColorNoiseReductionSmoothness | 50 |
ColorSpace | sRGB |
ColorTemperature | 5000 |
ColorTransform | YCbCr |
Contrast2012 | +5 |
ConvertToGrayscale | True |
CreateDate | 2017:07:20 12:01:48 |
CreatorTool | Adobe Photoshop Lightroom 6.12 (Macintosh) |
CropAngle | 0 |
CropBottom | 1 |
CropConstrainToWarp | 0 |
CropLeft | 0.041259 |
CropRight | 0.984885 |
CropTop | 0.056374 |
CustomRendered | Normal |
DateCreated (1) | 2017:07:20 |
DateCreated | 2017:07:20 12:01:48 |
DateTimeOriginal | 2017:07:20 12:01:48 |
Dehaze | 0 |
DistortionCorrectionAlreadyApplied | True |
Exposure2012 | 0.00 |
ExposureCompensation | -0.33 |
ExposureMode | Auto |
ExposureProgram | Program AE |
ExposureTime | 1/450 |
Flash | Off, Did not fire |
FNumber | 5.6 |
FocalLength | 60.0 mm |
FocalLength35efl | 60.0 mm (35 mm equivalent: 90.0 mm) |
FocalLengthIn35mmFormat | 90 mm |
Format | image/jpeg |
FOV | 22.6 deg |
GrainAmount | 0 |
GrayMixerAqua | -18 |
GrayMixerBlue | +10 |
GrayMixerGreen | -27 |
GrayMixerMagenta | +4 |
GrayMixerOrange | -19 |
GrayMixerPurple | +16 |
GrayMixerRed | -10 |
GrayMixerYellow | -23 |
GreenHue | 0 |
GreenSaturation | 0 |
HasCrop | True |
HasSettings | True |
Highlights2012 | 0 |
HyperfocalDistance | 32.09 m |
ImageHeight | 1600 |
ImageSize | 2400x1600 |
ImageWidth | 2400 |
ISO | 200 |
LateralChromaticAberrationCorrectionAlreadyApplied | True |
Lens | XF60mmF2.4 R Macro |
LensInfo | 60mm f/2.4 |
LensMake | FUJIFILM |
LensManualDistortionAmount | 0 |
LensModel | XF60mmF2.4 R Macro |
LensProfileChromaticAberrationScale | 100 |
LensProfileDistortionScale | 100 |
LensProfileEnable | 1 |
LensProfileFilename | Fujifilm (Fujifilm FUJINON 55mm f2.2 M42) - RAW.lcp |
LensProfileName | Adobe (Fujifilm FUJINON 55mm f/2.2 M42) |
LensProfileSetup | Custom |
LensProfileVignettingScale | 100 |
LensSerialNumber | 21A05423 |
LightSource | Unknown |
LightValue | 12.8 |
LuminanceSmoothing | 0 |
Make | FUJIFILM |
MaxApertureValue | 2.4 |
Megapixels | 3.8 |
MeteringMode | Multi-segment |
Model | X-M1 |
ModifyDate (1) | 2017:08:03 18:41:46+02:00 |
ModifyDate | 2017:08:03 18:41:46 |
ParametricDarks | -5 |
ParametricHighlights | 0 |
ParametricHighlightSplit | 75 |
ParametricLights | 0 |
ParametricMidtoneSplit | 50 |
ParametricShadows | 0 |
ParametricShadowSplit | 25 |
PerspectiveAspect | 0 |
PerspectiveHorizontal | 0 |
PerspectiveRotate | 0.0 |
PerspectiveScale | 100 |
PerspectiveUpright | 1 |
PerspectiveVertical | 0 |
PerspectiveX | 0.00 |
PerspectiveY | 0.00 |
PostCropVignetteAmount | 0 |
ProcessVersion | 6.7 |
ProfileDescription | sRGB IEC61966-2.1 |
RedHue | 0 |
RedSaturation | 0 |
ScaleFactor35efl | 1.5 |
SceneCaptureType | Standard |
SceneType | Directly photographed |
SensingMethod | One-chip color area |
SensitivityType | Standard Output Sensitivity |
Shadows2012 | -25 |
ShadowTint | 0 |
SharpenDetail | 70 |
SharpenEdgeMasking | 70 |
SharpenRadius | +0.9 |
Sharpness (1) | 87 |
Sharpness | Hard |
ShutterSpeed | 1/450 |
ShutterSpeedValue | 1/450 |
Software | Adobe Photoshop Lightroom 6.12 (Macintosh) |
SplitToningBalance | 0 |
SplitToningHighlightHue | 0 |
SplitToningHighlightSaturation | 0 |
SplitToningShadowHue | 0 |
SplitToningShadowSaturation | 0 |
SubjectDistanceRange | Unknown |
Tint | +11 |
ToneCurve | 0, 0, 255, 255 |
ToneCurveBlue | 0, 0, 255, 255 |
ToneCurveGreen | 0, 0, 255, 255 |
ToneCurveName | Linear |
ToneCurveName2012 | Linear |
ToneCurvePV2012 | 0, 0, 255, 255 |
ToneCurvePV2012Blue | 0, 0, 255, 255 |
ToneCurvePV2012Green | 0, 0, 255, 255 |
ToneCurvePV2012Red | 0, 0, 255, 255 |
ToneCurveRed | 0, 0, 255, 255 |
ToneMapStrength | 0 |
Version | 9.12 |
VignetteAmount | 0 |
VignetteCorrectionAlreadyApplied | True |
WhiteBalance (1) | As Shot |
WhiteBalance | Auto |
Whites2012 | +51 |