Felt | Verdi |
AlreadyApplied | True |
Aperture | 4.5 |
ApertureValue | 4.5 |
Artist | P.M.SMORVIK |
AutoLateralCA | 1 |
AutoWhiteVersion | 134348800 |
BitsPerSample | 8 |
Blacks2012 | -20 |
BlueHue | 0 |
BlueSaturation | 0 |
By-line | P.M.SMORVIK |
CameraProfile | Embedded |
CircleOfConfusion | 0.020 mm |
Clarity2012 | +50 |
ColorComponents | 3 |
ColorNoiseReduction | 0 |
ColorSpace | sRGB |
ColorTransform | YCbCr |
Contrast | Normal |
Contrast2012 | +5 |
ConvertToGrayscale | True |
Copyright | P.M.SMORVIK |
CopyrightNotice | P.M.SMORVIK |
CreateDate | 2017:08:12 21:07:49 |
Creator | P.M.SMORVIK |
CreatorTool | Adobe Photoshop Lightroom 6.12 (Macintosh) |
CropAngle | 0 |
CropBottom | 0.812463 |
CropConstrainToWarp | 0 |
CropLeft | 0 |
CropRight | 0.810004 |
CropTop | 0.002459 |
CustomRendered | Normal |
DateCreated (1) | 2017:08:12 |
DateCreated | 2017:08:12 21:07:49 |
DateTimeOriginal | 2017:08:12 21:07:49 |
Dehaze | 0 |
Exposure2012 | 0.00 |
ExposureCompensation | 0 |
ExposureMode | Auto |
ExposureProgram | Not Defined |
ExposureTime | 1/200 |
Flash | Off, Did not fire |
FNumber | 4.5 |
FocalLength | 18.0 mm |
FocalLength35efl | 18.0 mm (35 mm equivalent: 27.0 mm) |
FocalLengthIn35mmFormat | 27 mm |
Format | image/jpeg |
FOV | 67.4 deg |
GrainAmount | 0 |
GrayMixerAqua | -18 |
GrayMixerBlue | +10 |
GrayMixerGreen | -27 |
GrayMixerMagenta | +4 |
GrayMixerOrange | -19 |
GrayMixerPurple | +16 |
GrayMixerRed | -10 |
GrayMixerYellow | -23 |
GreenHue | 0 |
GreenSaturation | 0 |
HasCrop | True |
HasSettings | True |
Highlights2012 | 0 |
HyperfocalDistance | 3.59 m |
ImageHeight | 1596 |
ImageSize | 2400x1596 |
ImageWidth | 2400 |
IncrementalTemperature | 0 |
IncrementalTint | 0 |
ISO | 1600 |
LateralChromaticAberrationCorrectionAlreadyApplied | True |
Lens | smc PENTAX-DA 18-135mm F3.5-5.6 ED AL [IF] DC WR |
LensID (1) | 2263 |
LensID | smc PENTAX-DA 18-135mm F3.5-5.6 ED AL [IF] DC WR |
LensManualDistortionAmount | 0 |
LensModel | smc PENTAX-DA 18-135mm F3.5-5.6 ED AL [IF] DC WR |
LensProfileEnable | 1 |
LensProfileSetup | LensDefaults |
LightValue | 8.0 |
LuminanceSmoothing | 0 |
Make | RICOH IMAGING COMPANY, LTD. |
MaxApertureValue | 105.9 |
Megapixels | 3.8 |
MeteringMode | Center-weighted average |
Model | PENTAX K-3 |
ModifyDate (1) | 2017:08:15 22:43:55+02:00 |
ModifyDate | 2017:08:15 22:43:55 |
ParametricDarks | -5 |
ParametricHighlights | 0 |
ParametricHighlightSplit | 75 |
ParametricLights | 0 |
ParametricMidtoneSplit | 50 |
ParametricShadows | 0 |
ParametricShadowSplit | 25 |
PerspectiveAspect | 0 |
PerspectiveHorizontal | 0 |
PerspectiveRotate | 0.0 |
PerspectiveScale | 100 |
PerspectiveUpright | 1 |
PerspectiveVertical | 0 |
PerspectiveX | 0.00 |
PerspectiveY | 0.00 |
PostCropVignetteAmount | 0 |
ProcessVersion | 6.7 |
ProfileDescription | sRGB IEC61966-2.1 |
RedHue | 0 |
RedSaturation | 0 |
Rights | P.M.SMORVIK |
Saturation | Normal |
ScaleFactor35efl | 1.5 |
SceneCaptureType | Standard |
SensingMethod | One-chip color area |
SensitivityType | Standard Output Sensitivity |
SerialNumber | 7034802 |
Shadows2012 | -25 |
ShadowTint | 0 |
SharpenDetail | 70 |
SharpenEdgeMasking | 70 |
SharpenRadius | +0.9 |
Sharpness (1) | 87 |
Sharpness | Hard |
ShutterSpeed | 1/200 |
ShutterSpeedValue | 1/200 |
Software | Adobe Photoshop Lightroom 6.12 (Macintosh) |
SplitToningBalance | 0 |
SplitToningHighlightHue | 0 |
SplitToningHighlightSaturation | 0 |
SplitToningShadowHue | 0 |
SplitToningShadowSaturation | 0 |
StandardOutputSensitivity | 1600 |
SubjectDistanceRange | Close |
ToneCurve | 0, 0, 255, 255 |
ToneCurveBlue | 0, 0, 255, 255 |
ToneCurveGreen | 0, 0, 255, 255 |
ToneCurveName | Linear |
ToneCurveName2012 | Linear |
ToneCurvePV2012 | 0, 0, 255, 255 |
ToneCurvePV2012Blue | 0, 0, 255, 255 |
ToneCurvePV2012Green | 0, 0, 255, 255 |
ToneCurvePV2012Red | 0, 0, 255, 255 |
ToneCurveRed | 0, 0, 255, 255 |
ToneMapStrength | 0 |
Version | 9.12 |
VignetteAmount | 0 |
WhiteBalance (1) | As Shot |
WhiteBalance | Auto |
Whites2012 | +51 |