Felt | Verdi |
AlreadyApplied | True |
Aperture | 2.8 |
ApertureValue | 2.8 |
ApproximateFocusDistance | 33.5 |
AutoLateralCA | 0 |
AutoWhiteVersion | 134348800 |
BitsPerSample | 8 |
Blacks2012 | +6 |
BlueHue | -15 |
BlueSaturation | +25 |
CameraProfile | Adobe Standard |
CFAPattern | [Red,Green][Green,Blue] |
CircleOfConfusion | 0.030 mm |
Clarity2012 | -9 |
ColorComponents | 3 |
ColorNoiseReduction | 25 |
ColorNoiseReductionDetail | 50 |
ColorNoiseReductionSmoothness | 50 |
ColorTemperature | 4400 |
ColorTransform | YCbCr |
Contrast | Normal |
Contrast2012 | -22 |
ConvertToGrayscale | False |
CreateDate (1) | 2016:12:09 10:40:58.00 |
CreateDate | 2016:12:09 10:40:58 |
CreatorTool | Adobe Photoshop Lightroom 6.4 (Macintosh) |
CropAngle | 0 |
CropBottom | 0.98546 |
CropConstrainToWarp | 0 |
CropLeft | 0.011348 |
CropRight | 0.619734 |
CropTop | 0.301769 |
CustomRendered | Normal |
DateCreated (1) | 2016:12:09 |
DateCreated | 2016:12:09 10:40:58.00 |
DateTimeOriginal | 2016:12:09 10:40:58 |
DefringeGreenAmount | 0 |
DefringeGreenHueHi | 60 |
DefringeGreenHueLo | 40 |
DefringePurpleAmount | 0 |
DefringePurpleHueHi | 70 |
DefringePurpleHueLo | 30 |
Dehaze | 0 |
DigitalZoomRatio | 1 |
DOF | 57.35 m (21.28 - 78.63 m) |
Exposure2012 | 0.00 |
ExposureCompensation | 0 |
ExposureMode | Manual |
ExposureProgram | Manual |
ExposureTime | 1/60 |
Flash | Off, Did not fire |
FNumber | 2.8 |
FocalLength | 70.0 mm |
FocalLength35efl | 70.0 mm (35 mm equivalent: 70.0 mm) |
FocalLengthIn35mmFormat | 70 mm |
Format | image/jpeg |
FOV | 28.8 deg |
GainControl | Low gain up |
GradientBasedCorrActive | true |
GradientBasedCorrAmount | 1.000000 |
GradientBasedCorrBrightness | 0.000000 |
GradientBasedCorrClarity2012 | 0.000000 |
GradientBasedCorrContrast2012 (1) | 0.000000 |
GradientBasedCorrContrast2012 | -0.217098 |
GradientBasedCorrDefringe | 0.000000 |
GradientBasedCorrExposure2012 (1) | -0.130957 |
GradientBasedCorrExposure2012 | 0.056810 |
GradientBasedCorrHighlights2012 | 0.000000 |
GradientBasedCorrHue | 240.000000 |
GradientBasedCorrLocalBlacks2012 (1) | 0.058391 |
GradientBasedCorrLocalBlacks2012 | -0.030678 |
GradientBasedCorrLocalDehaze | 0.000000 |
GradientBasedCorrLocalWhites2012 (1) | 0.235956 |
GradientBasedCorrLocalWhites2012 | 0.000000 |
GradientBasedCorrLuminanceNoise | 0.000000 |
GradientBasedCorrMaskFullX (1) | 0.483093 |
GradientBasedCorrMaskFullX | 0.448074 |
GradientBasedCorrMaskFullY (1) | 1.076140 |
GradientBasedCorrMaskFullY | 0.042465 |
GradientBasedCorrMaskValue | 1.000000 |
GradientBasedCorrMaskWhat | Mask/Gradient |
GradientBasedCorrMaskZeroX (1) | 0.472037 |
GradientBasedCorrMaskZeroX | 0.445132 |
GradientBasedCorrMaskZeroY (1) | 0.447380 |
GradientBasedCorrMaskZeroY | 0.275126 |
GradientBasedCorrMoire | 0.000000 |
GradientBasedCorrSaturation (3) | 0.010883 |
GradientBasedCorrSaturation | 0.000000 |
GradientBasedCorrShadows2012 (1) | 0.000000 |
GradientBasedCorrShadows2012 | 0.105536 |
GradientBasedCorrSharpness | 0.000000 |
GradientBasedCorrTemperature | 0.000000 |
GradientBasedCorrTint | 0.000000 |
GradientBasedCorrWhat | Correction |
GrainAmount | 0 |
GreenHue | +11 |
GreenSaturation | -37 |
HasCrop | True |
HasSettings | True |
Highlights2012 | -25 |
HueAdjustmentAqua | 0 |
HueAdjustmentBlue | +3 |
HueAdjustmentGreen | -73 |
HueAdjustmentMagenta | +15 |
HueAdjustmentOrange | -2 |
HueAdjustmentPurple | +30 |
HueAdjustmentRed | +8 |
HueAdjustmentYellow | +3 |
HyperfocalDistance | 58.24 m |
ImageHeight | 3072 |
ImageNumber | 158114 |
ImageSize | 4096x3072 |
ImageWidth | 4096 |
ISO | 400 |
Lens | 24.0-70.0 mm f/2.8 |
LensID (1) | 254 |
LensID | Tamron SP 24-70mm f/2.8 Di VC USD (A007) |
LensInfo | 24-70mm f/2.8 |
LensManualDistortionAmount | 0 |
LensModel | 24.0-70.0 mm f/2.8 |
LensProfileChromaticAberrationScale | 100 |
LensProfileDistortionScale | 100 |
LensProfileEnable | 1 |
LensProfileFilename | NIKON CORPORATION (TAMRON SP 24-70mm F_2.8 Di VC USD A007N) - RAW.lcp |
LensProfileName | Adobe (TAMRON SP 24-70mm F/2.8 Di VC USD A007N, NIKON CORPORATION) |
LensProfileSetup | LensDefaults |
LensProfileVignettingScale | 100 |
LightSource | Unknown |
LightValue | 6.9 |
LuminanceAdjustmentAqua | 0 |
LuminanceAdjustmentBlue | +4 |
LuminanceAdjustmentGreen | -15 |
LuminanceAdjustmentMagenta | -25 |
LuminanceAdjustmentOrange | 0 |
LuminanceAdjustmentPurple | -10 |
LuminanceAdjustmentRed | -20 |
LuminanceAdjustmentYellow | 0 |
LuminanceSmoothing | 0 |
Make | NIKON CORPORATION |
MaxApertureValue | 2.8 |
Megapixels | 12.6 |
MeteringMode | Multi-segment |
Model | NIKON D800 |
ModifyDate (1) | 2017:08:20 15:32:31+02:00 |
ModifyDate | 2017:08:20 15:32:31 |
PaintCorrectionActive | true |
PaintCorrectionAmount | 1.000000 |
PaintCorrectionBrightness | 0.000000 |
PaintCorrectionClarity2012 | 0.000000 |
PaintCorrectionContrast2012 | -0.597995 |
PaintCorrectionDefringe | 0.000000 |
PaintCorrectionExposure2012 | 0.000000 |
PaintCorrectionHighlights2012 | 0.095376 |
PaintCorrectionHue | 0.000000 |
PaintCorrectionLocalBlacks2012 | -0.017160 |
PaintCorrectionLocalDehaze | 0.000000 |
PaintCorrectionLocalWhites2012 | 0.000000 |
PaintCorrectionLuminanceNoise | 0.000000 |
PaintCorrectionMaskCenterWeight | 0.157317 |
PaintCorrectionMaskFlow (1) | 0.501818 |
PaintCorrectionMaskFlow | 0.732877 |
PaintCorrectionMaskRadius (1) | 0.054537 |
PaintCorrectionMaskRadius (10) | 0.053351 |
PaintCorrectionMaskRadius (2) | 0.053188 |
PaintCorrectionMaskRadius (3) | 0.053300 |
PaintCorrectionMaskRadius (4) | 0.053441 |
PaintCorrectionMaskRadius (5) | 0.053420 |
PaintCorrectionMaskRadius (6) | 0.054186 |
PaintCorrectionMaskRadius (7) | 0.054781 |
PaintCorrectionMaskRadius (8) | 0.054706 |
PaintCorrectionMaskRadius (9) | 0.053623 |
PaintCorrectionMaskRadius | 0.053164 |
PaintCorrectionMaskValue | 0.783633 |
PaintCorrectionMaskWhat | Mask/Paint |
PaintCorrectionMoire | 0.000000 |
PaintCorrectionSaturation | 0.000000 |
PaintCorrectionShadows2012 | 0.000000 |
PaintCorrectionSharpness | 0.000000 |
PaintCorrectionTemperature | 0.000000 |
PaintCorrectionTint | 0.000000 |
PaintCorrectionWhat | Correction |
ParametricDarks | 0 |
ParametricHighlights | 0 |
ParametricHighlightSplit | 75 |
ParametricLights | 0 |
ParametricMidtoneSplit | 60 |
ParametricShadows | +45 |
ParametricShadowSplit | 14 |
PerspectiveAspect | 0 |
PerspectiveHorizontal | 0 |
PerspectiveRotate | 0.0 |
PerspectiveScale | 100 |
PerspectiveUpright | 0 |
PerspectiveVertical | 0 |
PostCropVignetteAmount | 0 |
ProcessVersion | 6.7 |
ProfileDescription | sRGB IEC61966-2.1 |
Rating | 4 |
RedHue | +10 |
RedSaturation | 0 |
Saturation (1) | 0 |
Saturation | Normal |
SaturationAdjustmentAqua | -15 |
SaturationAdjustmentBlue | -10 |
SaturationAdjustmentGreen | -30 |
SaturationAdjustmentMagenta | -20 |
SaturationAdjustmentOrange | -5 |
SaturationAdjustmentPurple | -10 |
SaturationAdjustmentRed | -10 |
SaturationAdjustmentYellow | +24 |
ScaleFactor35efl | 1.0 |
SceneCaptureType | Standard |
SceneType | Directly photographed |
SensingMethod | One-chip color area |
SensitivityType | Recommended Exposure Index |
SerialNumber | 6039932 |
Shadows2012 | +24 |
ShadowTint | 0 |
SharpenDetail | 25 |
SharpenEdgeMasking | 57 |
SharpenRadius | +1.2 |
Sharpness (1) | 0 |
Sharpness | Normal |
ShutterSpeed | 1/60 |
ShutterSpeedValue | 1/60 |
Software | Adobe Photoshop Lightroom 6.4 (Macintosh) |
SplitToningBalance | 0 |
SplitToningHighlightHue | 299 |
SplitToningHighlightSaturation | 11 |
SplitToningShadowHue | 63 |
SplitToningShadowSaturation | 17 |
SubjectDistanceRange | Unknown |
Tint | -1 |
ToneCurve | 0, 0, 255, 255 |
ToneCurveBlue | 0, 0, 255, 255 |
ToneCurveGreen | 0, 0, 255, 255 |
ToneCurveName | Linear |
ToneCurveName2012 | August |
ToneCurvePV2012 | 0, 47, 52, 56, 128, 128, 196, 190, 255, 255 |
ToneCurvePV2012Blue | 0, 0, 40, 26, 119, 124, 181, 200, 255, 255 |
ToneCurvePV2012Green | 0, 0, 40, 25, 119, 125, 184, 197, 255, 255 |
ToneCurvePV2012Red | 0, 0, 40, 26, 119, 123, 185, 195, 255, 255 |
ToneCurveRed | 0, 0, 255, 255 |
ToneMapStrength | 0 |
Version | 9.4 |
Vibrance | 0 |
VignetteAmount | 0 |
WhiteBalance (1) | As Shot |
WhiteBalance | Auto |
Whites2012 | -10 |