Felt | Verdi |
AlreadyApplied | True |
Aperture | 5.6 |
ApertureValue | 5.6 |
ApproximateFocusDistance | 4 |
Artist | P.M.SMORVIK |
AutoLateralCA | 1 |
AutoWhiteVersion | 134348800 |
BitsPerSample | 8 |
Blacks2012 | -12 |
BlueHue | 0 |
BlueSaturation | 0 |
By-line | P.M.SMORVIK |
CameraProfile | Adobe Standard |
CircleOfConfusion | 0.020 mm |
Clarity2012 | +24 |
ColorComponents | 3 |
ColorNoiseReduction | 25 |
ColorNoiseReductionDetail | 50 |
ColorNoiseReductionSmoothness | 50 |
ColorSpace | sRGB |
ColorTemperature | 4800 |
ColorTransform | YCbCr |
Contrast | Normal |
Contrast2012 | +5 |
ConvertToGrayscale | True |
Copyright | P.M.SMORVIK |
CopyrightNotice | P.M.SMORVIK |
CreateDate | 2017:07:29 18:32:15 |
Creator | P.M.SMORVIK |
CreatorTool | Adobe Photoshop Lightroom 6.12 (Macintosh) |
CropAngle | 0 |
CropBottom | 1 |
CropConstrainToWarp | 0 |
CropLeft | 0 |
CropRight | 0.933631 |
CropTop | 0.066369 |
CustomRendered | Normal |
DateCreated (1) | 2017:07:29 |
DateCreated | 2017:07:29 18:32:15 |
DateTimeOriginal | 2017:07:29 18:32:15 |
Dehaze | 0 |
DistortionCorrectionAlreadyApplied | True |
DOF | 0.35 m (3.83 - 4.18 m) |
Exposure2012 | 0.00 |
ExposureCompensation | 0 |
ExposureMode | Auto |
ExposureProgram | Program AE |
ExposureTime | 1/160 |
Flash | Off, Did not fire |
FNumber | 5.6 |
FocalLength | 100.0 mm |
FocalLength35efl | 100.0 mm (35 mm equivalent: 150.0 mm) |
FocalLengthIn35mmFormat | 150 mm |
Format | image/jpeg |
FOV | 13.7 deg |
GrainAmount | 0 |
GrayMixerAqua | -19 |
GrayMixerBlue | +8 |
GrayMixerGreen | -26 |
GrayMixerMagenta | +5 |
GrayMixerOrange | -17 |
GrayMixerPurple | +15 |
GrayMixerRed | -8 |
GrayMixerYellow | -21 |
GreenHue | 0 |
GreenSaturation | 0 |
HasCrop | True |
HasSettings | True |
Highlights2012 | -22 |
HyperfocalDistance | 89.15 m |
ImageHeight | 1596 |
ImageSize | 2400x1596 |
ImageWidth | 2400 |
ISO | 200 |
LateralChromaticAberrationCorrectionAlreadyApplied | True |
Lens | smc PENTAX-DA 18-135mm F3.5-5.6 ED AL[IF] DC WR |
LensID (1) | 8 215 |
LensID | smc PENTAX-DA 18-135mm F3.5-5.6 ED AL [IF] DC WR |
LensInfo | 18-135mm f/3.5-5.6 |
LensManualDistortionAmount | 0 |
LensModel | smc PENTAX-DA 18-135mm F3.5-5.6 ED AL[IF] DC WR |
LensProfileChromaticAberrationScale | 100 |
LensProfileDistortionScale | 100 |
LensProfileEnable | 1 |
LensProfileFilename | PENTAX (smc PENTAX-DA 18-135mm F3.5-5.6 ED AL[IF] DC WR) - RAW.lcp |
LensProfileName | Adobe (smc PENTAX-DA 18-135mm F3.5-5.6 ED AL[IF] DC WR) |
LensProfileSetup | LensDefaults |
LensProfileVignettingScale | 100 |
LightValue | 11.3 |
LuminanceSmoothing | 0 |
Make | RICOH IMAGING COMPANY, LTD. |
Megapixels | 3.8 |
MeteringMode | Spot |
Model | PENTAX K-3 |
ModifyDate (1) | 2017:08:20 22:08:56+02:00 |
ModifyDate | 2017:08:20 22:08:56 |
ParametricDarks | -5 |
ParametricHighlights | 0 |
ParametricHighlightSplit | 75 |
ParametricLights | 0 |
ParametricMidtoneSplit | 50 |
ParametricShadows | 0 |
ParametricShadowSplit | 25 |
PerspectiveAspect | 0 |
PerspectiveHorizontal | 0 |
PerspectiveRotate | 0.0 |
PerspectiveScale | 100 |
PerspectiveUpright | 1 |
PerspectiveVertical | 0 |
PerspectiveX | 0.00 |
PerspectiveY | 0.00 |
PostCropVignetteAmount | 0 |
ProcessVersion | 6.7 |
ProfileDescription | sRGB IEC61966-2.1 |
RedHue | 0 |
RedSaturation | 0 |
Rights | P.M.SMORVIK |
Saturation | Normal |
ScaleFactor35efl | 1.5 |
SceneCaptureType | Standard |
SensingMethod | One-chip color area |
SensitivityType | Standard Output Sensitivity |
Shadows2012 | +10 |
ShadowTint | 0 |
SharpenDetail | 15 |
SharpenEdgeMasking | 60 |
SharpenRadius | +1.4 |
Sharpness (1) | 35 |
Sharpness | Hard |
ShutterSpeed | 1/160 |
ShutterSpeedValue | 1/160 |
Software | Adobe Photoshop Lightroom 6.12 (Macintosh) |
SplitToningBalance | 0 |
SplitToningHighlightHue | 0 |
SplitToningHighlightSaturation | 0 |
SplitToningShadowHue | 0 |
SplitToningShadowSaturation | 0 |
StandardOutputSensitivity | 200 |
SubjectDistanceRange | Close |
Tint | +11 |
ToneCurve | 0, 0, 255, 255 |
ToneCurveBlue | 0, 0, 255, 255 |
ToneCurveGreen | 0, 0, 255, 255 |
ToneCurveName | Linear |
ToneCurveName2012 | Linear |
ToneCurvePV2012 | 0, 0, 255, 255 |
ToneCurvePV2012Blue | 0, 0, 255, 255 |
ToneCurvePV2012Green | 0, 0, 255, 255 |
ToneCurvePV2012Red | 0, 0, 255, 255 |
ToneCurveRed | 0, 0, 255, 255 |
ToneMapStrength | 0 |
Version | 9.12 |
VignetteAmount | 0 |
VignetteCorrectionAlreadyApplied | True |
WhiteBalance (1) | As Shot |
WhiteBalance | Auto |
Whites2012 | +23 |