Felt | Verdi |
AlreadyApplied | True |
Aperture | 11.0 |
ApertureValue | 11.0 |
ApproximateFocusDistance | 6.67 |
Artist | Sveinn Palmason
AutoLateralCA | 1 |
AutoWhiteVersion | 134348800 |
BitsPerSample | 8 |
Blacks2012 | -21 |
BlueHue | 0 |
BlueSaturation | 0 |
By-line | Sveinn Palmason
CameraProfile | Camera Neutral |
CircleOfConfusion | 0.028 mm |
Clarity2012 | +26 |
ColorComponents | 3 |
ColorNoiseReduction | 25 |
ColorNoiseReductionDetail | 50 |
ColorNoiseReductionSmoothness | 50 |
ColorSpace | sRGB |
ColorTemperature | 11560 |
ColorTransform | YCbCr |
Contrast2012 | +2 |
ConvertToGrayscale | False |
Copyright | @SvenniPalma |
CopyrightNotice | @SvenniPalma |
CreateDate (1) | 2017:03:23 18:24:13.15 |
CreateDate | 2017:03:23 18:24:13 |
Creator | Sveinn Palmason
CreatorTool | Adobe Photoshop Lightroom 6.12 (Windows) |
CropAngle | 0 |
CropBottom | 0.963019 |
CropConstrainToWarp | 1 |
CropLeft | 0.036986 |
CropRight | 0.963025 |
CropTop | 0.036981 |
CustomRendered | Normal |
DateCreated (1) | 2017:03:23 |
DateCreated | 2017:03:23 18:24:13.15 |
DateTimeOriginal | 2017:03:23 18:24:13 |
DefringeGreenAmount | 0 |
DefringeGreenHueHi | 60 |
DefringeGreenHueLo | 40 |
DefringePurpleAmount | 0 |
DefringePurpleHueHi | 70 |
DefringePurpleHueLo | 30 |
Dehaze | +55 |
DistortionCorrectionAlreadyApplied | True |
DOF | inf (1.76 m - inf) |
Exposure2012 | +0.95 |
ExposureCompensation | 0 |
ExposureMode | Manual |
ExposureProgram | Manual |
ExposureTime | 30 |
Firmware | 1.1.2 |
Flash | Off, Did not fire |
FlashCompensation | 0 |
FNumber | 11.0 |
FocalLength | 27.0 mm |
FocalLength35efl | 27.0 mm (35 mm equivalent: 29.2 mm) |
Format | image/jpeg |
FOV | 63.4 deg |
GradientBasedCorrActive | true |
GradientBasedCorrAmount | 1.000000 |
GradientBasedCorrBrightness (1) | 0.121950 |
GradientBasedCorrBrightness | 0.000000 |
GradientBasedCorrClarity2012 (1) | -0.400000 |
GradientBasedCorrClarity2012 | 0.000000 |
GradientBasedCorrContrast2012 (1) | -0.500000 |
GradientBasedCorrContrast2012 | 0.000000 |
GradientBasedCorrDefringe | 0.000000 |
GradientBasedCorrExposure2012 (1) | 0.285750 |
GradientBasedCorrExposure2012 | 0.000000 |
GradientBasedCorrHighlights2012 (1) | -0.500000 |
GradientBasedCorrHighlights2012 | -1.000000 |
GradientBasedCorrHue | 50.398399 |
GradientBasedCorrLocalBlacks2012 | 0.000000 |
GradientBasedCorrLocalDehaze (1) | -0.142860 |
GradientBasedCorrLocalDehaze | 0.000000 |
GradientBasedCorrLocalWhites2012 | 0.000000 |
GradientBasedCorrLuminanceNoise | 0.000000 |
GradientBasedCorrMaskFullX (1) | 0.441018 |
GradientBasedCorrMaskFullX | 0.484094 |
GradientBasedCorrMaskFullY (1) | 0.994496 |
GradientBasedCorrMaskFullY | 0.243237 |
GradientBasedCorrMaskValue | 1.000000 |
GradientBasedCorrMaskWhat | Mask/Gradient |
GradientBasedCorrMaskZeroX (1) | 0.433490 |
GradientBasedCorrMaskZeroX | 0.491237 |
GradientBasedCorrMaskZeroY (1) | 0.495810 |
GradientBasedCorrMaskZeroY | 0.726838 |
GradientBasedCorrMoire | 0.000000 |
GradientBasedCorrSaturation (2) | 0.548984 |
GradientBasedCorrSaturation (3) | 0.666670 |
GradientBasedCorrSaturation | 0.000000 |
GradientBasedCorrShadows2012 (1) | 0.224382 |
GradientBasedCorrShadows2012 | 1.000000 |
GradientBasedCorrSharpness (1) | -0.400000 |
GradientBasedCorrSharpness | 0.000000 |
GradientBasedCorrTemperature | 0.000000 |
GradientBasedCorrTint | 0.000000 |
GradientBasedCorrWhat | Correction |
GrainAmount | 0 |
GreenHue | 0 |
GreenSaturation | 0 |
HasCrop | True |
HasSettings | True |
Highlights2012 | -95 |
HueAdjustmentAqua | 0 |
HueAdjustmentBlue | 0 |
HueAdjustmentGreen | 0 |
HueAdjustmentMagenta | 0 |
HueAdjustmentOrange | 0 |
HueAdjustmentPurple | 0 |
HueAdjustmentRed | 0 |
HueAdjustmentYellow | 0 |
HyperfocalDistance | 2.38 m |
ImageHeight | 3556 |
ImageNumber | 0 |
ImageSize | 5334x3556 |
ImageWidth | 5334 |
ISO | 100 |
LateralChromaticAberrationCorrectionAlreadyApplied | True |
Lens | EF24-70mm f/2.8L USM |
LensID (1) | 230 |
LensID | Canon EF 24-70mm f/2.8L USM |
LensInfo | 24-70mm f/? |
LensManualDistortionAmount | 0 |
LensModel | EF24-70mm f/2.8L USM |
LensProfileChromaticAberrationScale | 100 |
LensProfileDistortionScale | 100 |
LensProfileEnable | 1 |
LensProfileFilename | Canon EOS-1Ds Mark III (Canon EF 24-70mm f2.8 L USM) - RAW.lcp |
LensProfileName | Adobe (Canon EF 24-70mm f/2.8 L USM) |
LensProfileSetup | LensDefaults |
LensProfileVignettingScale | 100 |
LensSerialNumber | 0000000000 |
LightValue | 2.0 |
LuminanceAdjustmentAqua | 0 |
LuminanceAdjustmentBlue | 0 |
LuminanceAdjustmentGreen | 0 |
LuminanceAdjustmentMagenta | 0 |
LuminanceAdjustmentOrange | 0 |
LuminanceAdjustmentPurple | 0 |
LuminanceAdjustmentRed | 0 |
LuminanceAdjustmentYellow | 0 |
LuminanceNoiseReductionContrast | 5 |
LuminanceNoiseReductionDetail | 50 |
LuminanceSmoothing | 68 |
Make | Canon |
MaxApertureValue | 2.8 |
Megapixels | 19.0 |
MeteringMode | Multi-segment |
Model | Canon EOS 5D Mark III |
ModifyDate (1) | 2017:08:16 14:56:41+02:00 |
ModifyDate | 2017:08:16 14:56:41 |
ParametricDarks | 0 |
ParametricHighlights | 0 |
ParametricHighlightSplit | 75 |
ParametricLights | 0 |
ParametricMidtoneSplit | 50 |
ParametricShadows | 0 |
ParametricShadowSplit | 25 |
PerspectiveAspect | 0 |
PerspectiveHorizontal | 0 |
PerspectiveRotate | -5.5 |
PerspectiveScale | 100 |
PerspectiveUpright | 1 |
PerspectiveVertical | 0 |
PerspectiveX | 0.00 |
PerspectiveY | 0.00 |
PostCropVignetteAmount | 0 |
ProcessVersion | 6.7 |
ProfileDescription | sRGB IEC61966-2.1 |
RecommendedExposureIndex | 100 |
RedHue | 0 |
RedSaturation | 0 |
Rights | @SvenniPalma |
Saturation | -2 |
SaturationAdjustmentAqua | 0 |
SaturationAdjustmentBlue | 0 |
SaturationAdjustmentGreen | 0 |
SaturationAdjustmentMagenta | 0 |
SaturationAdjustmentOrange | 0 |
SaturationAdjustmentPurple | 0 |
SaturationAdjustmentRed | 0 |
SaturationAdjustmentYellow | 0 |
ScaleFactor35efl | 1.1 |
SceneCaptureType | Standard |
SensitivityType | Recommended Exposure Index |
SerialNumber | 033023009142 |
Shadows2012 | +100 |
ShadowTint | 0 |
SharpenDetail | 25 |
SharpenEdgeMasking | 6 |
SharpenRadius | +1.0 |
Sharpness | 64 |
ShutterSpeed | 30 |
ShutterSpeedValue | 30 |
Software | Adobe Photoshop Lightroom 6.12 (Windows) |
SplitToningBalance | 0 |
SplitToningHighlightHue | 0 |
SplitToningHighlightSaturation | 0 |
SplitToningShadowHue | 0 |
SplitToningShadowSaturation | 0 |
Tel:40489441 |
Tint | +36 |
ToneCurve | 0, 0, 255, 255 |
ToneCurveBlue | 0, 0, 255, 255 |
ToneCurveGreen | 0, 0, 255, 255 |
ToneCurveName | Linear |
ToneCurveName2012 | Linear |
ToneCurvePV2012 | 0, 0, 255, 255 |
ToneCurvePV2012Blue | 0, 0, 255, 255 |
ToneCurvePV2012Green | 0, 0, 255, 255 |
ToneCurvePV2012Red | 0, 0, 255, 255 |
ToneCurveRed | 0, 0, 255, 255 |
ToneMapStrength | 0 |
Version | 9.12 |
Vibrance | +14 |
VignetteAmount | 0 |
VignetteCorrectionAlreadyApplied | True |
WhiteBalance (1) | Custom |
WhiteBalance | Manual |
Whites2012 | +21 |