Felt | Verdi |
AlreadyApplied | True |
Aperture | 16.0 |
ApertureValue | 16.0 |
AutoLateralCA | 0 |
AutoWhiteVersion | 134348800 |
BitsPerSample | 8 |
Blacks2012 | -14 |
BlueHue | 0 |
BlueSaturation | 0 |
BrightnessValue | -3.6234375 |
CameraProfile | Adobe Standard |
CircleOfConfusion | 0.030 mm |
Clarity2012 | 0 |
ColorComponents | 3 |
ColorNoiseReduction | 25 |
ColorNoiseReductionDetail | 50 |
ColorNoiseReductionSmoothness | 50 |
ColorSpace | sRGB |
ColorTemperature | 3100 |
ColorTransform | YCbCr |
Contrast | Normal |
Contrast2012 | +36 |
ConvertToGrayscale | False |
CreateDate | 2014:01:18 18:19:58 |
CreatorTool | Adobe Photoshop Lightroom 6.6.1 (Windows) |
CropAngle | 0 |
CropBottom | 0.882064 |
CropConstrainToWarp | 0 |
CropLeft | 0.214578 |
CropRight | 0.906634 |
CropTop | 0.194103 |
CustomRendered | Normal |
DateCreated (1) | 2014:01:18 |
DateCreated | 2014:01:18 18:19:58 |
DateTimeOriginal | 2014:01:18 18:19:58 |
DefringeGreenAmount | 0 |
DefringeGreenHueHi | 60 |
DefringeGreenHueLo | 40 |
DefringePurpleAmount | 0 |
DefringePurpleHueHi | 70 |
DefringePurpleHueLo | 30 |
Dehaze | 0 |
DigitalZoomRatio | 1 |
Exposure2012 | +0.20 |
ExposureCompensation | 0 |
ExposureMode | Manual |
ExposureProgram | Manual |
ExposureTime | 30 |
Flash | Off, Did not fire |
FNumber | 16.0 |
FocalLength | 24.0 mm |
FocalLength35efl | 24.0 mm (35 mm equivalent: 24.0 mm) |
FocalLengthIn35mmFormat | 24 mm |
Format | image/jpeg |
FOV | 73.7 deg |
GrainAmount | 0 |
GreenHue | 0 |
GreenSaturation | 0 |
HasCrop | True |
HasExtendedXMP | 9C60D9EC3E2F4BFBF2FB99142BFEAF30 |
HasSettings | True |
Highlights2012 | -48 |
HueAdjustmentAqua | 0 |
HueAdjustmentBlue | 0 |
HueAdjustmentGreen | -51 |
HueAdjustmentMagenta | 0 |
HueAdjustmentOrange | 0 |
HueAdjustmentPurple | 0 |
HueAdjustmentRed | 0 |
HueAdjustmentYellow | +4 |
HyperfocalDistance | 1.20 m |
ImageHeight | 2752 |
ImageSize | 4152x2752 |
ImageWidth | 4152 |
ISO | 50 |
Label | Yellow |
Lens | FE 24-70mm F4 ZA OSS |
LensDistortInfo | 33706/32768 -116006873/1073741824 50985675/1073741824 -285524/1073741824 |
LensInfo | 24-70mm f/4 |
LensManualDistortionAmount | 0 |
LensModel | FE 24-70mm F4 ZA OSS |
LensProfileChromaticAberrationScale | 100 |
LensProfileDistortionScale | 100 |
LensProfileEnable | 1 |
LensProfileFilename | SONY (Sony FE 24-70mm F4 ZA OSS) - RAW.lcp |
LensProfileName | Adobe (Sony FE 24-70mm F4 ZA OSS) |
LensProfileSetup | LensDefaults |
LensProfileVignettingScale | 100 |
LightSource | Unknown |
LightValue | 4.1 |
LuminanceAdjustmentAqua | 0 |
LuminanceAdjustmentBlue | 0 |
LuminanceAdjustmentGreen | 0 |
LuminanceAdjustmentMagenta | 0 |
LuminanceAdjustmentOrange | 0 |
LuminanceAdjustmentPurple | 0 |
LuminanceAdjustmentRed | 0 |
LuminanceAdjustmentYellow | 0 |
LuminanceSmoothing | 0 |
Make | SONY |
MaxApertureValue | 4.0 |
Megapixels | 11.4 |
MeteringMode | Multi-segment |
Model | ILCE-7M2 |
ModifyDate (1) | 2017:08:30 21:05:15+02:00 |
ModifyDate | 2017:08:30 21:05:15 |
PaintCorrectionActive | true |
PaintCorrectionAmount | 1.000000 |
PaintCorrectionBrightness | 0.000000 |
PaintCorrectionClarity2012 | 0.000000 |
PaintCorrectionContrast2012 | -0.002380 |
PaintCorrectionDefringe | 0.000000 |
PaintCorrectionExposure2012 | -0.001250 |
PaintCorrectionHighlights2012 | -0.001430 |
PaintCorrectionHue | 1.000000 |
PaintCorrectionLocalBlacks2012 (4) | -0.214290 |
PaintCorrectionLocalBlacks2012 | 0.000000 |
PaintCorrectionLocalDehaze | 0.000000 |
PaintCorrectionLocalWhites2012 | -0.002530 |
PaintCorrectionLuminanceNoise (1) | 0.047620 |
PaintCorrectionLuminanceNoise | 0.809520 |
PaintCorrectionMaskCenterWeight | 0.074350 |
PaintCorrectionMaskFlow | 1.000000 |
PaintCorrectionMaskRadius (1) | 0.003552 |
PaintCorrectionMaskRadius (10) | 0.003610 |
PaintCorrectionMaskRadius (101) | 0.001440 |
PaintCorrectionMaskRadius (103) | 0.004455 |
PaintCorrectionMaskRadius (104) | 0.002886 |
PaintCorrectionMaskRadius (105) | 0.037293 |
PaintCorrectionMaskRadius (106) | 0.038590 |
PaintCorrectionMaskRadius (107) | 0.038730 |
PaintCorrectionMaskRadius (108) | 0.038747 |
PaintCorrectionMaskRadius (109) | 0.038450 |
PaintCorrectionMaskRadius (11) | 0.098057 |
PaintCorrectionMaskRadius (110) | 0.038528 |
PaintCorrectionMaskRadius (12) | 0.024057 |
PaintCorrectionMaskRadius (13) | 0.006792 |
PaintCorrectionMaskRadius (14) | 0.006770 |
PaintCorrectionMaskRadius (15) | 0.006673 |
PaintCorrectionMaskRadius (16) | 0.006714 |
PaintCorrectionMaskRadius (18) | 0.015843 |
PaintCorrectionMaskRadius (19) | 0.016044 |
PaintCorrectionMaskRadius (2) | 0.003582 |
PaintCorrectionMaskRadius (20) | 0.016053 |
PaintCorrectionMaskRadius (21) | 0.059595 |
PaintCorrectionMaskRadius (22) | 0.059638 |
PaintCorrectionMaskRadius (23) | 0.056158 |
PaintCorrectionMaskRadius (24) | 0.059171 |
PaintCorrectionMaskRadius (25) | 0.059190 |
PaintCorrectionMaskRadius (27) | 0.011371 |
PaintCorrectionMaskRadius (28) | 0.011583 |
PaintCorrectionMaskRadius (29) | 0.011256 |
PaintCorrectionMaskRadius (3) | 0.003603 |
PaintCorrectionMaskRadius (30) | 0.011214 |
PaintCorrectionMaskRadius (31) | 0.011215 |
PaintCorrectionMaskRadius (32) | 0.011364 |
PaintCorrectionMaskRadius (33) | 0.011250 |
PaintCorrectionMaskRadius (34) | 0.040653 |
PaintCorrectionMaskRadius (35) | 0.041191 |
PaintCorrectionMaskRadius (36) | 0.024535 |
PaintCorrectionMaskRadius (37) | 0.024451 |
PaintCorrectionMaskRadius (38) | 0.024015 |
PaintCorrectionMaskRadius (39) | 0.024207 |
PaintCorrectionMaskRadius (4) | 0.003580 |
PaintCorrectionMaskRadius (41) | 0.001680 |
PaintCorrectionMaskRadius (43) | 0.002610 |
PaintCorrectionMaskRadius (44) | 0.002614 |
PaintCorrectionMaskRadius (47) | 0.000894 |
PaintCorrectionMaskRadius (49) | 0.000893 |
PaintCorrectionMaskRadius (5) | 0.003575 |
PaintCorrectionMaskRadius (56) | 0.000896 |
PaintCorrectionMaskRadius (58) | 0.000897 |
PaintCorrectionMaskRadius (59) | 0.000895 |
PaintCorrectionMaskRadius (6) | 0.003562 |
PaintCorrectionMaskRadius (60) | 0.005442 |
PaintCorrectionMaskRadius (62) | 0.001434 |
PaintCorrectionMaskRadius (63) | 0.000891 |
PaintCorrectionMaskRadius (64) | 0.012594 |
PaintCorrectionMaskRadius (65) | 0.005642 |
PaintCorrectionMaskRadius (66) | 0.005591 |
PaintCorrectionMaskRadius (67) | 0.002837 |
PaintCorrectionMaskRadius (68) | 0.001690 |
PaintCorrectionMaskRadius (69) | 0.001688 |
PaintCorrectionMaskRadius (7) | 0.003549 |
PaintCorrectionMaskRadius (71) | 0.003133 |
PaintCorrectionMaskRadius (72) | 0.045081 |
PaintCorrectionMaskRadius (73) | 0.024634 |
PaintCorrectionMaskRadius (74) | 0.023717 |
PaintCorrectionMaskRadius (75) | 0.023099 |
PaintCorrectionMaskRadius (76) | 0.024051 |
PaintCorrectionMaskRadius (77) | 0.024382 |
PaintCorrectionMaskRadius (78) | 0.024306 |
PaintCorrectionMaskRadius (79) | 0.006687 |
PaintCorrectionMaskRadius (8) | 0.003628 |
PaintCorrectionMaskRadius (80) | 0.006688 |
PaintCorrectionMaskRadius (81) | 0.006708 |
PaintCorrectionMaskRadius (82) | 0.001668 |
PaintCorrectionMaskRadius (83) | 0.001670 |
PaintCorrectionMaskRadius (84) | 0.001672 |
PaintCorrectionMaskRadius (85) | 0.022252 |
PaintCorrectionMaskRadius (86) | 0.022715 |
PaintCorrectionMaskRadius (87) | 0.006788 |
PaintCorrectionMaskRadius (88) | 0.002520 |
PaintCorrectionMaskRadius (89) | 0.002522 |
PaintCorrectionMaskRadius (9) | 0.003620 |
PaintCorrectionMaskRadius (91) | 0.002486 |
PaintCorrectionMaskRadius (92) | 0.002514 |
PaintCorrectionMaskRadius (93) | 0.002496 |
PaintCorrectionMaskRadius (94) | 0.002526 |
PaintCorrectionMaskRadius (95) | 0.002530 |
PaintCorrectionMaskRadius (96) | 0.002480 |
PaintCorrectionMaskRadius (97) | 0.003188 |
PaintCorrectionMaskRadius (99) | 0.001439 |
PaintCorrectionMaskRadius | 0.038146 |
PaintCorrectionMaskValue | 1.000000 |
PaintCorrectionMaskWhat | Mask/Paint |
PaintCorrectionMoire | 0.000000 |
PaintCorrectionSaturation (7) | -1.000000 |
PaintCorrectionSaturation | 0.020000 |
PaintCorrectionShadows2012 | 0.001490 |
PaintCorrectionSharpness (1) | 0.071430 |
PaintCorrectionSharpness | 0.547620 |
PaintCorrectionTemperature | 0.000000 |
PaintCorrectionTint | 0.000000 |
PaintCorrectionWhat | Correction |
ParametricDarks | 0 |
ParametricHighlights | 0 |
ParametricHighlightSplit | 75 |
ParametricLights | 0 |
ParametricMidtoneSplit | 50 |
ParametricShadows | 0 |
ParametricShadowSplit | 25 |
PerspectiveAspect | 0 |
PerspectiveHorizontal | 0 |
PerspectiveRotate | 0.0 |
PerspectiveScale | 100 |
PerspectiveUpright | 0 |
PerspectiveVertical | 0 |
PerspectiveX | 0.00 |
PerspectiveY | 0.00 |
PostCropVignetteAmount | 0 |
ProcessVersion | 6.7 |
ProfileDescription | sRGB IEC61966-2.1 |
RecommendedExposureIndex | 50 |
RedHue | 0 |
RedSaturation | 0 |
Saturation (1) | +5 |
Saturation | Normal |
SaturationAdjustmentAqua | 0 |
SaturationAdjustmentBlue | 0 |
SaturationAdjustmentGreen | 0 |
SaturationAdjustmentMagenta | 0 |
SaturationAdjustmentOrange | 0 |
SaturationAdjustmentPurple | 0 |
SaturationAdjustmentRed | 0 |
SaturationAdjustmentYellow | 0 |
ScaleFactor35efl | 1.0 |
SceneCaptureType | Standard |
SceneType | Directly photographed |
SensitivityType | Recommended Exposure Index |
Shadows2012 | +14 |
ShadowTint | 0 |
SharpenDetail | 25 |
SharpenEdgeMasking | 0 |
SharpenRadius | +1.0 |
Sharpness (1) | 25 |
Sharpness | Normal |
ShutterSpeed | 30 |
ShutterSpeedValue | 30 |
Software | Adobe Photoshop Lightroom 6.6.1 (Windows) |
SplitToningBalance | 0 |
SplitToningHighlightHue | 0 |
SplitToningHighlightSaturation | 0 |
SplitToningShadowHue | 0 |
SplitToningShadowSaturation | 0 |
Tint | +10 |
ToneCurve | 0, 0, 255, 255 |
ToneCurveBlue | 0, 0, 255, 255 |
ToneCurveGreen | 0, 0, 255, 255 |
ToneCurveName | Linear |
ToneCurveName2012 | Linear |
ToneCurvePV2012 | 0, 0, 255, 255 |
ToneCurvePV2012Blue | 0, 0, 255, 255 |
ToneCurvePV2012Green | 0, 0, 255, 255 |
ToneCurvePV2012Red | 0, 0, 255, 255 |
ToneCurveRed | 0, 0, 255, 255 |
ToneMapStrength | 0 |
Version | 9.6 |
Vibrance | +17 |
VignetteAmount | 0 |
WhiteBalance (1) | As Shot |
WhiteBalance | Auto |
Whites2012 | +43 |