Felt | Verdi |
AlreadyApplied | True |
Aperture | 14.0 |
ApertureValue | 14.0 |
AutoLateralCA | 1 |
BitsPerSample | 8 |
Blacks2012 | 0 |
BlueHue | 0 |
BlueSaturation | 0 |
CameraProfile | Embedded |
Caption-Abstract | OLYMPUS DIGITAL CAMERA |
CircleOfConfusion | 0.015 mm |
Clarity2012 | 0 |
ColorComponents | 3 |
ColorNoiseReduction | 0 |
ColorTransform | YCbCr |
Contrast | High |
Contrast2012 | 0 |
ConvertToGrayscale | False |
CreateDate | 2014:07:02 22:20:23 |
CreatorTool | Adobe Photoshop Lightroom 4.4 (Macintosh) |
CropAngle | 0 |
CropBottom | 1 |
CropConstrainToWarp | 0 |
CropHeight | 3324 |
CropLeft | 0.077322 |
CropRight | 0.878972 |
CropTop | 0.038331 |
CropUnit | pixels |
CropWidth | 3694 |
DateCreated (1) | 2014:07:02 |
DateCreated | 2014:07:02 22:20:23 |
DateTimeOriginal | 2014:07:02 22:20:23 |
DefringeGreenAmount | 0 |
DefringeGreenHueHi | 60 |
DefringeGreenHueLo | 40 |
DefringePurpleAmount | 0 |
DefringePurpleHueHi | 70 |
DefringePurpleHueLo | 30 |
Description | OLYMPUS DIGITAL CAMERA |
DigitalZoomRatio | 1 |
Exposure2012 | 0.00 |
ExposureCompensation | 0 |
ExposureMode | Manual |
ExposureProgram | Manual |
ExposureTime | 13 |
Flash | Auto, Did not fire |
FlashCompensation | 0 |
FNumber | 14.0 |
FocalLength | 14.0 mm |
FocalLength35efl | 14.0 mm (35 mm equivalent: 28.0 mm) |
FocalLengthIn35mmFormat | 28 mm |
Format | image/jpeg |
FOV | 65.5 deg |
GainControl | None |
GrainAmount | 0 |
GreenHue | 0 |
GreenSaturation | 0 |
HasCrop | True |
HasSettings | True |
Highlights2012 | 0 |
HueAdjustmentAqua | 0 |
HueAdjustmentBlue | 0 |
HueAdjustmentGreen | 0 |
HueAdjustmentMagenta | 0 |
HueAdjustmentOrange | 0 |
HueAdjustmentPurple | 0 |
HueAdjustmentRed | 0 |
HueAdjustmentYellow | 0 |
HyperfocalDistance | 0.93 m |
ImageDescription | OLYMPUS DIGITAL CAMERA |
ImageHeight | 3324 |
ImageSize | 3694x3324 |
ImageWidth | 3694 |
IncrementalTemperature | 0 |
IncrementalTint | 0 |
ISO | 100 |
Lens | OLYMPUS M.14-42mm F3.5-5.6 EZ |
LensInfo | 14-42mm f/3.5-5.6 |
LensManualDistortionAmount | 0 |
LensModel | OLYMPUS M.14-42mm F3.5-5.6 EZ |
LensProfileEnable | 0 |
LensProfileSetup | LensDefaults |
LensSerialNumber | AC3234167 |
LightSource | Cloudy |
LightValue | 3.9 |
LuminanceAdjustmentAqua | 0 |
LuminanceAdjustmentBlue | 0 |
LuminanceAdjustmentGreen | 0 |
LuminanceAdjustmentMagenta | 0 |
LuminanceAdjustmentOrange | 0 |
LuminanceAdjustmentPurple | 0 |
LuminanceAdjustmentRed | 0 |
LuminanceAdjustmentYellow | 0 |
LuminanceSmoothing | 0 |
Make | OLYMPUS IMAGING CORP. |
MaxApertureValue | 3.5 |
Megapixels | 12.3 |
MeteringMode | Multi-segment |
Model | E-M10 |
ModifyDate (1) | 2017:08:26 10:24:37+02:00 |
ModifyDate | 2017:08:26 10:24:37 |
PaintCorrectionActive | true |
PaintCorrectionAmount | 1.000000 |
PaintCorrectionBrightness | 0.000000 |
PaintCorrectionClarity2012 | 0.000000 |
PaintCorrectionContrast2012 | 0.000000 |
PaintCorrectionDefringe | 0.000000 |
PaintCorrectionExposure2012 (1) | -0.663272 |
PaintCorrectionExposure2012 (2) | 0.310130 |
PaintCorrectionExposure2012 (3) | 0.247015 |
PaintCorrectionExposure2012 (4) | 0.000000 |
PaintCorrectionExposure2012 (5) | 1.000000 |
PaintCorrectionExposure2012 | 0.239905 |
PaintCorrectionHighlights2012 | 0.000000 |
PaintCorrectionHue | 240.000000 |
PaintCorrectionLuminanceNoise | 0.000000 |
PaintCorrectionMaskCenterWeight | 0.000000 |
PaintCorrectionMaskFlow (12) | 0.756325 |
PaintCorrectionMaskFlow (14) | 0.866816 |
PaintCorrectionMaskFlow (2) | 0.565430 |
PaintCorrectionMaskFlow (22) | 0.918747 |
PaintCorrectionMaskFlow (5) | 0.836176 |
PaintCorrectionMaskFlow | 0.813525 |
PaintCorrectionMaskRadius (13) | 0.127882 |
PaintCorrectionMaskRadius (18) | 0.088691 |
PaintCorrectionMaskRadius (19) | 0.065531 |
PaintCorrectionMaskRadius (2) | 0.174722 |
PaintCorrectionMaskRadius (21) | 0.025076 |
PaintCorrectionMaskRadius (4) | 0.113466 |
PaintCorrectionMaskRadius (6) | 0.039228 |
PaintCorrectionMaskRadius | 0.099152 |
PaintCorrectionMaskValue (14) | 0.904232 |
PaintCorrectionMaskValue (2) | 0.848987 |
PaintCorrectionMaskValue (22) | 0.925567 |
PaintCorrectionMaskValue | 0.854224 |
PaintCorrectionMaskWhat | Mask/Paint |
PaintCorrectionMoire | 0.000000 |
PaintCorrectionSaturation (7) | 0.709445 |
PaintCorrectionSaturation | 0.000000 |
PaintCorrectionShadows2012 | 0.000000 |
PaintCorrectionSharpness | 0.000000 |
PaintCorrectionTemperature (2) | 0.000000 |
PaintCorrectionTemperature (4) | 0.600000 |
PaintCorrectionTemperature (5) | 0.554249 |
PaintCorrectionTemperature | 0.554688 |
PaintCorrectionTint (3) | 0.000000 |
PaintCorrectionTint (4) | 0.800000 |
PaintCorrectionTint | 1.000000 |
PaintCorrectionWhat | Correction |
ParametricDarks | 0 |
ParametricHighlights | 0 |
ParametricHighlightSplit | 75 |
ParametricLights | 0 |
ParametricMidtoneSplit | 50 |
ParametricShadows | 0 |
ParametricShadowSplit | 25 |
PerspectiveHorizontal | 0 |
PerspectiveRotate | 0.0 |
PerspectiveScale | 100 |
PerspectiveVertical | 0 |
PostCropVignetteAmount | 0 |
ProcessVersion | 6.7 |
ProfileDescription | sRGB IEC61966-2.1 |
RedHue | 0 |
RedSaturation | 0 |
Saturation (1) | -15 |
Saturation | Normal |
SaturationAdjustmentAqua | 0 |
SaturationAdjustmentBlue | 0 |
SaturationAdjustmentGreen | 0 |
SaturationAdjustmentMagenta | 0 |
SaturationAdjustmentOrange | 0 |
SaturationAdjustmentPurple | 0 |
SaturationAdjustmentRed | 0 |
SaturationAdjustmentYellow | 0 |
ScaleFactor35efl | 2.0 |
SceneCaptureType | Standard |
SerialNumber | V5NF47892 |
Shadows2012 | 0 |
ShadowTint | 0 |
SharpenDetail | 25 |
SharpenEdgeMasking | 0 |
SharpenRadius | +1.0 |
Sharpness (1) | 0 |
Sharpness | Hard |
ShutterSpeed | 13 |
ShutterSpeedValue | 13 |
Software | Adobe Photoshop Lightroom 4.4 (Macintosh) |
SplitToningBalance | 0 |
SplitToningHighlightHue | 0 |
SplitToningHighlightSaturation | 0 |
SplitToningShadowHue | 0 |
SplitToningShadowSaturation | 0 |
ToneCurveName2012 | Linear |
ToneCurvePV2012 | 0, 0, 255, 255 |
ToneCurvePV2012Blue | 0, 0, 255, 255 |
ToneCurvePV2012Green | 0, 0, 255, 255 |
ToneCurvePV2012Red | 0, 0, 255, 255 |
Version | 7.4 |
Vibrance | 0 |
VignetteAmount | 0 |
WhiteBalance (1) | As Shot |
WhiteBalance | Manual |
Whites2012 | 0 |