Felt | Verdi |
AlreadyApplied | True |
Aperture | 5.6 |
ApertureValue | 5.6 |
AutoLateralCA | 1 |
AutoWhiteVersion | 134348800 |
BitsPerSample | 8 |
Blacks2012 | +20 |
BlueHue | 0 |
BlueSaturation | 0 |
CameraProfile | Adobe Standard |
CFAPattern | [Red,Green][Green,Blue] |
CircleOfConfusion | 0.011 mm |
Clarity2012 | 0 |
ColorComponents | 3 |
ColorNoiseReduction | 25 |
ColorNoiseReductionDetail | 50 |
ColorNoiseReductionSmoothness | 50 |
ColorTemperature | 6600 |
ColorTransform | YCbCr |
Contrast | Normal |
Contrast2012 | +10 |
ConvertToGrayscale | False |
CreateDate (1) | 2017:06:27 12:32:45.35 |
CreateDate | 2017:06:27 12:32:45 |
CreatorTool | Adobe Photoshop Lightroom 5.7.1 (Windows) |
CropAngle | 0 |
CropBottom | 0.960305 |
CropConstrainToWarp | 0 |
CropLeft | 0.042727 |
CropRight | 1 |
CropTop | 0.021374 |
CustomRendered | Normal |
DateCreated (1) | 2017:06:27 |
DateCreated | 2017:06:27 12:32:45.35 |
DateTimeOriginal | 2017:06:27 12:32:45 |
DefringeGreenAmount | 0 |
DefringeGreenHueHi | 60 |
DefringeGreenHueLo | 40 |
DefringePurpleAmount | 0 |
DefringePurpleHueHi | 70 |
DefringePurpleHueLo | 30 |
DigitalZoomRatio | 1 |
Exposure2012 | 0.00 |
ExposureCompensation | -1 |
ExposureMode | Auto |
ExposureProgram | Program AE |
ExposureTime | 1/1000 |
Flash | No Flash |
FNumber | 5.6 |
FocalLength | 16.1 mm |
FocalLength35efl | 16.1 mm (35 mm equivalent: 43.0 mm) |
FocalLengthIn35mmFormat | 43 mm |
Format | image/jpeg |
FOV | 45.4 deg |
GainControl | Low gain up |
GrainAmount | 0 |
GreenHue | 0 |
GreenSaturation | 0 |
HasCrop | True |
HasSettings | True |
Highlights2012 | 0 |
HueAdjustmentAqua | 0 |
HueAdjustmentBlue | 0 |
HueAdjustmentGreen | 0 |
HueAdjustmentMagenta | 0 |
HueAdjustmentOrange | 0 |
HueAdjustmentPurple | 0 |
HueAdjustmentRed | 0 |
HueAdjustmentYellow | 0 |
HyperfocalDistance | 4.11 m |
ImageHeight | 1962 |
ImageNumber | 1777 |
ImageSize | 3000x1962 |
ImageWidth | 3000 |
ISO | 400 |
Lens | 1 NIKKOR AW 11-27.5mm f/3.5-5.6 |
LensInfo | 11-27.5mm f/3.5-5.6 |
LensManualDistortionAmount | 0 |
LensModel | 1 NIKKOR AW 11-27.5mm f/3.5-5.6 |
LensProfileChromaticAberrationScale | 100 |
LensProfileDistortionScale | 100 |
LensProfileEnable | 1 |
LensProfileFilename | NIKON 1 AW1 (Nikon 1 NIKKOR AW 11-27.5mm f3.5-5.6) - RAW.lcp |
LensProfileName | Adobe (Nikon 1 NIKKOR AW 11-27.5mm f/3.5-5.6) |
LensProfileSetup | LensDefaults |
LensProfileVignettingScale | 100 |
LightSource | Unknown |
LightValue | 12.9 |
LuminanceAdjustmentAqua | 0 |
LuminanceAdjustmentBlue | 0 |
LuminanceAdjustmentGreen | 0 |
LuminanceAdjustmentMagenta | 0 |
LuminanceAdjustmentOrange | 0 |
LuminanceAdjustmentPurple | 0 |
LuminanceAdjustmentRed | 0 |
LuminanceAdjustmentYellow | 0 |
LuminanceNoiseReductionContrast | 0 |
LuminanceNoiseReductionDetail | 50 |
LuminanceSmoothing | 20 |
Make | NIKON CORPORATION |
MaxApertureValue | 4.1 |
Megapixels | 5.9 |
MeteringMode | Multi-segment |
Model | NIKON 1 AW1 |
ModifyDate (1) | 2017:09:03 20:13:23+02:00 |
ModifyDate | 2017:09:03 20:13:23 |
ParametricDarks | 0 |
ParametricHighlights | 0 |
ParametricHighlightSplit | 75 |
ParametricLights | 0 |
ParametricMidtoneSplit | 50 |
ParametricShadows | 0 |
ParametricShadowSplit | 25 |
PerspectiveAspect | 0 |
PerspectiveHorizontal | 0 |
PerspectiveRotate | 0.0 |
PerspectiveScale | 100 |
PerspectiveUpright | 1 |
PerspectiveVertical | 0 |
PostCropVignetteAmount | 0 |
ProcessVersion | 6.7 |
ProfileDescription | sRGB IEC61966-2.1 |
RedHue | 0 |
RedSaturation | 0 |
Saturation (1) | 0 |
Saturation | Normal |
SaturationAdjustmentAqua | 0 |
SaturationAdjustmentBlue | 0 |
SaturationAdjustmentGreen | 0 |
SaturationAdjustmentMagenta | 0 |
SaturationAdjustmentOrange | 0 |
SaturationAdjustmentPurple | 0 |
SaturationAdjustmentRed | 0 |
SaturationAdjustmentYellow | 0 |
ScaleFactor35efl | 2.7 |
SceneCaptureType | Standard |
SceneType | Directly photographed |
SensingMethod | One-chip color area |
SensitivityType | Recommended Exposure Index |
SerialNumber | 52003181 |
Shadows2012 | +60 |
ShadowTint | 0 |
SharpenDetail | 25 |
SharpenEdgeMasking | 0 |
SharpenRadius | +1.0 |
Sharpness (1) | 90 |
Sharpness | Normal |
ShutterSpeed | 1/1000 |
ShutterSpeedValue | 1/1000 |
Software | Adobe Photoshop Lightroom 5.7.1 (Windows) |
SplitToningBalance | 0 |
SplitToningHighlightHue | 0 |
SplitToningHighlightSaturation | 0 |
SplitToningShadowHue | 0 |
SplitToningShadowSaturation | 0 |
SubjectDistanceRange | Unknown |
Tint | 0 |
ToneCurve | 0, 0, 255, 255 |
ToneCurveBlue | 0, 0, 255, 255 |
ToneCurveGreen | 0, 0, 255, 255 |
ToneCurveName | Linear |
ToneCurveName2012 | Custom |
ToneCurvePV2012 | 0, 0, 70, 46, 255, 255 |
ToneCurvePV2012Blue | 0, 0, 255, 255 |
ToneCurvePV2012Green | 0, 0, 255, 255 |
ToneCurvePV2012Red | 0, 0, 255, 255 |
ToneCurveRed | 0, 0, 255, 255 |
Version | 8.7.1 |
Vibrance | 0 |
VignetteAmount | 0 |
WhiteBalance | Auto |
Whites2012 | 0 |