Felt | Verdi |
AlreadyApplied | True |
Artist | EDUARD_DAINOVSKIJ |
AutoLateralCA | 0 |
AutoWhiteVersion | 134348800 |
BitsPerSample | 8 |
Blacks2012 | 0 |
BlueHue | 0 |
BlueSaturation | 0 |
By-line | EDUARD_DAINOVSKIJ |
CameraProfile | Embedded |
CircleOfConfusion | 0.020 mm |
Clarity2012 | 0 |
ColorComponents | 3 |
ColorNoiseReduction | 25 |
ColorNoiseReductionDetail | 50 |
ColorNoiseReductionSmoothness | 50 |
ColorTemperature | 4750 |
ColorTransform | YCbCr |
Contrast | Normal |
Contrast2012 | +21 |
ConvertToGrayscale | False |
Copyright | EDUARD_DAINOVSKIJ |
CopyrightNotice | EDUARD_DAINOVSKIJ |
CreateDate | 2017:09:14 16:11:37 |
Creator | EDUARD_DAINOVSKIJ |
CreatorTool | Adobe Photoshop Lightroom 5.7.1 (Windows) |
CustomRendered | Normal |
DateCreated (1) | 2017:09:14 |
DateCreated | 2017:09:14 16:11:37 |
DateTimeOriginal | 2017:09:14 16:11:37 |
DefringeGreenAmount | 4 |
DefringeGreenHueHi | 45 |
DefringeGreenHueLo | 24 |
DefringePurpleAmount | 15 |
DefringePurpleHueHi | 55 |
DefringePurpleHueLo | 29 |
Exposure2012 | 0.00 |
ExposureCompensation | -1 |
ExposureMode | Manual |
ExposureProgram | Manual |
ExposureTime | 1/160 |
Flash | Off, Did not fire |
FocalLength | 180.0 mm |
FocalLength35efl | 180.0 mm (35 mm equivalent: 270.0 mm) |
FocalLengthIn35mmFormat | 270 mm |
Format | image/jpeg |
FOV | 7.6 deg |
GrainAmount | 0 |
GreenHue | 0 |
GreenSaturation | 0 |
HasCrop | False |
HasSettings | True |
Highlights2012 | -100 |
HueAdjustmentAqua | 0 |
HueAdjustmentBlue | 0 |
HueAdjustmentGreen | 0 |
HueAdjustmentMagenta | 0 |
HueAdjustmentOrange | 0 |
HueAdjustmentPurple | 0 |
HueAdjustmentRed | 0 |
HueAdjustmentYellow | 0 |
ImageHeight | 4000 |
ImageSize | 6016x4000 |
ImageWidth | 6016 |
ISO | 200 |
Lens | K or M Lens |
LensID (1) | 1 0 |
LensID | K or M Lens |
LensManualDistortionAmount | 0 |
LensModel | K or M Lens |
LensProfileEnable | 0 |
LensProfileSetup | LensDefaults |
LuminanceAdjustmentAqua | 0 |
LuminanceAdjustmentBlue | 0 |
LuminanceAdjustmentGreen | 0 |
LuminanceAdjustmentMagenta | 0 |
LuminanceAdjustmentOrange | 0 |
LuminanceAdjustmentPurple | 0 |
LuminanceAdjustmentRed | 0 |
LuminanceAdjustmentYellow | 0 |
LuminanceNoiseReductionContrast | 0 |
LuminanceNoiseReductionDetail | 50 |
LuminanceSmoothing | 27 |
Make | RICOH IMAGING COMPANY, LTD. |
Megapixels | 24.1 |
MeteringMode | Center-weighted average |
Model | PENTAX K-3 II |
ModifyDate (1) | 2017:09:14 17:52:47+03:00 |
ModifyDate | 2017:09:14 17:52:47 |
ParametricDarks | 0 |
ParametricHighlights | 0 |
ParametricHighlightSplit | 75 |
ParametricLights | +32 |
ParametricMidtoneSplit | 50 |
ParametricShadows | 0 |
ParametricShadowSplit | 25 |
PerspectiveAspect | 0 |
PerspectiveHorizontal | 0 |
PerspectiveRotate | 0.0 |
PerspectiveScale | 100 |
PerspectiveUpright | 0 |
PerspectiveVertical | 0 |
PostCropVignetteAmount | -10 |
PostCropVignetteFeather | 50 |
PostCropVignetteHighlightContrast | 0 |
PostCropVignetteMidpoint | 50 |
PostCropVignetteRoundness | 0 |
PostCropVignetteStyle | 1 |
ProcessVersion | 6.7 |
ProfileDescription | sRGB IEC61966-2.1 |
RedHue | 0 |
RedSaturation | 0 |
Rights | EDUARD_DAINOVSKIJ |
Saturation (1) | 0 |
Saturation | Normal |
SaturationAdjustmentAqua | 0 |
SaturationAdjustmentBlue | 0 |
SaturationAdjustmentGreen | 0 |
SaturationAdjustmentMagenta | 0 |
SaturationAdjustmentOrange | 0 |
SaturationAdjustmentPurple | 0 |
SaturationAdjustmentRed | 0 |
SaturationAdjustmentYellow | 0 |
ScaleFactor35efl | 1.5 |
SceneCaptureType | Standard |
SensingMethod | One-chip color area |
SensitivityType | Standard Output Sensitivity |
Shadows2012 | +50 |
ShadowTint | 0 |
SharpenDetail | 25 |
SharpenEdgeMasking | 45 |
SharpenRadius | +0.8 |
Sharpness (1) | 34 |
Sharpness | Normal |
ShutterSpeed | 1/160 |
ShutterSpeedValue | 1/160 |
Software | Adobe Photoshop Lightroom 5.7.1 (Windows) |
SplitToningBalance | 0 |
SplitToningHighlightHue | 0 |
SplitToningHighlightSaturation | 0 |
SplitToningShadowHue | 0 |
SplitToningShadowSaturation | 0 |
StandardOutputSensitivity | 200 |
SubjectDistanceRange | Distant |
Tint | +12 |
ToneCurve | 0, 0, 255, 255 |
ToneCurveBlue | 0, 0, 255, 255 |
ToneCurveGreen | 0, 0, 255, 255 |
ToneCurveName | Linear |
ToneCurveName2012 | Linear |
ToneCurvePV2012 | 0, 0, 255, 255 |
ToneCurvePV2012Blue | 0, 0, 255, 255 |
ToneCurvePV2012Green | 0, 0, 255, 255 |
ToneCurvePV2012Red | 0, 0, 255, 255 |
ToneCurveRed | 0, 0, 255, 255 |
Version | 8.7.1 |
Vibrance | 0 |
VignetteAmount | 0 |
WhiteBalance (1) | As Shot |
WhiteBalance | Auto |
Whites2012 | +40 |