Felt | Verdi |
AlreadyApplied | True |
Aperture | 3.5 |
ApertureValue | 3.5 |
ApproximateFocusDistance | 4294967295 |
Artist | Filip Østrem / Forsvaret |
AutoLateralCA | 0 |
BitsPerSample | 8 |
Blacks2012 | +42 |
BlueHue | 0 |
BlueSaturation | 0 |
By-line | Filip Østrem / Forsvaret |
CameraProfile | Adobe Standard |
Caption-Abstract | Stridsvogneskadron 1. fra Telemark bataljon (TMBN) hos Nammo på Raufoss med -ens hovedkampsystem, Leopard 2 stridsvogn. / Leopard 2 battle tank from Telemark Battalion ( TMBN ) at Nammo. |
CircleOfConfusion | 0.023 mm |
City | Raufoss |
Clarity2012 | +33 |
ColorComponents | 3 |
ColorMode | RGB |
ColorNoiseReduction | 25 |
ColorNoiseReductionDetail | 50 |
ColorSpace | sRGB |
ColorTemperature | 5800 |
ColorTransform | YCbCr |
Contrast2012 | +24 |
ConvertToGrayscale | False |
Copyright | Filip Østrem / Forsvaret |
CopyrightNotice | Filip Østrem / Forsvaret |
Country | Norge |
Country-PrimaryLocationCode | NOR |
Country-PrimaryLocationName | Norge |
CountryCode | NOR |
CreateDate (1) | 2016:08:09 12:41:21:63 |
CreateDate | 2016:08:09 12:41:21 |
Creator | Filip Østrem / Forsvaret |
CreatorTool | Color Factory 7.1 |
CropConstrainToWarp | 0 |
CropHeight | 2985 |
CropUnit | pixels |
CropWidth | 4477 |
CustomRendered | Normal |
DateCreated | 2016:08:09 |
DateTimeOriginal (1) | 2016:08:09 12:41:21:63 |
DateTimeOriginal | 2016:08:09 12:41:21 |
DefringeGreenAmount | 0 |
DefringeGreenHueHi | 60 |
DefringeGreenHueLo | 40 |
DefringePurpleAmount | 0 |
DefringePurpleHueHi | 70 |
DefringePurpleHueLo | 30 |
Description | Stridsvogneskadron 1. fra Telemark bataljon (TMBN) hos Nammo på Raufoss med -ens hovedkampsystem, Leopard 2 stridsvogn. / Leopard 2 battle tank from Telemark Battalion ( TMBN ) at Nammo. |
DOF | inf (13.32 m - inf) |
ExifImageHeight | 2985 |
ExifImageWidth | 4477 |
Exposure2012 | +0.20 |
ExposureCompensation | 0 |
ExposureMode | Manual |
ExposureProgram | Manual |
ExposureTime | 1/1250 |
Firmware | 1.1.3 |
Flash | Off, Did not fire |
FlashCompensation | 0 |
FlashFired | False |
FlashMode | Off |
FlashRedEyeMode | False |
FlashReturn | No return detection |
FNumber | 3.5 |
FocalLength | 33.0 mm |
FocalLength35efl | 33.0 mm (35 mm equivalent: 42.5 mm) |
Format | image/jpeg |
FOV | 46.0 deg |
GrainAmount | 0 |
GreenHue | 0 |
GreenSaturation | 0 |
HasCrop | False |
HasSettings | True |
Highlights2012 | -80 |
HueAdjustmentAqua | 0 |
HueAdjustmentBlue | 0 |
HueAdjustmentGreen | 0 |
HueAdjustmentMagenta | 0 |
HueAdjustmentOrange | 0 |
HueAdjustmentPurple | 0 |
HueAdjustmentRed | 0 |
HueAdjustmentYellow | 0 |
HyperfocalDistance | 13.32 m |
ICCProfileName | sRGB IEC61966-2.1 |
ImageDescription | Stridsvogneskadron 1. fra Telemark bataljon (TMBN) hos Nammo på Raufoss med -ens hovedkampsystem, Leopard 2 stridsvogn. / Leopard 2 battle tank from Telemark Battalion ( TMBN ) at Nammo. |
ImageHeight | 2985 |
ImageNumber | 0 |
ImageSize | 4477x2985 |
ImageWidth | 4477 |
Instructions | Kan benyttes fritt Kan benyttes fritt |
ISO | 100 |
Keywords | 120mm, Nammo, Raufoss, Stridsvogneskadron 1, TMBN, Telemark bataljon, army, leapord 2, test, -en |
Lens | EF16-35mm f/2.8L II USM |
LensID (1) | 246 |
LensID | Canon EF 16-35mm f/2.8L II USM |
LensInfo | 16-35mm f/? |
LensManualDistortionAmount | 0 |
LensModel | EF16-35mm f/2.8L II USM |
LensProfileEnable | 0 |
LensProfileSetup | LensDefaults |
LensSerialNumber | 0000811ba6 |
LightValue | 13.9 |
LuminanceAdjustmentAqua | 0 |
LuminanceAdjustmentBlue | 0 |
LuminanceAdjustmentGreen | 0 |
LuminanceAdjustmentMagenta | 0 |
LuminanceAdjustmentOrange | 0 |
LuminanceAdjustmentPurple | 0 |
LuminanceAdjustmentRed | 0 |
LuminanceAdjustmentYellow | 0 |
LuminanceSmoothing | 0 |
Make | Canon |
MaxApertureValue | 2.8 |
Megapixels | 13.4 |
MeteringMode | Multi-segment |
Model | Canon EOS 5D Mark III |
ModifyDate (1) | 2016:08:17 08:31:10+02:00 |
ModifyDate | 2016:08:17 08:31:10 |
Orientation | Horizontal (normal) |
OriginatingProgram | Color Factory 7.1 |
PaintCorrectionActive | true |
PaintCorrectionAmount | 1.000000 |
PaintCorrectionBrightness | 0.000000 |
PaintCorrectionClarity2012 | 0.000000 |
PaintCorrectionContrast2012 | 0.000000 |
PaintCorrectionDefringe | 0.000000 |
PaintCorrectionExposure2012 | 0.105882 |
PaintCorrectionHighlights2012 | 0.000000 |
PaintCorrectionHue | 230.000000 |
PaintCorrectionLuminanceNoise | 0.000000 |
PaintCorrectionMaskCenterWeight | 0.000000 |
PaintCorrectionMaskFlow | 1.000000 |
PaintCorrectionMaskRadius | 0.263207 |
PaintCorrectionMaskValue | 0.862069 |
PaintCorrectionMaskWhat | Mask/Paint |
PaintCorrectionMoire | 0.000000 |
PaintCorrectionSaturation (1) | 0.000000 |
PaintCorrectionSaturation | 0.633663 |
PaintCorrectionShadows2012 | -0.001765 |
PaintCorrectionSharpness | -0.001765 |
PaintCorrectionTemperature | 0.152941 |
PaintCorrectionTint | 0.000000 |
PaintCorrectionWhat | Correction |
ParametricDarks | 0 |
ParametricHighlights | 0 |
ParametricHighlightSplit | 75 |
ParametricLights | 0 |
ParametricMidtoneSplit | 50 |
ParametricShadows | 0 |
ParametricShadowSplit | 25 |
PerspectiveHorizontal | 0 |
PerspectiveRotate | 0.0 |
PerspectiveScale | 100 |
PerspectiveVertical | 0 |
PostCropVignetteAmount | -40 |
PostCropVignetteFeather | 50 |
PostCropVignetteHighlightContrast | 0 |
PostCropVignetteMidpoint | 57 |
PostCropVignetteRoundness | 0 |
PostCropVignetteStyle | 1 |
ProcessVersion | 6.7 |
ProfileDescription | sRGB IEC61966-2.1 |
Province-State | Oppland |
RecommendedExposureIndex | 100 |
RedHue | 0 |
RedSaturation | 0 |
Rights | Filip Østrem / Forsvaret |
Saturation | 0 |
SaturationAdjustmentAqua | 0 |
SaturationAdjustmentBlue | 0 |
SaturationAdjustmentGreen | 0 |
SaturationAdjustmentMagenta | 0 |
SaturationAdjustmentOrange | 0 |
SaturationAdjustmentPurple | 0 |
SaturationAdjustmentRed | 0 |
SaturationAdjustmentYellow | 0 |
ScaleFactor35efl | 1.3 |
SceneCaptureType | Standard |
SensitivityType | Recommended Exposure Index |
SerialNumber | 053024007584 |
Shadows2012 | +11 |
ShadowTint | 0 |
SharpenDetail | 25 |
SharpenEdgeMasking | 0 |
SharpenRadius | +1.0 |
Sharpness | 85 |
ShortDocumentID | 4091068889 |
ShortUniqueId | 4091068889 |
ShutterSpeed | 1/1250 |
ShutterSpeedValue | 1/1250 |
Software | Adobe Photoshop Lightroom 4.2 (Macintosh) |
SpecialInstructions | Kan benyttes fritt Kan benyttes fritt |
SplitToningBalance | 0 |
SplitToningHighlightHue | 0 |
SplitToningHighlightSaturation | 0 |
SplitToningShadowHue | 0 |
SplitToningShadowSaturation | 0 |
State | Oppland |
Subject | 120mm, Nammo, Raufoss, Stridsvogneskadron 1, TMBN, Telemark bataljon, army, leapord 2, test, -en |
SupplementalCategories | - -en |
Tint | +6 |
ToneCurveName2012 | Linear |
ToneCurvePV2012 | 0, 0, 255, 255 |
ToneCurvePV2012Blue | 0, 0, 255, 255 |
ToneCurvePV2012Green | 0, 0, 255, 255 |
ToneCurvePV2012Red | 0, 0, 255, 255 |
UniqueDocumentID | 02C439F8A13E4C7A 96D60DC725BAF573 |
UniqueId | 02C439F8A13E4C7A 96D60DC725BAF573 |
UserDefined2 | Synlig Synlig |
UserDefined220 | 20160818FØ |
Version | 7.2 |
Vibrance | 0 |
VignetteAmount | 0 |
WhiteBalance (1) | As Shot |
WhiteBalance | Auto |
Whites2012 | -9 |
XMPFileStamps | 2016:08:18 13:48:32+02:00, 2016:08:18 13:48:32+02:00, 2016:08:18 13:49:48+02:00, 2016:08:18 13:49:48+02:00, 2016:08:18 13:52:29+02:00, 2016:09:12 10:24:13+02:00, 2016:09:12 10:24:10+02:00 |