Felt | Verdi |
AlreadyApplied | True |
Aperture | 6.3 |
ApertureValue | 6.3 |
ApproximateFocusDistance | 36.8 |
Artist | Filip Østrem / Forsvaret |
AutoLateralCA | 0 |
BitsPerSample | 8 |
Blacks2012 | 0 |
BlueHue | 0 |
BlueSaturation | 0 |
By-line | Filip Østrem / Forsvaret |
CameraProfile | Adobe Standard |
Caption-Abstract | Stridsvogneskadron 1. fra Telemark bataljon (TMBN) hos Nammo på Raufoss med -ens hovedkampsystem, Leopard 2 stridsvogn. / Leopard 2 battle tank from Telemark Battalion ( TMBN ) at Nammo. |
CircleOfConfusion | 0.026 mm |
City | Raufoss |
Clarity2012 | +31 |
ColorComponents | 3 |
ColorMode | RGB |
ColorNoiseReduction | 0 |
ColorSpace | sRGB |
ColorTemperature | 6250 |
ColorTransform | YCbCr |
Contrast2012 | +16 |
ConvertToGrayscale | False |
Copyright | Filip Østrem / Forsvaret |
CopyrightNotice | Filip Østrem / Forsvaret |
Country | Norge |
Country-PrimaryLocationCode | NOR |
Country-PrimaryLocationName | Norge |
CountryCode | NOR |
CreateDate (1) | 2016:08:09 10:01:40:82 |
CreateDate | 2016:08:09 10:01:40 |
Creator | Filip Østrem / Forsvaret |
CreatorTool | Color Factory 7.1 |
CropConstrainToWarp | 0 |
CropHeight | 3382 |
CropUnit | pixels |
CropWidth | 5072 |
CustomRendered | Normal |
DateCreated | 2016:08:09 |
DateTimeOriginal (1) | 2016:08:09 10:01:40:82 |
DateTimeOriginal | 2016:08:09 10:01:40 |
DefringeGreenAmount | 0 |
DefringeGreenHueHi | 60 |
DefringeGreenHueLo | 40 |
DefringePurpleAmount | 0 |
DefringePurpleHueHi | 70 |
DefringePurpleHueLo | 30 |
Description | Stridsvogneskadron 1. fra Telemark bataljon (TMBN) hos Nammo på Raufoss med -ens hovedkampsystem, Leopard 2 stridsvogn. / Leopard 2 battle tank from Telemark Battalion ( TMBN ) at Nammo. |
DOF | inf (16.36 m - inf) |
ExifImageHeight | 3382 |
ExifImageWidth | 5072 |
Exposure2012 | +0.55 |
ExposureCompensation | 0 |
ExposureMode | Manual |
ExposureProgram | Manual |
ExposureTime | 1/200 |
Firmware | 1.1.3 |
Flash | Off, Did not fire |
FlashCompensation | 0 |
FlashFired | False |
FlashMode | Off |
FlashRedEyeMode | False |
FlashReturn | No return detection |
FNumber | 6.3 |
FocalLength | 70.0 mm |
FocalLength35efl | 70.0 mm (35 mm equivalent: 79.5 mm) |
Format | image/jpeg |
FOV | 25.5 deg |
GrainAmount | 0 |
GreenHue | 0 |
GreenSaturation | 0 |
HasCrop | False |
HasSettings | True |
Highlights2012 | -40 |
HueAdjustmentAqua | 0 |
HueAdjustmentBlue | 0 |
HueAdjustmentGreen | 0 |
HueAdjustmentMagenta | 0 |
HueAdjustmentOrange | 0 |
HueAdjustmentPurple | 0 |
HueAdjustmentRed | 0 |
HueAdjustmentYellow | 0 |
HyperfocalDistance | 29.40 m |
ICCProfileName | sRGB IEC61966-2.1 |
ImageDescription | Stridsvogneskadron 1. fra Telemark bataljon (TMBN) hos Nammo på Raufoss med -ens hovedkampsystem, Leopard 2 stridsvogn. / Leopard 2 battle tank from Telemark Battalion ( TMBN ) at Nammo. |
ImageHeight | 3382 |
ImageNumber | 0 |
ImageSize | 5072x3382 |
ImageWidth | 5072 |
Instructions | Kan benyttes fritt Kan benyttes fritt |
ISO | 100 |
Keywords | 120mm, Nammo, Raufoss, Stridsvogneskadron 1, TMBN, Telemark bataljon, army, leapord 2, test, -en |
Lens | EF70-200mm f/2.8L IS USM |
LensID (1) | 224 |
LensID | Canon EF 70-200mm f/2.8L IS USM |
LensInfo | 70-200mm f/? |
LensManualDistortionAmount | 0 |
LensModel | EF70-200mm f/2.8L IS USM |
LensProfileEnable | 0 |
LensProfileSetup | LensDefaults |
LensSerialNumber | 0000000000 |
LightValue | 13.0 |
LuminanceAdjustmentAqua | 0 |
LuminanceAdjustmentBlue | 0 |
LuminanceAdjustmentGreen | 0 |
LuminanceAdjustmentMagenta | 0 |
LuminanceAdjustmentOrange | 0 |
LuminanceAdjustmentPurple | 0 |
LuminanceAdjustmentRed | 0 |
LuminanceAdjustmentYellow | 0 |
LuminanceSmoothing | 0 |
Make | Canon |
MaxApertureValue | 2.8 |
Megapixels | 17.2 |
MeteringMode | Multi-segment |
Model | Canon EOS 5D Mark III |
ModifyDate (1) | 2016:08:17 08:31:00+02:00 |
ModifyDate | 2016:08:17 08:31:00 |
Orientation | Horizontal (normal) |
OriginatingProgram | Color Factory 7.1 |
ParametricDarks | 0 |
ParametricHighlights | 0 |
ParametricHighlightSplit | 75 |
ParametricLights | 0 |
ParametricMidtoneSplit | 50 |
ParametricShadows | 0 |
ParametricShadowSplit | 25 |
PerspectiveHorizontal | 0 |
PerspectiveRotate | 0.0 |
PerspectiveScale | 100 |
PerspectiveVertical | 0 |
PostCropVignetteAmount | -36 |
PostCropVignetteFeather | 50 |
PostCropVignetteHighlightContrast | 0 |
PostCropVignetteMidpoint | 50 |
PostCropVignetteRoundness | 0 |
PostCropVignetteStyle | 1 |
ProcessVersion | 6.7 |
ProfileDescription | sRGB IEC61966-2.1 |
Province-State | Oppland |
RecommendedExposureIndex | 100 |
RedHue | 0 |
RedSaturation | 0 |
Rights | Filip Østrem / Forsvaret |
Saturation | 0 |
SaturationAdjustmentAqua | 0 |
SaturationAdjustmentBlue | 0 |
SaturationAdjustmentGreen | 0 |
SaturationAdjustmentMagenta | 0 |
SaturationAdjustmentOrange | 0 |
SaturationAdjustmentPurple | 0 |
SaturationAdjustmentRed | 0 |
SaturationAdjustmentYellow | 0 |
ScaleFactor35efl | 1.1 |
SceneCaptureType | Standard |
SensitivityType | Recommended Exposure Index |
SerialNumber | 053024007584 |
Shadows2012 | +18 |
ShadowTint | 0 |
SharpenDetail | 25 |
SharpenEdgeMasking | 0 |
SharpenRadius | +1.0 |
Sharpness | 82 |
ShortDocumentID | 3636576999 |
ShortUniqueId | 3636576999 |
ShutterSpeed | 1/200 |
ShutterSpeedValue | 1/200 |
Software | Adobe Photoshop Lightroom 4.2 (Macintosh) |
SpecialInstructions | Kan benyttes fritt Kan benyttes fritt |
SplitToningBalance | 0 |
SplitToningHighlightHue | 0 |
SplitToningHighlightSaturation | 0 |
SplitToningShadowHue | 0 |
SplitToningShadowSaturation | 0 |
State | Oppland |
Subject | 120mm, Nammo, Raufoss, Stridsvogneskadron 1, TMBN, Telemark bataljon, army, leapord 2, test, -en |
SupplementalCategories | - -en |
Tint | +13 |
ToneCurveName2012 | Linear |
ToneCurvePV2012 | 0, 0, 255, 255 |
ToneCurvePV2012Blue | 0, 0, 255, 255 |
ToneCurvePV2012Green | 0, 0, 255, 255 |
ToneCurvePV2012Red | 0, 0, 255, 255 |
UniqueDocumentID | B707D3EE52834896 ACF150794437C3B7 |
UniqueId | B707D3EE52834896 ACF150794437C3B7 |
UserDefined2 | Synlig Synlig |
UserDefined220 | 20160818FØ |
Version | 7.2 |
Vibrance | 0 |
VignetteAmount | 0 |
WhiteBalance (1) | As Shot |
WhiteBalance | Auto |
Whites2012 | 0 |
XMPFileStamps | 2016:08:18 13:48:38+02:00, 2016:08:18 13:48:38+02:00, 2016:08:18 13:49:46+02:00, 2016:08:18 13:49:46+02:00, 2016:08:18 13:52:15+02:00, 2016:09:12 10:24:12+02:00, 2016:09:12 10:24:10+02:00 |