Felt | Verdi |
AlreadyApplied | True |
Aperture | 2.8 |
ApertureValue | 2.8 |
ApproximateFocusDistance | 0.88 |
Artist | Filip Østrem / Forsvaret |
AutoLateralCA | 0 |
BitsPerSample | 8 |
Blacks2012 | +15 |
BlueHue | 0 |
BlueSaturation | 0 |
By-line | Filip Østrem / Forsvaret |
CameraProfile | Adobe Standard |
Caption-Abstract | Forsvarets hundeskole på Hauerseter leir ved Sessvollmoen // The Norwegian Armed Forces' Dog-School at camp Hauerseter, Sessvollmoen |
CircleOfConfusion | 0.028 mm |
City | Sessvollmoen |
Clarity2012 | +2 |
ColorComponents | 3 |
ColorMode | RGB |
ColorNoiseReduction | 25 |
ColorNoiseReductionDetail | 50 |
ColorSpace | sRGB |
ColorTemperature | 3450 |
ColorTransform | YCbCr |
Contrast2012 | +4 |
ConvertToGrayscale | False |
CopyrightFlag | True |
Country | Norway |
Country-PrimaryLocationCode | NOR |
Country-PrimaryLocationName | Norway |
CountryCode | NOR |
CreateDate (1) | 2016:10:17 14:30:23.07 |
CreateDate | 2016:10:17 14:30:23 |
Creator | Filip Østrem / Forsvaret |
CreatorTool | Color Factory 7.1 |
CropConstrainToWarp | 0 |
CropHeight | 3518 |
CropUnit | pixels |
CropWidth | 5277 |
CustomRendered | Normal |
DateCreated | 2016:10:17 |
DateTimeDigitized | 2016:10:17 14:30:23:07 |
DateTimeOriginal (1) | 2016:10:17 14:30:23:07 |
DateTimeOriginal | 2016:10:17 14:30:23 |
DefringeGreenAmount | 0 |
DefringeGreenHueHi | 60 |
DefringeGreenHueLo | 40 |
DefringePurpleAmount | 0 |
DefringePurpleHueHi | 70 |
DefringePurpleHueLo | 30 |
Description | Forsvarets hundeskole på Hauerseter leir ved Sessvollmoen // The Norwegian Armed Forces' Dog-School at camp Hauerseter, Sessvollmoen |
DOF | 0.49 m (0.70 - 1.19 m) |
ExifImageHeight | 3518 |
ExifImageWidth | 5277 |
Exposure2012 | +0.20 |
ExposureCompensation | 0 |
ExposureMode | Manual |
ExposureProgram | Manual |
ExposureTime | 1/60 |
Firmware | 1.1.3 |
Flash | Off, Did not fire |
FlashCompensation | 0 |
FlashFired | False |
FlashMode | Off |
FlashRedEyeMode | False |
FlashReturn | No return detection |
FNumber | 2.8 |
FocalLength | 16.0 mm |
FocalLength35efl | 16.0 mm (35 mm equivalent: 17.5 mm) |
Format | image/jpeg |
FOV | 91.7 deg |
GrainAmount | 0 |
GreenHue | 0 |
GreenSaturation | 0 |
HasCrop | False |
HasSettings | True |
Highlights2012 | +22 |
HueAdjustmentAqua | 0 |
HueAdjustmentBlue | 0 |
HueAdjustmentGreen | 0 |
HueAdjustmentMagenta | 0 |
HueAdjustmentOrange | 0 |
HueAdjustmentPurple | 0 |
HueAdjustmentRed | 0 |
HueAdjustmentYellow | 0 |
HyperfocalDistance | 3.32 m |
ICCProfileName | sRGB IEC61966-2.1 |
ImageDescription | Forsvarets hundeskole på Hauerseter leir ved Sessvollmoen // The Norwegian Armed Forces' Dog-School at camp Hauerseter, Sessvollmoen |
ImageHeight | 3518 |
ImageNumber | 0 |
ImageSize | 5277x3518 |
ImageWidth | 5277 |
Instructions | Kan benyttes fritt |
ISO | 400 |
Keywords | Hauerseter, army, hund, hundeskolen, hæren, k9, sessvollmoen, trening, utdanning, education, FHSK |
Lens | EF16-35mm f/2.8L USM |
LensID (1) | 229 |
LensID | Canon EF 16-35mm f/2.8L USM |
LensInfo | 16-35mm f/? |
LensManualDistortionAmount | 0 |
LensModel | EF16-35mm f/2.8L USM |
LensProfileChromaticAberrationScale | 100 |
LensProfileDistortionScale | 100 |
LensProfileEnable | 1 |
LensProfileFilename | Canon EOS 5D Mark II (Canon EF 16-35mm f2.8 L USM) - RAW.lcp |
LensProfileName | Adobe (Canon EF 16-35mm f/2.8 L USM) |
LensProfileSetup | LensDefaults |
LensProfileVignettingScale | 100 |
LensSerialNumber | 0000000000 |
LightValue | 6.9 |
LuminanceAdjustmentAqua | 0 |
LuminanceAdjustmentBlue | 0 |
LuminanceAdjustmentGreen | 0 |
LuminanceAdjustmentMagenta | 0 |
LuminanceAdjustmentOrange | 0 |
LuminanceAdjustmentPurple | 0 |
LuminanceAdjustmentRed | 0 |
LuminanceAdjustmentYellow | 0 |
LuminanceSmoothing | 0 |
Make | Canon |
Marked | True |
MaxApertureValue | 2.8 |
Megapixels | 18.6 |
MeteringMode | Multi-segment |
Model | Canon EOS 5D Mark III |
ModifyDate (1) | 2016:10:24 15:07:24+02:00 |
ModifyDate | 2016:10:24 15:07:24 |
Orientation | Horizontal (normal) |
OriginatingProgram | Color Factory 7.1 |
ParametricDarks | 0 |
ParametricHighlights | +13 |
ParametricHighlightSplit | 75 |
ParametricLights | +15 |
ParametricMidtoneSplit | 50 |
ParametricShadows | -21 |
ParametricShadowSplit | 25 |
PerspectiveHorizontal | 0 |
PerspectiveRotate | 0.0 |
PerspectiveScale | 100 |
PerspectiveVertical | 0 |
PostCropVignetteAmount | 0 |
ProcessVersion | 6.7 |
ProfileDescription | sRGB IEC61966-2.1 |
Province-State | Akershus |
RecommendedExposureIndex | 400 |
RedHue | 0 |
RedSaturation | 0 |
Saturation | 0 |
SaturationAdjustmentAqua | 0 |
SaturationAdjustmentBlue | 0 |
SaturationAdjustmentGreen | 0 |
SaturationAdjustmentMagenta | 0 |
SaturationAdjustmentOrange | 0 |
SaturationAdjustmentPurple | 0 |
SaturationAdjustmentRed | 0 |
SaturationAdjustmentYellow | 0 |
ScaleFactor35efl | 1.1 |
SceneCaptureType | Standard |
SensitivityType | Recommended Exposure Index |
SerialNumber | 053024007584 |
Shadows2012 | +18 |
ShadowTint | 0 |
SharpenDetail | 25 |
SharpenEdgeMasking | 73 |
SharpenRadius | +1.0 |
Sharpness | 87 |
ShortDocumentID | 4223461083 |
ShortUniqueId | 4223461083 |
ShutterSpeed | 1/60 |
ShutterSpeedValue | 1/60 |
Software | Adobe Photoshop Lightroom 4.2 (Macintosh) |
SpecialInstructions | Kan benyttes fritt |
SplitToningBalance | 0 |
SplitToningHighlightHue | 0 |
SplitToningHighlightSaturation | 0 |
SplitToningShadowHue | 0 |
SplitToningShadowSaturation | 0 |
State | Akershus |
Subject | Hauerseter, army, hund, hundeskolen, hæren, k9, sessvollmoen, trening, utdanning, education, FHSK |
SupplementalCategories | Hær Hæren |
Tint | +36 |
ToneCurveName2012 | Linear |
ToneCurvePV2012 | 0, 0, 255, 255 |
ToneCurvePV2012Blue | 0, 0, 255, 255 |
ToneCurvePV2012Green | 0, 0, 255, 255 |
ToneCurvePV2012Red | 0, 0, 255, 255 |
UniqueDocumentID | 714F1C151CEF429C A8C0F99ED16616DC |
UniqueId | 714F1C151CEF429C A8C0F99ED16616DC |
UserDefined220 | Hær |
Version | 7.2 |
Vibrance | 0 |
VignetteAmount | 0 |
WhiteBalance (1) | As Shot |
WhiteBalance | Auto |
Whites2012 | +35 |
XMPFileStamps | 2016:10:25 10:00:22+02:00, 2016:10:25 10:00:22+02:00, 2016:10:25 10:43:17+02:00, 2016:10:25 10:43:17+02:00, 2016:10:25 10:44:05+02:00, 2016:10:25 10:44:05+02:00 |