Felt | Verdi |
AlreadyApplied | True |
Aperture | 20.0 |
ApertureValue | 20.0 |
ApproximateFocusDistance | 1.78 |
Artist | Ulf Robet Stromme |
AutoLateralCA | 0 |
BitsPerSample | 8 |
Blacks2012 | +18 |
BlueHue | 0 |
BlueSaturation | 0 |
By-line | Ulf Robet Stromme |
CameraProfile | Adobe Standard |
CFAPattern | [Red,Green][Green,Blue] |
CircleOfConfusion | 0.030 mm |
Clarity2012 | +15 |
ColorComponents | 3 |
ColorMode | RGB |
ColorNoiseReduction | 55 |
ColorNoiseReductionDetail | 50 |
ColorNoiseReductionSmoothness | 50 |
ColorSpace | Uncalibrated |
ColorTemperature | 5400 |
ColorTransform | YCbCr |
Contrast | Normal |
Contrast2012 | +9 |
ConvertToGrayscale | False |
CreateDate | 2014:10:03 15:15:54 |
Creator | Ulf Robet Stromme |
CreatorTool | Adobe Photoshop CC 2017 (Macintosh) |
CropAngle | 0.055953 |
CropBottom | 0.999993 |
CropConstrainToWarp | 1 |
CropLeft | 0.008842 |
CropRight | 0.998944 |
CropTop | 0.011068 |
CustomRendered | Normal |
DateCreated (1) | 2014:10:03 |
DateCreated | 2014:10:03 15:15:54.007+02:00 |
DateTimeOriginal | 2014:10:03 15:15:54 |
DefringeGreenAmount | 0 |
DefringeGreenHueHi | 60 |
DefringeGreenHueLo | 40 |
DefringePurpleAmount | 0 |
DefringePurpleHueHi | 70 |
DefringePurpleHueLo | 30 |
Dehaze | 0 |
DigitalZoomRatio | 1 |
DOF | inf (0.76 m - inf) |
ExifImageHeight | 6365 |
ExifImageWidth | 8269 |
Exposure2012 | +0.10 |
ExposureCompensation | +4/3 |
ExposureMode | Manual |
ExposureProgram | Manual |
ExposureTime | 1/80 |
Flash | Off, Did not fire |
FNumber | 20.0 |
FocalLength | 28.0 mm |
FocalLength35efl | 28.0 mm (35 mm equivalent: 28.0 mm) |
FocalLengthIn35mmFormat | 28 mm |
Format | image/jpeg |
FOV | 65.5 deg |
GainControl | Low gain up |
GrainAmount | 0 |
GreenHue | 0 |
GreenSaturation | 0 |
HasCrop | True |
HasSettings | True |
Highlights2012 | 0 |
HueAdjustmentAqua | 0 |
HueAdjustmentBlue | 0 |
HueAdjustmentGreen | 0 |
HueAdjustmentMagenta | 0 |
HueAdjustmentOrange | 0 |
HueAdjustmentPurple | 0 |
HueAdjustmentRed | 0 |
HueAdjustmentYellow | 0 |
HyperfocalDistance | 1.30 m |
ICCProfileName | Adobe RGB (1998) |
ImageHeight | 6365 |
ImageNumber | 8044 |
ImageSize | 8269x6365 |
ImageWidth | 8269 |
ISO | 400 |
Lens | 28.0-300.0 mm f/3.5-5.6 |
LensID (1) | 165 |
LensID | AF-S Nikkor 28-300mm f/3.5-5.6G ED VR |
LensInfo | 28-300mm f/3.5-5.6 |
LensManualDistortionAmount | 0 |
LensModel | 28.0-300.0 mm f/3.5-5.6 |
LensProfileEnable | 0 |
LensProfileSetup | LensDefaults |
LightSource | Unknown |
LightValue | 13.0 |
LuminanceAdjustmentAqua | 0 |
LuminanceAdjustmentBlue | -15 |
LuminanceAdjustmentGreen | 0 |
LuminanceAdjustmentMagenta | 0 |
LuminanceAdjustmentOrange | 0 |
LuminanceAdjustmentPurple | 0 |
LuminanceAdjustmentRed | 0 |
LuminanceAdjustmentYellow | 0 |
LuminanceNoiseReductionContrast | 57 |
LuminanceNoiseReductionDetail | 50 |
LuminanceSmoothing | 80 |
Make | NIKON CORPORATION |
MaxApertureValue | 3.5 |
Megapixels | 52.6 |
MeteringMode | Multi-segment |
Model | NIKON D800 |
ModifyDate (1) | 2017:09:20 10:26:18+02:00 |
ModifyDate | 2017:09:20 10:26:18 |
Orientation | Horizontal (normal) |
ParametricDarks | -39 |
ParametricHighlights | +18 |
ParametricHighlightSplit | 75 |
ParametricLights | -3 |
ParametricMidtoneSplit | 50 |
ParametricShadows | 0 |
ParametricShadowSplit | 25 |
PerspectiveAspect | 0 |
PerspectiveHorizontal | 0 |
PerspectiveRotate | 0.0 |
PerspectiveScale | 100 |
PerspectiveUpright | 0 |
PerspectiveVertical | 0 |
PerspectiveX | 0.00 |
PerspectiveY | 0.00 |
PostCropVignetteAmount | 0 |
ProcessVersion | 6.7 |
ProfileDescription | Adobe RGB (1998) |
Rating | 0 |
RawFileName | _DSC8040.dng |
RedHue | 0 |
RedSaturation | 0 |
Saturation (1) | -18 |
Saturation | Normal |
SaturationAdjustmentAqua | +32 |
SaturationAdjustmentBlue | +28 |
SaturationAdjustmentGreen | 0 |
SaturationAdjustmentMagenta | 0 |
SaturationAdjustmentOrange | +10 |
SaturationAdjustmentPurple | 0 |
SaturationAdjustmentRed | 0 |
SaturationAdjustmentYellow | -13 |
ScaleFactor35efl | 1.0 |
SceneCaptureType | Landscape |
SceneType | Directly photographed |
SensingMethod | One-chip color area |
SensitivityType | Recommended Exposure Index |
SerialNumber | 6086450 |
Shadows2012 | +20 |
ShadowTint | 0 |
SharpenDetail | 82 |
SharpenEdgeMasking | 81 |
SharpenRadius | +2.4 |
Sharpness (1) | 114 |
Sharpness | Normal |
ShutterSpeed | 1/80 |
ShutterSpeedValue | 1/80 |
Software | Adobe Photoshop CC 2017 (Macintosh) |
SplitToningBalance | 0 |
SplitToningHighlightHue | 0 |
SplitToningHighlightSaturation | 0 |
SplitToningShadowHue | 0 |
SplitToningShadowSaturation | 0 |
SubjectDistanceRange | Unknown |
Tint | -4 |
ToneCurve | 0, 0, 32, 22, 64, 56, 128, 128, 192, 196, 255, 255 |
ToneCurveBlue | 0, 0, 255, 255 |
ToneCurveGreen | 0, 0, 255, 255 |
ToneCurveName | Medium Contrast |
ToneCurveName2012 | Linear |
ToneCurvePV2012 | 0, 0, 255, 255 |
ToneCurvePV2012Blue | 0, 0, 255, 255 |
ToneCurvePV2012Green | 0, 0, 255, 255 |
ToneCurvePV2012Red | 0, 0, 255, 255 |
ToneCurveRed | 0, 0, 255, 255 |
ToneMapStrength | 0 |
URL_List | |
Version | 9.12.1 |
Vibrance | -6 |
VignetteAmount | 0 |
WhiteBalance (1) | As Shot |
WhiteBalance | Manual |
Whites2012 | +16 |