Felt | Verdi |
AlreadyApplied | True |
Aperture | 7.1 |
ApertureValue | 7.1 |
ApproximateFocusDistance | 10 |
Artist | Joe K. Partyka |
AutoLateralCA | 1 |
AutoWhiteVersion | 134348800 |
BitsPerSample | 8 |
Blacks2012 | -2 |
BlueHue | -20 |
BlueSaturation | -5 |
By-line | Joe K. Partyka |
CameraProfile | Adobe Standard |
CircleOfConfusion | 0.019 mm |
Clarity2012 | +40 |
ColorComponents | 3 |
ColorNoiseReduction | 25 |
ColorNoiseReductionDetail | 50 |
ColorNoiseReductionSmoothness | 50 |
ColorSpace | sRGB |
ColorTemperature | 5850 |
ColorTransform | YCbCr |
Contrast2012 | -2 |
ConvertToGrayscale | False |
Copyright | Joe K. Partyka |
CopyrightNotice | Joe K. Partyka |
CreateDate (1) | 2017:09:23 15:10:29.00 |
CreateDate | 2017:09:23 15:10:29 |
Creator | Joe K. Partyka |
CreatorTool | Adobe Photoshop Lightroom 6.12 (Windows) |
CropAngle | -1.2 |
CropBottom | 0.968945 |
CropConstrainToWarp | 0 |
CropLeft | 0.002047 |
CropRight | 1 |
CropTop | 0.314268 |
CustomRendered | Normal |
DateCreated (1) | 2017:09:23 |
DateCreated | 2017:09:23 15:10:29.00 |
DateTimeOriginal | 2017:09:23 15:10:29 |
DefringeGreenAmount | 0 |
DefringeGreenHueHi | 60 |
DefringeGreenHueLo | 40 |
DefringePurpleAmount | 0 |
DefringePurpleHueHi | 70 |
DefringePurpleHueLo | 30 |
Dehaze | 0 |
DistortionCorrectionAlreadyApplied | True |
DOF | inf (2.98 m - inf) |
Exposure2012 | +1.22 |
ExposureCompensation | 0 |
ExposureMode | Auto |
ExposureProgram | Aperture-priority AE |
ExposureTime | 1/320 |
Firmware | 2.0.6 |
Flash | Off, Did not fire |
FlashCompensation | 0 |
FNumber | 7.1 |
FocalLength | 24.0 mm |
FocalLength35efl | 24.0 mm (35 mm equivalent: 37.7 mm) |
Format | image/jpeg |
FOV | 51.1 deg |
GradientBasedCorrActive | true |
GradientBasedCorrAmount | 1.000000 |
GradientBasedCorrBrightness | 0.000000 |
GradientBasedCorrClarity2012 | 0.000000 |
GradientBasedCorrContrast2012 (2) | 0.000000 |
GradientBasedCorrContrast2012 | 0.287880 |
GradientBasedCorrDefringe | 0.000000 |
GradientBasedCorrExposure2012 (1) | 0.000000 |
GradientBasedCorrExposure2012 | 0.060500 |
GradientBasedCorrHighlights2012 (2) | -0.318180 |
GradientBasedCorrHighlights2012 | 0.000000 |
GradientBasedCorrHue | 0.000000 |
GradientBasedCorrLocalBlacks2012 | 0.000000 |
GradientBasedCorrLocalDehaze | 0.000000 |
GradientBasedCorrLocalWhites2012 (1) | -0.151520 |
GradientBasedCorrLocalWhites2012 | 0.000000 |
GradientBasedCorrLuminanceNoise | 0.000000 |
GradientBasedCorrMaskFullX (1) | 0.471099 |
GradientBasedCorrMaskFullX (2) | 0.503780 |
GradientBasedCorrMaskFullX | 0.432408 |
GradientBasedCorrMaskFullY (1) | 0.490001 |
GradientBasedCorrMaskFullY (2) | 0.435318 |
GradientBasedCorrMaskFullY | 0.580292 |
GradientBasedCorrMaskValue | 1.000000 |
GradientBasedCorrMaskWhat | Mask/Gradient |
GradientBasedCorrMaskZeroX (1) | 0.472675 |
GradientBasedCorrMaskZeroX (2) | 0.505662 |
GradientBasedCorrMaskZeroX | 0.424806 |
GradientBasedCorrMaskZeroY (1) | 0.588250 |
GradientBasedCorrMaskZeroY (2) | 0.531973 |
GradientBasedCorrMaskZeroY | 0.476133 |
GradientBasedCorrMoire | 0.000000 |
GradientBasedCorrSaturation (5) | -0.348480 |
GradientBasedCorrSaturation | 0.000000 |
GradientBasedCorrShadows2012 | 0.000000 |
GradientBasedCorrSharpness | 0.000000 |
GradientBasedCorrTemperature | 0.000000 |
GradientBasedCorrTint | 0.000000 |
GradientBasedCorrWhat | Correction |
GrainAmount | 10 |
GrainFrequency | 65 |
GrainSize | 20 |
GreenHue | +40 |
GreenSaturation | +5 |
HasCrop | True |
HasSettings | True |
Highlights2012 | -72 |
HueAdjustmentAqua | +82 |
HueAdjustmentBlue | +6 |
HueAdjustmentGreen | +100 |
HueAdjustmentMagenta | +30 |
HueAdjustmentOrange | -32 |
HueAdjustmentPurple | +20 |
HueAdjustmentRed | -12 |
HueAdjustmentYellow | -9 |
HyperfocalDistance | 4.24 m |
ImageHeight | 2370 |
ImageNumber | 0 |
ImageSize | 5124x2370 |
ImageWidth | 5124 |
ISO | 200 |
LateralChromaticAberrationCorrectionAlreadyApplied | True |
Lens | EF24-70mm f/4L IS USM |
LensID (1) | 504 |
LensID | Canon EF 24-70mm f/4L IS USM |
LensInfo | 24-70mm f/? |
LensManualDistortionAmount | 0 |
LensModel | EF24-70mm f/4L IS USM |
LensProfileChromaticAberrationScale | 100 |
LensProfileDistortionScale | 100 |
LensProfileEnable | 1 |
LensProfileFilename | Canon EOS-1Ds Mark III (Canon EF 24-70mm f4L IS USM) - RAW.lcp |
LensProfileName | Adobe (Canon EF 24-70mm f/4 L IS USM) |
LensProfileSetup | LensDefaults |
LensProfileVignettingScale | 100 |
LightValue | 13.0 |
LuminanceAdjustmentAqua | +12 |
LuminanceAdjustmentBlue | -25 |
LuminanceAdjustmentGreen | +39 |
LuminanceAdjustmentMagenta | 0 |
LuminanceAdjustmentOrange | +28 |
LuminanceAdjustmentPurple | -15 |
LuminanceAdjustmentRed | -55 |
LuminanceAdjustmentYellow | +10 |
LuminanceNoiseReductionContrast | 0 |
LuminanceNoiseReductionDetail | 50 |
LuminanceSmoothing | 20 |
Make | Canon |
MaxApertureValue | 4.0 |
Megapixels | 12.1 |
MeteringMode | Spot |
Model | Canon EOS 7D |
ModifyDate (1) | 2017:09:23 21:12:40+02:00 |
ModifyDate | 2017:09:23 21:12:40 |
PaintCorrectionActive | true |
PaintCorrectionAmount | 1.000000 |
PaintCorrectionBrightness | 0.000000 |
PaintCorrectionClarity2012 | 0.000000 |
PaintCorrectionContrast2012 | 0.000000 |
PaintCorrectionDefringe | 0.000000 |
PaintCorrectionExposure2012 | 0.000000 |
PaintCorrectionHighlights2012 | 0.000000 |
PaintCorrectionHue | 0.000000 |
PaintCorrectionLocalBlacks2012 | 0.000000 |
PaintCorrectionLocalDehaze | 0.439390 |
PaintCorrectionLocalWhites2012 | 0.000000 |
PaintCorrectionLuminanceNoise | 0.000000 |
PaintCorrectionMaskCenterWeight | 0.070676 |
PaintCorrectionMaskFlow | 1.000000 |
PaintCorrectionMaskRadius (1) | 0.148729 |
PaintCorrectionMaskRadius | 0.149004 |
PaintCorrectionMaskValue | 0.574000 |
PaintCorrectionMaskWhat | Mask/Paint |
PaintCorrectionMoire | 0.000000 |
PaintCorrectionSaturation | 0.000000 |
PaintCorrectionShadows2012 | 0.000000 |
PaintCorrectionSharpness | 0.000000 |
PaintCorrectionTemperature | 0.000000 |
PaintCorrectionTint | 0.000000 |
PaintCorrectionWhat | Correction |
ParametricDarks | 0 |
ParametricHighlights | 0 |
ParametricHighlightSplit | 75 |
ParametricLights | 0 |
ParametricMidtoneSplit | 48 |
ParametricShadows | 0 |
ParametricShadowSplit | 20 |
PerspectiveAspect | 0 |
PerspectiveHorizontal | 0 |
PerspectiveRotate | 0.0 |
PerspectiveScale | 100 |
PerspectiveUpright | 0 |
PerspectiveVertical | 0 |
PerspectiveX | 0.00 |
PerspectiveY | 0.00 |
PostCropVignetteAmount | -6 |
PostCropVignetteFeather | 50 |
PostCropVignetteHighlightContrast | 0 |
PostCropVignetteMidpoint | 50 |
PostCropVignetteRoundness | 0 |
PostCropVignetteStyle | 1 |
ProcessVersion | 6.7 |
ProfileDescription | sRGB IEC61966-2.1 |
RecommendedExposureIndex | 200 |
RedHue | +20 |
RedSaturation | +40 |
Rights | Joe K. Partyka |
Saturation | -4 |
SaturationAdjustmentAqua | -21 |
SaturationAdjustmentBlue | -30 |
SaturationAdjustmentGreen | -68 |
SaturationAdjustmentMagenta | -45 |
SaturationAdjustmentOrange | +18 |
SaturationAdjustmentPurple | -45 |
SaturationAdjustmentRed | -54 |
SaturationAdjustmentYellow | -27 |
ScaleFactor35efl | 1.6 |
SceneCaptureType | Standard |
SensitivityType | Recommended Exposure Index |
SerialNumber | 3681501854 |
Shadows2012 | +73 |
ShadowTint | -4 |
SharpenDetail | 25 |
SharpenEdgeMasking | 85 |
SharpenRadius | +1.0 |
Sharpness | 80 |
ShutterSpeed | 1/320 |
ShutterSpeedValue | 1/320 |
Software | Adobe Photoshop Lightroom 6.12 (Windows) |
SplitToningBalance | 0 |
SplitToningHighlightHue | 0 |
SplitToningHighlightSaturation | 0 |
SplitToningShadowHue | 0 |
SplitToningShadowSaturation | 0 |
Tint | +9 |
ToneCurve | 0, 0, 255, 255 |
ToneCurveBlue | 0, 0, 255, 255 |
ToneCurveGreen | 0, 0, 255, 255 |
ToneCurveName | Linear |
ToneCurveName2012 | Custom |
ToneCurvePV2012 | 0, 42, 50, 56, 97, 92, 189, 187, 255, 245 |
ToneCurvePV2012Blue | 0, 0, 30, 11, 71, 46, 122, 118, 183, 206, 222, 235, 255, 255 |
ToneCurvePV2012Green | 0, 0, 37, 13, 74, 46, 126, 122, 178, 198, 217, 229, 255, 255 |
ToneCurvePV2012Red | 0, 0, 45, 10, 78, 45, 127, 121, 182, 204, 255, 255 |
ToneCurveRed | 0, 0, 255, 255 |
ToneMapStrength | 0 |
Version | 9.12 |
Vibrance | +4 |
VignetteAmount | 0 |
VignetteCorrectionAlreadyApplied | True |
WhiteBalance (1) | As Shot |
WhiteBalance | Manual |
Whites2012 | -44 |