Felt | Verdi |
2017-10-22T21:43:38+02:00 Filen E:\2017\Janne\psd\_74A0407.psd er lagret
2017-10-22T21:47:20+02:00 Filen E:\2017\Janne\psd\_74A0407.psd er lagret
2017-10-22T22:12:02+02:00 Filen D:\PSAutoRecover\Torild\__74A0407A0F93DEAB6F61CEECA5995B8FA3F8D70.psb er lagret
2017-10-22T22:19:40+02:00 Filen E:\2017\Janne\psd\_74A0407.psd er lagret
2017-10-28T08:56:20+02:00 Fil _74A0407.psd åpnet
2017-10-28T09:05:56+02:00 Filen D:\PSAutoRecover\Torild\__74A0407A0F93DEAB6F61CEECA5995B8FA3F8D70.psb er lagret
2017-10-28T09:09:38+02:00 Filen E:\2017\Janne\psd\_74A0407.psd er lagret
2017-10-28T09:15:19+02:00 Filen E:\2017\Janne\psd\_74A0407.psd er lagret
2017-10-28T09:25:08+02:00 Filen D:\PSAutoRecover\Torild\__74A0407A0F93DEAB6F61CEECA5995B8FA3F8D70.psb er lagret
2017-10-28T10:32:21+02:00 Filen D:\PSAutoRecover\Torild\__74A0407A0F93DEAB6F61CEECA5995B8FA3F8D70.psb er lagret
2017-10-28T10:41:57+02:00 Filen D:\PSAutoRecover\Torild\__74A0407A0F93DEAB6F61CEECA5995B8FA3F8D70.psb er lagret
2017-10-28T10:47:27+02:00 Filen E:\2017\Janne\psd\_74A0407.psd er lagret
2017-10-28T10:49:14+02:00 Filen E:\2017\Janne\jpg\_74A0407_bw.jpg er lagret
2017-10-28T10:50:21+02:00 Filen E:\2017\Janne\psd\_74A0407.psd er lagret
2017-10-28T10:51:47+02:00 Filen D:\PSAutoRecover\Torild\__74A0407A0F93DEAB6F61CEECA5995B8FA3F8D70.psb er lagret
2017-10-28T10:52:38+02:00 Filen E:\2017\Janne\jpg\_74A0407.jpg er lagret
AlreadyApplied | True |
Aperture | 4.0 |
ApertureValue | 4.0 |
ApproximateFocusDistance | 11.9 |
Artist | Torild Vangen |
AutoLateralCA | 0 |
AutoWhiteVersion | 134348800 |
BitsPerSample | 8 |
Blacks2012 | -15 |
BlueHue | 0 |
BlueSaturation | 0 |
By-line | Torild Vangen |
CameraProfile | Adobe Standard |
CircleOfConfusion | 0.027 mm |
Clarity2012 | 0 |
ColorComponents | 3 |
ColorMode | RGB |
ColorNoiseReduction | 25 |
ColorNoiseReductionDetail | 50 |
ColorNoiseReductionSmoothness | 50 |
ColorSpace | Uncalibrated |
ColorTemperature | 6000 |
ColorTransform | YCbCr |
Contrast2012 | +13 |
ConvertToGrayscale | False |
CreateDate | 2017:09:30 16:41:50 |
Creator | Torild Vangen |
CreatorTool | Adobe Photoshop CC 2017 (Windows) |
CustomRendered | Normal |
DateCreated (1) | 2017:09:30 |
DateCreated | 2017:09:30 16:41:50 |
DateTimeOriginal | 2017:09:30 16:41:50 |
DefringeGreenAmount | 0 |
DefringeGreenHueHi | 60 |
DefringeGreenHueLo | 40 |
DefringePurpleAmount | 0 |
DefringePurpleHueHi | 70 |
DefringePurpleHueLo | 30 |
Dehaze | 0 |
DOF | 1.94 m (11.01 - 12.95 m) |
ExifImageHeight | 3435 |
ExifImageWidth | 5152 |
Exposure2012 | -0.25 |
ExposureCompensation | 0 |
ExposureMode | Manual |
ExposureProgram | Manual |
ExposureTime | 1/160 |
Firmware | 1.3.3 |
Flash | Off, Did not fire |
FlashCompensation | 0 |
FNumber | 4.0 |
FocalLength | 125.0 mm |
FocalLength35efl | 125.0 mm (35 mm equivalent: 139.7 mm) |
Format | image/jpeg |
FOV | 14.7 deg |
GrainAmount | 0 |
GreenHue | 0 |
GreenSaturation | 0 |
HasCrop | False |
HasSettings | True |
Highlights2012 | +12 |
HueAdjustmentAqua | 0 |
HueAdjustmentBlue | 0 |
HueAdjustmentGreen | 0 |
HueAdjustmentMagenta | 0 |
HueAdjustmentOrange | 0 |
HueAdjustmentPurple | 0 |
HueAdjustmentRed | 0 |
HueAdjustmentYellow | 0 |
HyperfocalDistance | 145.35 m |
ICCProfileName | Adobe RGB (1998) |
ImageHeight | 3435 |
ImageNumber | 0 |
ImageSize | 5152x3435 |
ImageWidth | 5152 |
ISO | 320 |
Label | Gjennomgang |
Lens | EF70-200mm f/2.8L IS II USM |
LensID (1) | 251 |
LensID | Canon EF 70-200mm f/2.8L IS II USM |
LensInfo | 70-200mm f/? |
LensManualDistortionAmount | 0 |
LensModel | EF70-200mm f/2.8L IS II USM |
LensProfileEnable | 0 |
LensProfileSetup | LensDefaults |
LensSerialNumber | 000081c32e |
LightValue | 9.6 |
LuminanceAdjustmentAqua | 0 |
LuminanceAdjustmentBlue | 0 |
LuminanceAdjustmentGreen | 0 |
LuminanceAdjustmentMagenta | 0 |
LuminanceAdjustmentOrange | 0 |
LuminanceAdjustmentPurple | 0 |
LuminanceAdjustmentRed | 0 |
LuminanceAdjustmentYellow | 0 |
LuminanceSmoothing | 0 |
Make | Canon |
MaxApertureValue | 2.8 |
Megapixels | 17.7 |
MeteringMode | Spot |
Model | Canon EOS 5D Mark III |
ModifyDate (1) | 2017:10:28 10:52:38+02:00 |
ModifyDate | 2017:10:28 10:52:38 |
Orientation | Horizontal (normal) |
ParametricDarks | 0 |
ParametricHighlights | 0 |
ParametricHighlightSplit | 75 |
ParametricLights | 0 |
ParametricMidtoneSplit | 50 |
ParametricShadows | 0 |
ParametricShadowSplit | 25 |
PerspectiveAspect | 0 |
PerspectiveHorizontal | 0 |
PerspectiveRotate | 0.0 |
PerspectiveScale | 100 |
PerspectiveUpright | 0 |
PerspectiveVertical | 0 |
PerspectiveX | 0.00 |
PerspectiveY | 0.00 |
PostCropVignetteAmount | 0 |
ProcessVersion | 6.7 |
ProfileDescription | Adobe RGB (1998) |
Rating | 0 |
RawFileName | _74A0407.CR2 |
RecommendedExposureIndex | 320 |
RedHue | 0 |
RedSaturation | 0 |
Saturation | 0 |
SaturationAdjustmentAqua | 0 |
SaturationAdjustmentBlue | 0 |
SaturationAdjustmentGreen | 0 |
SaturationAdjustmentMagenta | 0 |
SaturationAdjustmentOrange | 0 |
SaturationAdjustmentPurple | 0 |
SaturationAdjustmentRed | 0 |
SaturationAdjustmentYellow | 0 |
ScaleFactor35efl | 1.1 |
SceneCaptureType | Standard |
SensitivityType | Recommended Exposure Index |
SerialNumber | 033024002594 |
Shadows2012 | +43 |
ShadowTint | 0 |
SharpenDetail | 25 |
SharpenEdgeMasking | 0 |
SharpenRadius | +1.0 |
Sharpness | 25 |
ShutterSpeed | 1/160 |
ShutterSpeedValue | 1/160 |
Software | Adobe Photoshop CC 2017 (Windows) |
SplitToningBalance | 0 |
SplitToningHighlightHue | 0 |
SplitToningHighlightSaturation | 0 |
SplitToningShadowHue | 0 |
SplitToningShadowSaturation | 0 |
Tint | +6 |
ToneCurve | 0, 0, 32, 22, 64, 56, 128, 128, 192, 196, 255, 255 |
ToneCurveBlue | 0, 0, 255, 255 |
ToneCurveGreen | 0, 0, 255, 255 |
ToneCurveName | Medium Contrast |
ToneCurveName2012 | Linear |
ToneCurvePV2012 | 0, 0, 255, 255 |
ToneCurvePV2012Blue | 0, 0, 255, 255 |
ToneCurvePV2012Green | 0, 0, 255, 255 |
ToneCurvePV2012Red | 0, 0, 255, 255 |
ToneCurveRed | 0, 0, 255, 255 |
ToneMapStrength | 0 |
URL_List | |
Version | 9.10 |
Vibrance | 0 |
VignetteAmount | 0 |
WhiteBalance (1) | As Shot |
WhiteBalance | Manual |
Whites2012 | +17 |