Felt | Verdi |
AlreadyApplied | True |
Aperture | 8.0 |
ApertureValue | 8.0 |
Artist | Thorfinn K Kaspersen |
AutoLateralCA | 0 |
BitsPerSample | 8 |
Blacks2012 | 0 |
BlueHue | 0 |
BlueSaturation | 0 |
By-line | Thorfinn K Kaspersen |
CameraProfile | Embedded |
CircleOfConfusion | 0.017 mm |
Clarity2012 | 0 |
ColorComponents | 3 |
ColorNoiseReduction | 25 |
ColorNoiseReductionDetail | 50 |
ColorTemperature | 5850 |
ColorTransform | YCbCr |
Contrast | High |
Contrast2012 | +21 |
ConvertToGrayscale | True |
Copyright | Thorfinn K Kaspersen |
CopyrightFlag | True |
CopyrightNotice | Thorfinn K Kaspersen |
CreateDate | 2016:12:08 11:31:05 |
Creator | Thorfinn K Kaspersen |
CreatorAddress | Toppenhaugberget 15 |
CreatorCountry | Norway |
CreatorPostalCode | 1353 |
CreatorRegion | Bærums Verk |
CreatorTool | Adobe Photoshop Lightroom 4.4 (Macintosh) |
CreatorWorkEmail | thokas@email.no |
CreatorWorkTelephone | +47 97693210 |
CropAngle | 0 |
CropBottom | 0.78 |
CropConstrainToWarp | 0 |
CropHeight | 2240 |
CropLeft | 0.22 |
CropRight | 0.78 |
CropTop | 0.22 |
CropUnit | pixels |
CropWidth | 3360 |
CustomRendered | Normal |
DateCreated (1) | 2016:12:08 |
DateCreated | 2016:12:08 11:31:05 |
DateTimeOriginal | 2016:12:08 11:31:05 |
DigitalZoomRatio | 1.8 |
Exposure2012 | -0.60 |
ExposureCompensation | 0 |
ExposureProgram | Aperture-priority AE |
ExposureTime | 1/60 |
Flash | Off, Did not fire |
FNumber | 8.0 |
FocalLength | 28.0 mm |
FocalLength35efl | 28.0 mm (35 mm equivalent: 50.0 mm) |
FocalLengthIn35mmFormat | 50 mm |
Format | image/jpeg |
FOV | 39.6 deg |
GrainAmount | 0 |
GrayMixerAqua | 0 |
GrayMixerBlue | 0 |
GrayMixerGreen | 0 |
GrayMixerMagenta | 0 |
GrayMixerOrange | 0 |
GrayMixerPurple | 0 |
GrayMixerRed | 0 |
GrayMixerYellow | 0 |
GreenHue | 0 |
GreenSaturation | 0 |
HasCrop | True |
HasSettings | True |
Highlights2012 | -100 |
HyperfocalDistance | 5.82 m |
ImageHeight | 2240 |
ImageSize | 3360x2240 |
ImageWidth | 3360 |
ISO | 2000 |
Lens | 28.0 mm f/1.7 |
LensInfo | 28mm f/1.53125 |
LensMake | LEICA CAMERA AG |
LensManualDistortionAmount | 0 |
LensModel | 28.0 mm f/1.7 |
LensProfileEnable | 0 |
LensProfileSetup | LensDefaults |
LensSerialNumber | N/A |
LightSource | Unknown |
LightValue | 7.6 |
LuminanceSmoothing | 0 |
Make | LEICA CAMERA AG |
Marked | True |
MaxApertureValue | 1.7 |
Megapixels | 7.5 |
MeteringMode | Center-weighted average |
Model | LEICA Q (Typ 116) |
ModifyDate (1) | 2017:11:13 19:01:22+01:00 |
ModifyDate | 2017:11:13 19:01:22 |
ParametricDarks | 0 |
ParametricHighlights | 0 |
ParametricHighlightSplit | 75 |
ParametricLights | 0 |
ParametricMidtoneSplit | 50 |
ParametricShadows | 0 |
ParametricShadowSplit | 25 |
PerspectiveHorizontal | 0 |
PerspectiveRotate | 0.0 |
PerspectiveScale | 100 |
PerspectiveVertical | 0 |
PostCropVignetteAmount | 0 |
ProcessVersion | 6.7 |
ProfileDescription | Adobe RGB (1998) |
RedHue | 0 |
RedSaturation | 0 |
Rights | Thorfinn K Kaspersen |
Saturation | High |
ScaleFactor35efl | 1.8 |
SceneCaptureType | Standard |
SensingMethod | One-chip color area |
SensitivityType | Standard Output Sensitivity |
SerialNumber | 4930902 |
Shadows2012 | +56 |
ShadowTint | 0 |
SharpenDetail | 15 |
SharpenEdgeMasking | 60 |
SharpenRadius | +1.4 |
Sharpness (1) | 59 |
Sharpness | Hard |
ShutterSpeed | 1/60 |
ShutterSpeedValue | 1/60 |
Software | Adobe Photoshop Lightroom 4.4 (Macintosh) |
SplitToningBalance | 0 |
SplitToningHighlightHue | 0 |
SplitToningHighlightSaturation | 0 |
SplitToningShadowHue | 0 |
SplitToningShadowSaturation | 0 |
Tint | -9 |
ToneCurveName2012 | Linear |
ToneCurvePV2012 | 0, 0, 255, 255 |
ToneCurvePV2012Blue | 0, 0, 255, 255 |
ToneCurvePV2012Green | 0, 0, 255, 255 |
ToneCurvePV2012Red | 0, 0, 255, 255 |
Version | 7.4 |
VignetteAmount | 0 |
WhiteBalance (1) | As Shot |
WhiteBalance | Auto |
Whites2012 | 0 |