Felt | Verdi |
AlreadyApplied | True |
Aperture | 5.0 |
ApertureValue | 5.0 |
AutoLateralCA | 0 |
AutoWhiteVersion | 134348800 |
BitsPerSample | 8 |
Blacks2012 | 0 |
BlueHue | 0 |
BlueSaturation | 0 |
BrightnessValue | 4.14 |
CameraProfile | Adobe Standard |
CircleOfConfusion | 0.002 mm |
Clarity2012 | +53 |
ColorComponents | 3 |
ColorNoiseReduction | 100 |
ColorNoiseReductionDetail | 50 |
ColorNoiseReductionSmoothness | 50 |
ColorSpace | sRGB |
ColorTemperature | 4550 |
ColorTransform | YCbCr |
Contrast2012 | +11 |
ConvertToGrayscale | True |
CreateDate | 2017:11:24 14:09:21 |
CreatorTool | Adobe Photoshop Lightroom 5.7.1 (Macintosh) |
CropAngle | 0 |
CropBottom | 0.983324 |
CropConstrainToWarp | 0 |
CropLeft | 0.002927 |
CropRight | 0.902513 |
CropTop | 0.083738 |
CustomRendered | Normal |
DateCreated (1) | 2017:11:24 |
DateCreated | 2017:11:24 14:09:21 |
DateTimeOriginal | 2017:11:24 14:09:21 |
Exposure2012 | 0.00 |
ExposureCompensation | 0 |
ExposureMode | Auto |
ExposureProgram | Aperture-priority AE |
ExposureTime | 1/75 |
Flash | Off, Did not fire |
FNumber | 5.0 |
FocalLength | 28.4 mm |
FocalLength35efl | 28.4 mm (35 mm equivalent: 436.4 mm) |
Format | image/jpeg |
FOV | 4.7 deg |
GrainAmount | 0 |
GrayMixerAqua | -71 |
GrayMixerBlue | -3 |
GrayMixerGreen | -69 |
GrayMixerMagenta | -6 |
GrayMixerOrange | +37 |
GrayMixerPurple | -1 |
GrayMixerRed | -10 |
GrayMixerYellow | -81 |
GreenHue | 0 |
GreenSaturation | 0 |
HasCrop | True |
HasSettings | True |
Highlights2012 | -27 |
HyperfocalDistance | 82.49 m |
ImageHeight | 1024 |
ImageSize | 768x1024 |
ImageWidth | 768 |
ISO | 400 |
LensManualDistortionAmount | 0 |
LensProfileEnable | 0 |
LensProfileSetup | LensDefaults |
LightSource | Unknown |
LightValue | 8.9 |
LuminanceNoiseReductionContrast | 0 |
LuminanceNoiseReductionDetail | 50 |
LuminanceSmoothing | 24 |
Make | FUJIFILM |
MaxApertureValue | 2.0 |
Megapixels | 0.786 |
MeteringMode | Multi-segment |
Model | X30 |
ModifyDate (1) | 2017:11:25 22:39:29+01:00 |
ModifyDate | 2017:11:25 22:39:29 |
PaintCorrectionActive | true |
PaintCorrectionAmount | 1.000000 |
PaintCorrectionBrightness | 0.000000 |
PaintCorrectionClarity2012 | 0.153691 |
PaintCorrectionContrast2012 | 0.147495 |
PaintCorrectionDefringe | 0.000000 |
PaintCorrectionExposure2012 | 0.000000 |
PaintCorrectionHighlights2012 | 0.506061 |
PaintCorrectionHue | 0.000000 |
PaintCorrectionLuminanceNoise | 0.000000 |
PaintCorrectionMaskCenterWeight | 0.228044 |
PaintCorrectionMaskFlow | 1.000000 |
PaintCorrectionMaskRadius | 0.058290 |
PaintCorrectionMaskValue | 1.000000 |
PaintCorrectionMaskWhat | Mask/Paint |
PaintCorrectionMoire | 0.000000 |
PaintCorrectionSaturation | 0.000000 |
PaintCorrectionShadows2012 | -0.058594 |
PaintCorrectionSharpness | 0.000000 |
PaintCorrectionTemperature | 0.000000 |
PaintCorrectionTint | 0.000000 |
PaintCorrectionWhat | Correction |
ParametricDarks | 0 |
ParametricHighlights | 0 |
ParametricHighlightSplit | 75 |
ParametricLights | 0 |
ParametricMidtoneSplit | 50 |
ParametricShadows | 0 |
ParametricShadowSplit | 25 |
PerspectiveAspect | 0 |
PerspectiveHorizontal | 0 |
PerspectiveRotate | 0.0 |
PerspectiveScale | 100 |
PerspectiveUpright | 0 |
PerspectiveVertical | 0 |
PostCropVignetteAmount | 0 |
ProcessVersion | 6.7 |
ProfileDescription | sRGB IEC61966-2.1 |
RedHue | 0 |
RedSaturation | 0 |
ScaleFactor35efl | 15.4 |
SceneCaptureType | Standard |
SceneType | Directly photographed |
SensingMethod | One-chip color area |
SensitivityType | Standard Output Sensitivity |
Shadows2012 | -14 |
ShadowTint | 0 |
SharpenDetail | 68 |
SharpenEdgeMasking | 0 |
SharpenRadius | +1.2 |
Sharpness (1) | 40 |
Sharpness | Normal |
ShutterSpeed | 1/75 |
ShutterSpeedValue | 1/75 |
Software | Adobe Photoshop Lightroom 5.7.1 (Macintosh) |
SplitToningBalance | 0 |
SplitToningHighlightHue | 0 |
SplitToningHighlightSaturation | 0 |
SplitToningShadowHue | 0 |
SplitToningShadowSaturation | 0 |
SubjectDistanceRange | Unknown |
Tint | +29 |
ToneCurve | 0, 0, 255, 255 |
ToneCurveBlue | 0, 0, 255, 255 |
ToneCurveGreen | 0, 0, 255, 255 |
ToneCurveName | Linear |
ToneCurveName2012 | Custom |
ToneCurvePV2012 | 0, 0, 49, 39, 109, 116, 255, 252 |
ToneCurvePV2012Blue | 0, 0, 255, 255 |
ToneCurvePV2012Green | 0, 0, 255, 255 |
ToneCurvePV2012Red | 0, 0, 255, 255 |
ToneCurveRed | 0, 0, 255, 255 |
Version | 8.7.1 |
VignetteAmount | 0 |
WhiteBalance (1) | As Shot |
WhiteBalance | Auto |
Whites2012 | +13 |