Felt | Verdi |
AlreadyApplied | True |
Aperture | 2.8 |
ApertureValue | 2.8 |
AutoLateralCA | 0 |
AutoWhiteVersion | 134348800 |
BitsPerSample | 8 |
Blacks2012 | +20 |
BlueHue | 0 |
BlueSaturation | 0 |
CameraProfile | Adobe Standard |
CircGradBasedCorrActive | true |
CircGradBasedCorrAmount | 1.000000 |
CircGradBasedCorrBrightness | 0.000000 |
CircGradBasedCorrClarity2012 | 0.000000 |
CircGradBasedCorrContrast2012 | 0.000000 |
CircGradBasedCorrDefringe | 0.000000 |
CircGradBasedCorrExposure2012 | 0.234250 |
CircGradBasedCorrHighlights2012 | -1.000000 |
CircGradBasedCorrHue | 240.000000 |
CircGradBasedCorrLocalBlacks2012 | 0.000000 |
CircGradBasedCorrLocalDehaze | 0.000000 |
CircGradBasedCorrLocalWhites2012 | 0.000000 |
CircGradBasedCorrLuminanceNoise | 0.000000 |
CircGradBasedCorrMaskAngle | 0.000000 |
CircGradBasedCorrMaskBottom | 0.654624 |
CircGradBasedCorrMaskFeather | +50 |
CircGradBasedCorrMaskFlipped | true |
CircGradBasedCorrMaskLeft | 0.018590 |
CircGradBasedCorrMaskMidpoint | +50 |
CircGradBasedCorrMaskRight | 0.994586 |
CircGradBasedCorrMaskRoundness | 0 |
CircGradBasedCorrMaskTop | 0.053427 |
CircGradBasedCorrMaskValue | 1.000000 |
CircGradBasedCorrMaskVersion | +2 |
CircGradBasedCorrMaskWhat | Mask/CircularGradient |
CircGradBasedCorrMoire | 0.000000 |
CircGradBasedCorrSaturation | 0.000000 |
CircGradBasedCorrShadows2012 | 0.634150 |
CircGradBasedCorrSharpness | 0.000000 |
CircGradBasedCorrTemperature | 0.000000 |
CircGradBasedCorrTint | 0.000000 |
CircGradBasedCorrWhat | Correction |
CircleOfConfusion | 0.020 mm |
Clarity2012 | 0 |
ColorComponents | 3 |
ColorNoiseReduction | 25 |
ColorNoiseReductionDetail | 50 |
ColorNoiseReductionSmoothness | 50 |
ColorSpace | Uncalibrated |
ColorTemperature | 4415 |
ColorTransform | YCbCr |
Contrast | Normal |
Contrast2012 | 0 |
ConvertToGrayscale | False |
CreatorTool | Adobe Photoshop Lightroom 6.13 (Windows) |
CropAngle | 0 |
CropBottom | 0.888594 |
CropConstrainToWarp | 0 |
CropLeft | 0.114074 |
CropRight | 0.94223 |
CropTop | 0 |
DateCreated (1) | 2018:01:05 |
DateCreated | 2018:01:05 12:05:21 |
DateTimeOriginal | 2018:01:05 12:05:21 |
DefringeGreenAmount | 0 |
DefringeGreenHueHi | 60 |
DefringeGreenHueLo | 40 |
DefringePurpleAmount | 0 |
DefringePurpleHueHi | 70 |
DefringePurpleHueLo | 30 |
Dehaze | 0 |
DigitalZoomRatio | 1 |
DistortionCorrectionAlreadyApplied | True |
Exposure2012 | 0.00 |
ExposureCompensation | 0 |
ExposureMode | Manual |
ExposureProgram | Manual |
ExposureTime | 1/25 |
Firmware | 1.41 |
Flash | No Flash |
FNumber | 2.8 |
FocalLength | 45.0 mm |
FocalLength35efl | 45.0 mm (35 mm equivalent: 69.0 mm) |
FocalLengthIn35mmFormat | 69 mm |
Format | image/jpeg |
FOV | 29.2 deg |
GradientBasedCorrActive | true |
GradientBasedCorrAmount | 1.000000 |
GradientBasedCorrBrightness | 0.000000 |
GradientBasedCorrClarity2012 | 0.000000 |
GradientBasedCorrContrast2012 | 0.000000 |
GradientBasedCorrDefringe | 0.000000 |
GradientBasedCorrExposure2012 (1) | -0.473250 |
GradientBasedCorrExposure2012 (2) | -0.629250 |
GradientBasedCorrExposure2012 (3) | 0.541500 |
GradientBasedCorrExposure2012 | 0.000000 |
GradientBasedCorrHighlights2012 | 0.000000 |
GradientBasedCorrHue | 240.000000 |
GradientBasedCorrLocalBlacks2012 (2) | 0.000000 |
GradientBasedCorrLocalBlacks2012 (3) | 0.019510 |
GradientBasedCorrLocalBlacks2012 | 0.121950 |
GradientBasedCorrLocalDehaze | 0.000000 |
GradientBasedCorrLocalWhites2012 | 0.000000 |
GradientBasedCorrLuminanceNoise | 0.000000 |
GradientBasedCorrMaskFullX (1) | 0.295750 |
GradientBasedCorrMaskFullX (2) | 0.802275 |
GradientBasedCorrMaskFullX (3) | 0.222059 |
GradientBasedCorrMaskFullX | 0.782166 |
GradientBasedCorrMaskFullY (1) | 0.292923 |
GradientBasedCorrMaskFullY (2) | 0.945262 |
GradientBasedCorrMaskFullY (3) | 0.215547 |
GradientBasedCorrMaskFullY | 0.759634 |
GradientBasedCorrMaskValue | 1.000000 |
GradientBasedCorrMaskWhat | Mask/Gradient |
GradientBasedCorrMaskZeroX (1) | 0.568816 |
GradientBasedCorrMaskZeroX (2) | 0.656426 |
GradientBasedCorrMaskZeroX (3) | 0.595017 |
GradientBasedCorrMaskZeroX | 0.701520 |
GradientBasedCorrMaskZeroY (1) | 0.481450 |
GradientBasedCorrMaskZeroY (2) | 0.469168 |
GradientBasedCorrMaskZeroY (3) | 0.387493 |
GradientBasedCorrMaskZeroY | 0.544701 |
GradientBasedCorrMoire | 0.000000 |
GradientBasedCorrSaturation | 0.000000 |
GradientBasedCorrShadows2012 (1) | 0.834150 |
GradientBasedCorrShadows2012 (2) | 0.512200 |
GradientBasedCorrShadows2012 (3) | 0.000000 |
GradientBasedCorrShadows2012 | 1.000000 |
GradientBasedCorrSharpness | 0.000000 |
GradientBasedCorrTemperature (3) | 0.487800 |
GradientBasedCorrTemperature | 0.000000 |
GradientBasedCorrTint | 0.000000 |
GradientBasedCorrWhat | Correction |
GrainAmount | 0 |
GreenHue | 0 |
GreenSaturation | 0 |
HasCrop | True |
HasExtendedXMP | 6983176FAF3AA1D972EA27E91ADB5C43 |
HasSettings | True |
Highlights2012 | -89 |
HueAdjustmentAqua | 0 |
HueAdjustmentBlue | 0 |
HueAdjustmentGreen | 0 |
HueAdjustmentMagenta | 0 |
HueAdjustmentOrange | 0 |
HueAdjustmentPurple | 0 |
HueAdjustmentRed | 0 |
HueAdjustmentYellow | 0 |
HyperfocalDistance | 36.91 m |
ImageHeight | 3838 |
ImageSize | 5365x3838 |
ImageWidth | 5365 |
ISO | 200 |
LateralChromaticAberrationCorrectionAlreadyApplied | True |
Lens | NX 45mm F1.8 |
LensID (1) | 10 |
LensID | Samsung NX 45mm F1.8 |
LensInfo | 45mm f/1.8 |
LensManualDistortionAmount | 0 |
LensModel | NX 45mm F1.8 |
LensProfileEnable | 0 |
LensProfileSetup | LensDefaults |
LensSerialNumber | 355900171247 |
LightSource | Unknown |
LightValue | 6.6 |
LuminanceAdjustmentAqua | 0 |
LuminanceAdjustmentBlue | 0 |
LuminanceAdjustmentGreen | 0 |
LuminanceAdjustmentMagenta | 0 |
LuminanceAdjustmentOrange | 0 |
LuminanceAdjustmentPurple | 0 |
LuminanceAdjustmentRed | 0 |
LuminanceAdjustmentYellow | 0 |
LuminanceSmoothing | 0 |
Make | SAMSUNG |
Megapixels | 20.6 |
MeteringMode | Multi-segment |
Model | NX1 |
ModifyDate (1) | 2018:01:05 16:04:59+01:00 |
ModifyDate | 2018:01:05 16:04:59 |
PaintCorrectionActive | true |
PaintCorrectionAmount | 1.000000 |
PaintCorrectionBrightness | 0.000000 |
PaintCorrectionClarity2012 (3) | 0.000000 |
PaintCorrectionClarity2012 (4) | -1.000000 |
PaintCorrectionClarity2012 (8) | -0.878050 |
PaintCorrectionClarity2012 (9) | 0.556100 |
PaintCorrectionClarity2012 | 0.117070 |
PaintCorrectionContrast2012 | 0.000000 |
PaintCorrectionDefringe | 0.000000 |
PaintCorrectionExposure2012 (1) | 0.175000 |
PaintCorrectionExposure2012 (2) | -0.075000 |
PaintCorrectionExposure2012 (3) | 0.075000 |
PaintCorrectionExposure2012 | 0.000000 |
PaintCorrectionHighlights2012 | 0.000000 |
PaintCorrectionHue | 240.000000 |
PaintCorrectionLocalBlacks2012 | 0.000000 |
PaintCorrectionLocalDehaze | 0.000000 |
PaintCorrectionLocalWhites2012 | 0.000000 |
PaintCorrectionLuminanceNoise | 0.000000 |
PaintCorrectionMaskCenterWeight (1) | 0.410441 |
PaintCorrectionMaskCenterWeight (14) | 0.849740 |
PaintCorrectionMaskCenterWeight | 0.000000 |
PaintCorrectionMaskFlow (118) | 0.007944 |
PaintCorrectionMaskFlow (15) | 0.000075 |
PaintCorrectionMaskFlow (18) | 0.070000 |
PaintCorrectionMaskFlow (4) | 0.263000 |
PaintCorrectionMaskFlow | 1.000000 |
PaintCorrectionMaskRadius (1) | 0.007857 |
PaintCorrectionMaskRadius (112) | 0.078138 |
PaintCorrectionMaskRadius (118) | 0.040375 |
PaintCorrectionMaskRadius (12) | 0.003218 |
PaintCorrectionMaskRadius (120) | 0.022910 |
PaintCorrectionMaskRadius (13) | 0.003575 |
PaintCorrectionMaskRadius (132) | 0.004445 |
PaintCorrectionMaskRadius (18) | 0.005960 |
PaintCorrectionMaskRadius (2) | 0.003351 |
PaintCorrectionMaskRadius (30) | 0.008636 |
PaintCorrectionMaskRadius (32) | 0.002408 |
PaintCorrectionMaskRadius (33) | 0.006520 |
PaintCorrectionMaskRadius (38) | 0.000609 |
PaintCorrectionMaskRadius (46) | 0.197300 |
PaintCorrectionMaskRadius (5) | 0.002276 |
PaintCorrectionMaskRadius (57) | 0.011791 |
PaintCorrectionMaskRadius (6) | 0.005018 |
PaintCorrectionMaskRadius (60) | 0.028627 |
PaintCorrectionMaskRadius (66) | 0.112491 |
PaintCorrectionMaskRadius (77) | 0.084799 |
PaintCorrectionMaskRadius (8) | 0.001279 |
PaintCorrectionMaskRadius (83) | 0.091565 |
PaintCorrectionMaskRadius (91) | 0.034448 |
PaintCorrectionMaskRadius | 0.010791 |
PaintCorrectionMaskValue (11) | 0.000000 |
PaintCorrectionMaskValue | 1.000000 |
PaintCorrectionMaskWhat | Mask/Paint |
PaintCorrectionMoire | 0.000000 |
PaintCorrectionSaturation | 0.000000 |
PaintCorrectionShadows2012 (1) | 0.346340 |
PaintCorrectionShadows2012 (3) | 0.190240 |
PaintCorrectionShadows2012 | 0.000000 |
PaintCorrectionSharpness (7) | -1.000000 |
PaintCorrectionSharpness (9) | 0.000000 |
PaintCorrectionSharpness | 0.117070 |
PaintCorrectionTemperature | 0.000000 |
PaintCorrectionTint | 0.000000 |
PaintCorrectionWhat | Correction |
ParametricDarks | 0 |
ParametricHighlights | 0 |
ParametricHighlightSplit | 75 |
ParametricLights | 0 |
ParametricMidtoneSplit | 50 |
ParametricShadows | 0 |
ParametricShadowSplit | 25 |
PerspectiveAspect | 0 |
PerspectiveHorizontal | 0 |
PerspectiveRotate | 0.0 |
PerspectiveScale | 100 |
PerspectiveUpright | 0 |
PerspectiveVertical | 0 |
PerspectiveX | 0.00 |
PerspectiveY | 0.00 |
PostCropVignetteAmount | 0 |
ProcessVersion | 6.7 |
ProfileDescription | Adobe RGB (1998) |
RedHue | 0 |
RedSaturation | 0 |
Saturation (1) | 0 |
Saturation | Normal |
SaturationAdjustmentAqua | 0 |
SaturationAdjustmentBlue | 0 |
SaturationAdjustmentGreen | 0 |
SaturationAdjustmentMagenta | 0 |
SaturationAdjustmentOrange | 0 |
SaturationAdjustmentPurple | 0 |
SaturationAdjustmentRed | 0 |
SaturationAdjustmentYellow | 0 |
ScaleFactor35efl | 1.5 |
SceneCaptureType | Standard |
SerialNumber | 0 |
Shadows2012 | +100 |
ShadowTint | 0 |
SharpenDetail | 25 |
SharpenEdgeMasking | 70 |
SharpenRadius | +1.0 |
Sharpness (1) | 39 |
Sharpness | Normal |
ShutterSpeed | 1/25 |
ShutterSpeedValue | 1/25 |
Software | Adobe Photoshop Lightroom 6.13 (Windows) |
SplitToningBalance | +44 |
SplitToningHighlightHue | 49 |
SplitToningHighlightSaturation | 74 |
SplitToningShadowHue | 222 |
SplitToningShadowSaturation | 13 |
Tint | 0 |
ToneCurve | 0, 0, 255, 255 |
ToneCurveBlue | 0, 0, 255, 255 |
ToneCurveGreen | 0, 0, 255, 255 |
ToneCurveName | Linear |
ToneCurveName2012 | Linear |
ToneCurvePV2012 | 0, 0, 255, 255 |
ToneCurvePV2012Blue | 0, 0, 255, 255 |
ToneCurvePV2012Green | 0, 0, 255, 255 |
ToneCurvePV2012Red | 0, 0, 255, 255 |
ToneCurveRed | 0, 0, 255, 255 |
ToneMapStrength | 0 |
Version | 10.0 |
Vibrance | 0 |
VignetteAmount | 0 |
WhiteBalance (1) | Custom |
WhiteBalance | Auto |
Whites2012 | 0 |