Felt | Verdi |
AlreadyApplied | True |
Aperture | 4.0 |
ApertureValue | 4.0 |
ApproximateFocusDistance | 4294967295 |
AutoLateralCA | 1 |
BitsPerSample | 8 |
Blacks2012 | -21 |
BlueHue | 0 |
BlueSaturation | 0 |
CameraProfile | Adobe Standard |
CircGradBasedCorrActive | true |
CircGradBasedCorrAmount | 1.000000 |
CircGradBasedCorrBrightness | 0.000000 |
CircGradBasedCorrClarity2012 | 0.000000 |
CircGradBasedCorrContrast2012 (7) | 0.547620 |
CircGradBasedCorrContrast2012 | 0.000000 |
CircGradBasedCorrCorrectionRangeMaskColorAmount | 0.500000 |
CircGradBasedCorrCorrectionRangeMaskLumFeather | 0.500000 |
CircGradBasedCorrCorrectionRangeMaskLumMax | 1.000000 |
CircGradBasedCorrCorrectionRangeMaskLumMin | 0.000000 |
CircGradBasedCorrCorrectionRangeMaskType | 0 |
CircGradBasedCorrDefringe | 0.000000 |
CircGradBasedCorrExposure2012 (1) | 0.142750 |
CircGradBasedCorrExposure2012 (11) | 0.214250 |
CircGradBasedCorrExposure2012 (12) | 0.164250 |
CircGradBasedCorrExposure2012 (13) | 0.119000 |
CircGradBasedCorrExposure2012 (14) | 0.166750 |
CircGradBasedCorrExposure2012 (16) | 0.190500 |
CircGradBasedCorrExposure2012 (17) | 0.404750 |
CircGradBasedCorrExposure2012 (3) | 0.309500 |
CircGradBasedCorrExposure2012 (5) | 0.095250 |
CircGradBasedCorrExposure2012 (6) | 0.333250 |
CircGradBasedCorrExposure2012 (7) | 0.262000 |
CircGradBasedCorrExposure2012 (8) | 0.238000 |
CircGradBasedCorrExposure2012 | 0.381000 |
CircGradBasedCorrHighlights2012 | 0.000000 |
CircGradBasedCorrHue | 119.503998 |
CircGradBasedCorrLocalBlacks2012 | 0.000000 |
CircGradBasedCorrLocalDehaze | 0.000000 |
CircGradBasedCorrLocalWhites2012 | 0.000000 |
CircGradBasedCorrLuminanceNoise | 0.000000 |
CircGradBasedCorrMaskAngle (1) | 0.000000 |
CircGradBasedCorrMaskAngle (11) | 1.130790 |
CircGradBasedCorrMaskAngle (14) | 39.811800 |
CircGradBasedCorrMaskAngle (16) | -0.142787 |
CircGradBasedCorrMaskAngle (3) | 0.618365 |
CircGradBasedCorrMaskAngle (7) | -39.437600 |
CircGradBasedCorrMaskAngle (8) | -2.867490 |
CircGradBasedCorrMaskAngle | -0.904515 |
CircGradBasedCorrMaskBottom (1) | 0.746765 |
CircGradBasedCorrMaskBottom (10) | 0.753561 |
CircGradBasedCorrMaskBottom (11) | 0.339588 |
CircGradBasedCorrMaskBottom (12) | 1.069710 |
CircGradBasedCorrMaskBottom (13) | 0.838428 |
CircGradBasedCorrMaskBottom (14) | 0.338997 |
CircGradBasedCorrMaskBottom (15) | 0.624923 |
CircGradBasedCorrMaskBottom (16) | 0.410341 |
CircGradBasedCorrMaskBottom (17) | 0.551984 |
CircGradBasedCorrMaskBottom (2) | 0.906647 |
CircGradBasedCorrMaskBottom (3) | 0.766146 |
CircGradBasedCorrMaskBottom (4) | 0.698015 |
CircGradBasedCorrMaskBottom (5) | 0.818229 |
CircGradBasedCorrMaskBottom (6) | 1.035700 |
CircGradBasedCorrMaskBottom (7) | 0.496212 |
CircGradBasedCorrMaskBottom (8) | 1.048520 |
CircGradBasedCorrMaskBottom (9) | 0.737653 |
CircGradBasedCorrMaskBottom | 0.913191 |
CircGradBasedCorrMaskFeather | +100 |
CircGradBasedCorrMaskFlipped | true |
CircGradBasedCorrMaskLeft (1) | -0.048411 |
CircGradBasedCorrMaskLeft (10) | 0.220121 |
CircGradBasedCorrMaskLeft (11) | -0.059333 |
CircGradBasedCorrMaskLeft (12) | 0.462775 |
CircGradBasedCorrMaskLeft (13) | 0.373486 |
CircGradBasedCorrMaskLeft (14) | 0.422768 |
CircGradBasedCorrMaskLeft (15) | -0.188020 |
CircGradBasedCorrMaskLeft (16) | 0.595993 |
CircGradBasedCorrMaskLeft (17) | 0.891273 |
CircGradBasedCorrMaskLeft (2) | 0.630862 |
CircGradBasedCorrMaskLeft (3) | 0.668905 |
CircGradBasedCorrMaskLeft (4) | 0.245800 |
CircGradBasedCorrMaskLeft (5) | 0.480143 |
CircGradBasedCorrMaskLeft (6) | -0.278949 |
CircGradBasedCorrMaskLeft (7) | 0.252142 |
CircGradBasedCorrMaskLeft (8) | 0.443486 |
CircGradBasedCorrMaskLeft (9) | 0.332873 |
CircGradBasedCorrMaskLeft | 0.676208 |
CircGradBasedCorrMaskMidpoint | +50 |
CircGradBasedCorrMaskRight (1) | 0.231468 |
CircGradBasedCorrMaskRight (10) | 0.500000 |
CircGradBasedCorrMaskRight (11) | 0.433012 |
CircGradBasedCorrMaskRight (12) | 0.820131 |
CircGradBasedCorrMaskRight (13) | 0.546335 |
CircGradBasedCorrMaskRight (14) | 0.689185 |
CircGradBasedCorrMaskRight (15) | 0.302999 |
CircGradBasedCorrMaskRight (16) | 0.768608 |
CircGradBasedCorrMaskRight (17) | 1.020980 |
CircGradBasedCorrMaskRight (2) | 1.030260 |
CircGradBasedCorrMaskRight (3) | 1.067850 |
CircGradBasedCorrMaskRight (4) | 0.717890 |
CircGradBasedCorrMaskRight (5) | 1.159800 |
CircGradBasedCorrMaskRight (6) | 0.752475 |
CircGradBasedCorrMaskRight (7) | 0.687345 |
CircGradBasedCorrMaskRight (8) | 1.347740 |
CircGradBasedCorrMaskRight (9) | 0.804795 |
CircGradBasedCorrMaskRight | 1.148300 |
CircGradBasedCorrMaskRoundness | 0 |
CircGradBasedCorrMaskTop (1) | 0.556073 |
CircGradBasedCorrMaskTop (10) | 0.562869 |
CircGradBasedCorrMaskTop (11) | -0.076386 |
CircGradBasedCorrMaskTop (12) | 0.756150 |
CircGradBasedCorrMaskTop (13) | 0.609790 |
CircGradBasedCorrMaskTop (14) | -0.109353 |
CircGradBasedCorrMaskTop (15) | 0.114347 |
CircGradBasedCorrMaskTop (16) | 0.322133 |
CircGradBasedCorrMaskTop (17) | -0.118492 |
CircGradBasedCorrMaskTop (2) | 0.568395 |
CircGradBasedCorrMaskTop (3) | 0.070976 |
CircGradBasedCorrMaskTop (4) | 0.552533 |
CircGradBasedCorrMaskTop (5) | 0.591483 |
CircGradBasedCorrMaskTop (6) | 0.649732 |
CircGradBasedCorrMaskTop (7) | -0.167326 |
CircGradBasedCorrMaskTop (8) | 0.823704 |
CircGradBasedCorrMaskTop (9) | 0.608025 |
CircGradBasedCorrMaskTop | 0.767709 |
CircGradBasedCorrMaskValue | 1.000000 |
CircGradBasedCorrMaskVersion | +2 |
CircGradBasedCorrMaskWhat | Mask/CircularGradient |
CircGradBasedCorrMoire | 0.000000 |
CircGradBasedCorrSaturation | 0.000000 |
CircGradBasedCorrShadows2012 | 0.000000 |
CircGradBasedCorrSharpness | 0.000000 |
CircGradBasedCorrTemperature | 0.000000 |
CircGradBasedCorrTint | 0.000000 |
CircGradBasedCorrWhat | Correction |
CircleOfConfusion | 0.041 mm |
Clarity2012 | +29 |
ColorComponents | 3 |
ColorNoiseReduction | 25 |
ColorNoiseReductionDetail | 50 |
ColorNoiseReductionSmoothness | 50 |
ColorSpace | sRGB |
ColorTemperature | 3429 |
ColorTransform | YCbCr |
Contrast2012 | +69 |
ConvertToGrayscale | False |
CreateDate (1) | 2017:12:26 21:25:49.88 |
CreateDate | 2017:12:26 21:25:49 |
CreatorTool | Adobe Photoshop Lightroom Classic 7.0 (Windows) |
CropAngle | 0 |
CropBottom | 0.786816 |
CropConstrainToWarp | 0 |
CropLeft | 0 |
CropRight | 1 |
CropTop | 0 |
CustomRendered | Normal |
DateCreated (1) | 2017:12:26 |
DateCreated | 2017:12:26 21:25:49.88 |
DateTimeOriginal | 2017:12:26 21:25:49 |
DefringeGreenAmount | 0 |
DefringeGreenHueHi | 60 |
DefringeGreenHueLo | 40 |
DefringePurpleAmount | 0 |
DefringePurpleHueHi | 70 |
DefringePurpleHueLo | 30 |
Dehaze | 0 |
DistortionCorrectionAlreadyApplied | True |
DOF | inf (1.54 m - inf) |
Exposure2012 | 0.00 |
ExposureCompensation | 0 |
ExposureMode | Manual |
ExposureProgram | Manual |
ExposureTime | 1.6 |
Firmware | 1.2.3 |
Flash | Off, Did not fire |
FlashCompensation | 0 |
FNumber | 4.0 |
FocalLength | 16.0 mm |
FocalLength35efl | 16.0 mm (35 mm equivalent: 11.6 mm) |
Format | image/jpeg |
FOV | 114.4 deg |
GradientBasedCorrActive | true |
GradientBasedCorrAmount | 1.000000 |
GradientBasedCorrBrightness | 0.000000 |
GradientBasedCorrClarity2012 | 0.000000 |
GradientBasedCorrContrast2012 | -1.000000 |
GradientBasedCorrCorrectionRangeMaskColorAmount | 0.500000 |
GradientBasedCorrCorrectionRangeMaskLumFeather | 0.500000 |
GradientBasedCorrCorrectionRangeMaskLumMax | 1.000000 |
GradientBasedCorrCorrectionRangeMaskLumMin | 0.000000 |
GradientBasedCorrCorrectionRangeMaskType | 0 |
GradientBasedCorrDefringe | 0.000000 |
GradientBasedCorrExposure2012 | -0.347750 |
GradientBasedCorrHighlights2012 | -0.478260 |
GradientBasedCorrHue | 0.000000 |
GradientBasedCorrLocalBlacks2012 | 0.000000 |
GradientBasedCorrLocalDehaze | 0.000000 |
GradientBasedCorrLocalWhites2012 | 0.000000 |
GradientBasedCorrLuminanceNoise | -0.011490 |
GradientBasedCorrMaskFullX | 0.412400 |
GradientBasedCorrMaskFullY | 0.685855 |
GradientBasedCorrMaskValue | 1.000000 |
GradientBasedCorrMaskWhat | Mask/Gradient |
GradientBasedCorrMaskZeroX | 0.407968 |
GradientBasedCorrMaskZeroY | 0.461265 |
GradientBasedCorrMoire | 0.000000 |
GradientBasedCorrSaturation (1) | 0.043480 |
GradientBasedCorrSaturation | 0.000000 |
GradientBasedCorrShadows2012 | 0.000000 |
GradientBasedCorrSharpness | 0.000000 |
GradientBasedCorrTemperature | 0.000000 |
GradientBasedCorrTint | 0.000000 |
GradientBasedCorrWhat | Correction |
GrainAmount | 0 |
GreenHue | 0 |
GreenSaturation | 0 |
HasCrop | True |
HasSettings | True |
Highlights2012 | -100 |
HueAdjustmentAqua | 0 |
HueAdjustmentBlue | 0 |
HueAdjustmentGreen | 0 |
HueAdjustmentMagenta | 0 |
HueAdjustmentOrange | 0 |
HueAdjustmentPurple | 0 |
HueAdjustmentRed | 0 |
HueAdjustmentYellow | 0 |
HyperfocalDistance | 1.54 m |
ImageHeight | 4438 |
ImageNumber | 0 |
ImageSize | 8460x4438 |
ImageWidth | 8460 |
ISO | 3200 |
LateralChromaticAberrationCorrectionAlreadyApplied | True |
Lens | EF16-35mm f/2.8L II USM |
LensID (1) | 246 |
LensID | Canon EF 16-35mm f/2.8L II USM |
LensInfo | 16-35mm f/? |
LensManualDistortionAmount | 0 |
LensModel | EF16-35mm f/2.8L II USM |
LensProfileChromaticAberrationScale | 100 |
LensProfileDistortionScale | 100 |
LensProfileEnable | 1 |
LensProfileFilename | Canon EOS 5D Mark II (Canon EF 16-35mm f2.8 L II USM) - RAW.lcp |
LensProfileName | Adobe (Canon EF 16-35mm f/2.8 L II USM) |
LensProfileSetup | LensDefaults |
LensProfileVignettingScale | 100 |
LensSerialNumber | 0000832f91 |
LightValue | -1.7 |
LuminanceAdjustmentAqua | -72 |
LuminanceAdjustmentBlue | -29 |
LuminanceAdjustmentGreen | +9 |
LuminanceAdjustmentMagenta | 0 |
LuminanceAdjustmentOrange | -9 |
LuminanceAdjustmentPurple | 0 |
LuminanceAdjustmentRed | 0 |
LuminanceAdjustmentYellow | 0 |
LuminanceNoiseReductionContrast | 0 |
LuminanceNoiseReductionDetail | 50 |
LuminanceSmoothing | 20 |
Make | Canon |
MaxApertureValue | 2.8 |
Megapixels | 37.5 |
MeteringMode | Multi-segment |
Model | Canon EOS 5D Mark III |
ModifyDate (1) | 2018:01:01 19:01:32+01:00 |
ModifyDate | 2018:01:01 19:01:32 |
ParametricDarks | +21 |
ParametricHighlights | -37 |
ParametricHighlightSplit | 75 |
ParametricLights | -2 |
ParametricMidtoneSplit | 50 |
ParametricShadows | +20 |
ParametricShadowSplit | 25 |
PerspectiveAspect | 0 |
PerspectiveHorizontal | 0 |
PerspectiveRotate | 0.0 |
PerspectiveScale | 100 |
PerspectiveUpright | 0 |
PerspectiveVertical | 0 |
PerspectiveX | 0.00 |
PerspectiveY | 0.00 |
PostCropVignetteAmount | 0 |
ProcessVersion | 10.0 |
ProfileDescription | sRGB IEC61966-2.1 |
RecommendedExposureIndex | 3200 |
RedHue | 0 |
RedSaturation | 0 |
Saturation | 0 |
SaturationAdjustmentAqua | +22 |
SaturationAdjustmentBlue | +20 |
SaturationAdjustmentGreen | +28 |
SaturationAdjustmentMagenta | 0 |
SaturationAdjustmentOrange | +29 |
SaturationAdjustmentPurple | 0 |
SaturationAdjustmentRed | 0 |
SaturationAdjustmentYellow | +29 |
ScaleFactor35efl | 0.7 |
SceneCaptureType | Standard |
SensitivityType | Recommended Exposure Index |
SerialNumber | 248020005664 |
Shadows2012 | +100 |
ShadowTint | 0 |
SharpenDetail | 37 |
SharpenEdgeMasking | 24 |
SharpenRadius | +0.8 |
Sharpness | 78 |
ShutterSpeed | 1.6 |
ShutterSpeedValue | 1.6 |
Software | Adobe Photoshop Lightroom Classic 7.0 (Windows) |
SplitToningBalance | 0 |
SplitToningHighlightHue | 46 |
SplitToningHighlightSaturation | 0 |
SplitToningShadowHue | 26 |
SplitToningShadowSaturation | 0 |
Tint | +3 |
ToneCurve | 0, 0, 255, 255 |
ToneCurveBlue | 0, 0, 255, 255 |
ToneCurveGreen | 0, 0, 255, 255 |
ToneCurveName | Linear |
ToneCurveName2012 | Linear |
ToneCurvePV2012 | 0, 0, 255, 255 |
ToneCurvePV2012Blue | 0, 0, 255, 255 |
ToneCurvePV2012Green | 0, 0, 255, 255 |
ToneCurvePV2012Red | 0, 0, 255, 255 |
ToneCurveRed | 0, 0, 255, 255 |
Version | 10.0 |
Vibrance | +47 |
VignetteAmount | 0 |
VignetteCorrectionAlreadyApplied | True |
WhiteBalance (1) | Custom |
WhiteBalance | Auto |
Whites2012 | -100 |