Felt | Verdi |
AlreadyApplied | True |
Aperture | 7.1 |
ApertureValue | 7.1 |
ApproximateFocusDistance | 4294967295 |
AutoLateralCA | 0 |
AutoWhiteVersion | 134348800 |
BitsPerSample (1) | 8 8 8 |
BitsPerSample | 8 |
Blacks2012 | 0 |
BlueHue | 0 |
BlueSaturation | 0 |
CameraProfile | Embedded |
CFAPattern | [Red,Green][Green,Blue] |
CircleOfConfusion | 0.020 mm |
Clarity2012 | 0 |
ColorComponents | 3 |
ColorMode | RGB |
ColorNoiseReduction | 0 |
ColorSpace | sRGB |
ColorTransform | YCbCr |
Contrast | Normal |
Contrast2012 | 0 |
ConvertToGrayscale | False |
CreateDate (1) | 2010:10:09 14:07:59+02:00 |
CreateDate | 2010:10:09 14:07:59 |
CreatorTool | Adobe Photoshop Lightroom 6.0 (Windows) |
CustomRendered | Normal |
DateAcquired | 2010:10:09 16:40:48Z |
DateCreated (1) | 2010:10:09 |
DateCreated | 2010:10:09 14:07:59.098 |
DateTimeOriginal | 2010:10:09 14:07:59 |
DefringeGreenAmount | 0 |
DefringeGreenHueHi | 60 |
DefringeGreenHueLo | 40 |
DefringePurpleAmount | 0 |
DefringePurpleHueHi | 70 |
DefringePurpleHueLo | 30 |
DigitalZoomRatio | 1 |
DOF | inf (14.88 m - inf) |
ExifImageHeight | 1211 |
ExifImageWidth | 2153 |
Exposure2012 | 0.00 |
ExposureCompensation | -1 |
ExposureMode | Auto |
ExposureProgram | Program AE |
ExposureTime | 1/200 |
Flash | No Flash |
FNumber | 7.1 |
FocalLength | 46.0 mm |
FocalLength35efl | 46.0 mm (35 mm equivalent: 69.0 mm) |
FocalLengthIn35mmFormat | 69 mm |
Format | image/jpeg |
FOV | 29.2 deg |
GainControl | None |
GrainAmount | 0 |
GreenHue | 0 |
GreenSaturation | 0 |
HasCrop | False |
HasSettings | True |
Highlights2012 | 0 |
HueAdjustmentAqua | 0 |
HueAdjustmentBlue | 0 |
HueAdjustmentGreen | 0 |
HueAdjustmentMagenta | 0 |
HueAdjustmentOrange | 0 |
HueAdjustmentPurple | 0 |
HueAdjustmentRed | 0 |
HueAdjustmentYellow | 0 |
HyperfocalDistance | 14.88 m |
ICCProfileName | sRGB IEC61966-2.1 |
ImageHeight (1) | 2848 |
ImageHeight | 1211 |
ImageNumber | 7794 |
ImageSize | 2153x1211 |
ImageWidth (1) | 4288 |
ImageWidth | 2153 |
IncrementalTemperature | 0 |
IncrementalTint | 0 |
ISO | 320 |
Lens | 16.0-85.0 mm f/3.5-5.6 |
LensID (1) | 153 |
LensID | AF-S DX VR Zoom-Nikkor 16-85mm f/3.5-5.6G ED |
LensInfo | 16-85mm f/3.5-5.6 |
LensManualDistortionAmount | 0 |
LensModel | 16.0-85.0 mm f/3.5-5.6 |
LensProfileEnable | 0 |
LensProfileSetup | LensDefaults |
LightSource | Unknown |
LightValue | 11.6 |
LuminanceAdjustmentAqua | 0 |
LuminanceAdjustmentBlue | 0 |
LuminanceAdjustmentGreen | 0 |
LuminanceAdjustmentMagenta | 0 |
LuminanceAdjustmentOrange | +36 |
LuminanceAdjustmentPurple | 0 |
LuminanceAdjustmentRed | +53 |
LuminanceAdjustmentYellow | 0 |
LuminanceNoiseReductionContrast | 0 |
LuminanceNoiseReductionDetail | 50 |
LuminanceSmoothing | 32 |
Make | NIKON CORPORATION |
MaxApertureValue | 4.9 |
Megapixels | 2.6 |
MeteringMode | Center-weighted average |
Model | NIKON D300 |
ModifyDate (1) | 2018:01:25 17:50:43+01:00 |
ModifyDate | 2018:01:25 17:50:43 |
Orientation | Horizontal (normal) |
ParametricDarks | +13 |
ParametricHighlights | 0 |
ParametricHighlightSplit | 75 |
ParametricLights | +94 |
ParametricMidtoneSplit | 50 |
ParametricShadows | 0 |
ParametricShadowSplit | 25 |
PerspectiveAspect | 0 |
PerspectiveHorizontal | 0 |
PerspectiveRotate | 0.0 |
PerspectiveScale | 100 |
PerspectiveUpright | 0 |
PerspectiveVertical | 0 |
PhotometricInterpretation | RGB |
PostCropVignetteAmount | 0 |
ProcessVersion | 6.7 |
ProfileDescription | sRGB IEC61966-2.1 |
RawFileName | 090.JPG |
RedHue | 0 |
RedSaturation | 0 |
SamplesPerPixel | 3 |
Saturation (1) | 0 |
Saturation | Normal |
SaturationAdjustmentAqua | 0 |
SaturationAdjustmentBlue | 0 |
SaturationAdjustmentGreen | 0 |
SaturationAdjustmentMagenta | 0 |
SaturationAdjustmentOrange | +64 |
SaturationAdjustmentPurple | 0 |
SaturationAdjustmentRed | +67 |
SaturationAdjustmentYellow | 0 |
ScaleFactor35efl | 1.5 |
SceneCaptureType | Standard |
SceneType | Directly photographed |
SensingMethod | One-chip color area |
SerialNumber | 4133996 |
Shadows2012 | 0 |
ShadowTint | 0 |
SharpenDetail | 25 |
SharpenEdgeMasking | 0 |
SharpenRadius | +1.4 |
Sharpness (1) | 61 |
Sharpness | Normal |
ShutterSpeed | 1/200 |
ShutterSpeedValue | 1/200 |
Software | Adobe Photoshop Elements 12.0 Windows |
SplitToningBalance | 0 |
SplitToningHighlightHue | 0 |
SplitToningHighlightSaturation | 0 |
SplitToningShadowHue | 0 |
SplitToningShadowSaturation | 0 |
SubjectDistanceRange | Unknown |
ToneCurve | 0, 0, 255, 255 |
ToneCurveBlue | 0, 0, 255, 255 |
ToneCurveGreen | 0, 0, 255, 255 |
ToneCurveName | Linear |
ToneCurveName2012 | Linear |
ToneCurvePV2012 | 0, 0, 255, 255 |
ToneCurvePV2012Blue | 0, 0, 255, 255 |
ToneCurvePV2012Green | 0, 0, 255, 255 |
ToneCurvePV2012Red | 0, 0, 255, 255 |
ToneCurveRed | 0, 0, 255, 255 |
URL_List | |
Version | 9.0 |
Vibrance | 0 |
VignetteAmount | 0 |
WhiteBalance (1) | As Shot |
WhiteBalance | Auto |
Whites2012 | 0 |