Felt | Verdi |
Aperture | 20.0 |
ApertureValue | 20.0 |
AutoLateralCA | 0 |
BitsPerSample | 8 |
Blacks2012 | -85 |
BlueHue | 0 |
CameraProfile | Adobe Standard |
CircleOfConfusion | 0.031 mm |
ColorComponents | 3 |
ColorNoiseReductionSmoothness | 50 |
ColorTemperature | 6250 |
ConvertToGrayscale | False |
CreateDate (1) | 2018:02:07 17:04:06+01:00 |
CreateDate | 2018:02:07 17:04:06 |
CustomRendered (1) | Normal |
DateCreated | 2018:02:07 |
DateTimeOriginal (1) | 2018:02:07 17:04:06+01:00 |
DateTimeOriginal | 2018:02:07 17:04:06 |
DefringeGreenHueHi | 60 |
DefringePurpleAmount | 0 |
DefringePurpleHueLo | 30 |
DOF | inf (3.59 m - inf) |
ExifImageHeight (1) | 553 |
ExifImageWidth | 1280 |
ExposureCompensation | -1/3 |
ExposureMode | Auto |
ExposureProgram (1) | Aperture-priority AE |
ExposureTime | 30 |
Flash | Off, Did not fire |
FlashCompensation | 0 |
FlashFunction | False |
FlashMode | Off |
FlashRedEyeMode | False |
FNumber | 20.0 |
FocalLength (1) | 47.0 mm |
FocalLength35efl | 47.0 mm (35 mm equivalent: 45.9 mm) |
GrainAmount | 0 |
GreenSaturation | 0 |
HasCrop | False |
Highlights2012 | 0 |
HueAdjustmentAqua | 0 |
HueAdjustmentGreen | 0 |
HueAdjustmentOrange | 0 |
HueAdjustmentPurple | 0 |
HueAdjustmentRed | 0 |
HyperfocalDistance | 3.59 m |
ICCProfileName | sRGB IEC61966-2.1 |
ImageNumber | 0 |
ISO | 50 |
Lens | EF24-105mm f/4L IS USM |
LensID (1) | 237 |
LensID | Canon EF 24-105mm f/4L IS USM |
LensInfo | 24-105mm f/? |
LensManualDistortionAmount | 0 |
LensModel | EF24-105mm f/4L IS USM |
LensProfileEnable | 0 |
LensProfileSetup | LensDefaults |
LightValue | 4.7 |
LuminanceAdjustmentGreen | 0 |
LuminanceAdjustmentOrange | 0 |
LuminanceAdjustmentPurple | 0 |
LuminanceAdjustmentRed | 0 |
LuminanceAdjustmentYellow | 0 |
LuminanceNoiseReductionContrast | 0 |
LuminanceNoiseReductionDetail | 50 |
Make | Canon |
MaxApertureValue | 4.0 |
Megapixels | 0.708 |
MeteringMode (1) | Multi-segment |
Orientation | Horizontal (normal) |
ParametricDarks | 0 |
ParametricHighlights | 0 |
ParametricHighlightSplit | 75 |
ParametricShadowSplit | 25 |
PerspectiveHorizontal | 0 |
PerspectiveUpright | 0 |
PerspectiveVertical | 0 |
PerspectiveX | 0.00 |
PerspectiveY | 0.00 |
ProcessVersion | 6.7 |
Saturation | -38 |
SaturationAdjustmentYellow | 0 |
SceneCaptureType (1) | Standard |
SerialNumber | 3531607589 |
ShadowTint | 0 |
SharpenDetail | 25 |
SharpenEdgeMasking | 0 |
Sharpness | 114 |
ShutterSpeed | 30 |
ShutterSpeedValue | 30 |
SplitToningBalance | 0 |
SplitToningHighlightHue | 0 |
SplitToningHighlightSaturation | 0 |
SplitToningShadowHue | 0 |
ToneCurve | 0, 0, 32, 22, 64, 56, 128, 128, 192, 196, 255, 255 |
ToneCurveGreen | 0, 0, 255, 255 |
ToneCurveName2012 | Linear |
ToneCurvePV2012 | 0, 0, 255, 255 |
ToneCurvePV2012Green | 0, 0, 255, 255 |
ToneCurvePV2012Red | 0, 0, 255, 255 |
ToneCurveRed | 0, 0, 255, 255 |
ToneMapStrength | 0 |
URL_List | |
Version | 9.10 |
Vibrance | 0 |
VignetteAmount | 0 |
WhiteBalance (1) | As Shot |
WhiteBalance | Auto |
Whites2012 | +24 |