Felt | Verdi |
AlreadyApplied | True |
Aperture | 16.0 |
ApertureValue | 16.0 |
ApproximateFocusDistance | 4294967295 |
AutoLateralCA | 0 |
BitsPerSample (1) | 16 16 16 |
BitsPerSample | 8 |
Blacks2012 | -65 |
BlueHue | 0 |
BlueSaturation | 0 |
CameraProfile | Adobe Standard |
CircleOfConfusion | 0.031 mm |
Clarity2012 | +87 |
ColorComponents | 3 |
ColorMode | RGB |
ColorNoiseReduction | 66 |
ColorNoiseReductionDetail | 50 |
ColorNoiseReductionSmoothness | 83 |
ColorSpace | Uncalibrated |
ColorTemperature | 5150 |
ColorTransform | YCbCr |
Contrast2012 | +23 |
ConvertToGrayscale | True |
CreateDate | 2016:08:03 15:11:04 |
CreatorTool | Adobe Photoshop Lightroom Classic 7.0 (Macintosh) |
CropAngle | 0.067722 |
CropBottom | 0.715328 |
CropConstrainToWarp | 0 |
CropLeft | 0.009938 |
CropRight | 0.690863 |
CropTop | 0.011893 |
CustomRendered | Normal |
DateCreated (1) | 2016:08:03 |
DateCreated | 2016:08:03 15:11:04.024 |
DateTimeOriginal | 2016:08:03 15:11:04 |
Dehaze | 0 |
DOF | inf (0.29 m - inf) |
ExifImageHeight | 967 |
ExifImageWidth | 1405 |
Exposure2012 | +2.30 |
ExposureCompensation | 0 |
ExposureMode | Auto |
ExposureProgram | Aperture-priority AE |
ExposureTime | 1/200 |
Firmware | 1.0.6 |
Flash | Off, Did not fire |
FlashCompensation | 0 |
FNumber | 16.0 |
FocalLength | 12.0 mm |
FocalLength35efl | 12.0 mm (35 mm equivalent: 11.7 mm) |
Format | image/jpeg |
FOV | 113.9 deg |
GradientBasedCorrActive | true |
GradientBasedCorrAmount | 1.000000 |
GradientBasedCorrBrightness | 0.000000 |
GradientBasedCorrClarity2012 | 0.000000 |
GradientBasedCorrContrast2012 | 0.000000 |
GradientBasedCorrCorrectionRangeMaskColorAmount | 0.500000 |
GradientBasedCorrCorrectionRangeMaskLumFeather | 0.500000 |
GradientBasedCorrCorrectionRangeMaskLumMax | 1.000000 |
GradientBasedCorrCorrectionRangeMaskLumMin | 0.000000 |
GradientBasedCorrCorrectionRangeMaskType | 0 |
GradientBasedCorrDefringe | 0.374260 |
GradientBasedCorrExposure2012 (1) | -1.000000 |
GradientBasedCorrExposure2012 | -0.178618 |
GradientBasedCorrHighlights2012 | -0.011225 |
GradientBasedCorrHue | 245.164001 |
GradientBasedCorrLocalBlacks2012 (1) | 0.019449 |
GradientBasedCorrLocalBlacks2012 | 0.008923 |
GradientBasedCorrLocalDehaze | 0.000000 |
GradientBasedCorrLocalWhites2012 | 0.000000 |
GradientBasedCorrLuminanceNoise | 0.000000 |
GradientBasedCorrMaskFullX (1) | 0.316526 |
GradientBasedCorrMaskFullX | 0.337372 |
GradientBasedCorrMaskFullY (1) | 0.150607 |
GradientBasedCorrMaskFullY | 0.714742 |
GradientBasedCorrMaskValue | 1.000000 |
GradientBasedCorrMaskWhat | Mask/Gradient |
GradientBasedCorrMaskZeroX (1) | 0.317609 |
GradientBasedCorrMaskZeroX | 0.340101 |
GradientBasedCorrMaskZeroY (1) | 0.840021 |
GradientBasedCorrMaskZeroY | 0.270819 |
GradientBasedCorrMoire | 0.000000 |
GradientBasedCorrSaturation (3) | 0.022985 |
GradientBasedCorrSaturation | 0.000000 |
GradientBasedCorrShadows2012 | 0.000000 |
GradientBasedCorrSharpness | 0.000000 |
GradientBasedCorrTemperature (1) | -0.522903 |
GradientBasedCorrTemperature | -0.020313 |
GradientBasedCorrTint | 0.000000 |
GradientBasedCorrWhat | Correction |
GrainAmount | 0 |
GrayMixerAqua | -18 |
GrayMixerBlue | +10 |
GrayMixerGreen | -27 |
GrayMixerMagenta | +4 |
GrayMixerOrange | -19 |
GrayMixerPurple | +16 |
GrayMixerRed | -10 |
GrayMixerYellow | -24 |
GreenHue | 0 |
GreenSaturation | 0 |
HasCrop | True |
HasSettings | True |
Highlights2012 | 0 |
HyperfocalDistance | 0.29 m |
ICCProfileName | ProPhoto RGB |
ImageHeight (1) | 2629 |
ImageHeight | 967 |
ImageNumber | 0 |
ImageSize | 1405x967 |
ImageWidth (1) | 3827 |
ImageWidth | 1405 |
ISO | 400 |
Lens | 12-24mm |
LensID (1) | 137 |
LensID | Sigma 12-24mm f/4.5-5.6 DG HSM II |
LensInfo | 12-24mm f/? |
LensManualDistortionAmount | 0 |
LensModel | 12-24mm |
LensProfileEnable | 0 |
LensProfileSetup | LensDefaults |
LightValue | 13.6 |
LuminanceNoiseReductionContrast | 0 |
LuminanceNoiseReductionDetail | 50 |
LuminanceSmoothing | 52 |
Make | Canon |
MaxApertureValue | 4.6 |
Megapixels | 1.4 |
MeteringMode | Multi-segment |
Model | Canon EOS 5D Mark II |
ModifyDate (1) | 2018:03:24 11:50:39+01:00 |
ModifyDate | 2018:03:24 11:50:39 |
Orientation | Horizontal (normal) |
PaintCorrectionActive | true |
PaintCorrectionAmount | 1.000000 |
PaintCorrectionBrightness | 0.000000 |
PaintCorrectionClarity2012 | 0.000000 |
PaintCorrectionContrast2012 | 0.000000 |
PaintCorrectionCorrectionRangeMaskColorAmount | 0.500000 |
PaintCorrectionCorrectionRangeMaskLumFeather | 0.500000 |
PaintCorrectionCorrectionRangeMaskLumMax | 1.000000 |
PaintCorrectionCorrectionRangeMaskLumMin | 0.000000 |
PaintCorrectionCorrectionRangeMaskType | 0 |
PaintCorrectionDefringe | 0.374260 |
PaintCorrectionExposure2012 (1) | -0.316900 |
PaintCorrectionExposure2012 (2) | 0.254687 |
PaintCorrectionExposure2012 | 0.405551 |
PaintCorrectionHighlights2012 | -0.011225 |
PaintCorrectionHue | 245.164001 |
PaintCorrectionLocalBlacks2012 | 0.019449 |
PaintCorrectionLocalDehaze | 0.000000 |
PaintCorrectionLocalWhites2012 | 0.000000 |
PaintCorrectionLuminanceNoise | 0.000000 |
PaintCorrectionMaskCenterWeight | 0.183877 |
PaintCorrectionMaskFlow | 0.500000 |
PaintCorrectionMaskRadius (2) | 0.100585 |
PaintCorrectionMaskRadius | 0.053067 |
PaintCorrectionMaskValue | 0.513875 |
PaintCorrectionMaskWhat | Mask/Paint |
PaintCorrectionMoire | 0.000000 |
PaintCorrectionSaturation (5) | 0.022985 |
PaintCorrectionSaturation | 0.000000 |
PaintCorrectionShadows2012 | 0.000000 |
PaintCorrectionSharpness | 0.000000 |
PaintCorrectionTemperature | -0.020313 |
PaintCorrectionTint | 0.000000 |
PaintCorrectionWhat | Correction |
ParametricDarks | 0 |
ParametricHighlights | 0 |
ParametricHighlightSplit | 75 |
ParametricLights | 0 |
ParametricMidtoneSplit | 50 |
ParametricShadows | 0 |
ParametricShadowSplit | 25 |
PerspectiveAspect | 0 |
PerspectiveHorizontal | 0 |
PerspectiveRotate | 0.0 |
PerspectiveScale | 100 |
PerspectiveUpright | 0 |
PerspectiveVertical | 0 |
PerspectiveX | 0.00 |
PerspectiveY | 0.00 |
PhotometricInterpretation | RGB |
PlanarConfiguration | Chunky |
PostCropVignetteAmount | 0 |
ProcessVersion | 10.0 |
ProfileDescription | ProPhoto RGB |
RedHue | 0 |
RedSaturation | 0 |
SamplesPerPixel | 3 |
ScaleFactor35efl | 1.0 |
SceneCaptureType | Standard |
SerialNumber | 130101597 |
Shadows2012 | 0 |
ShadowTint | 0 |
SharpenDetail | 25 |
SharpenEdgeMasking | 0 |
SharpenRadius | +1.0 |
Sharpness | 25 |
ShutterSpeed | 1/200 |
ShutterSpeedValue | 1/200 |
Software | Adobe Photoshop CC (Macintosh) |
SplitToningBalance | 0 |
SplitToningHighlightHue | 0 |
SplitToningHighlightSaturation | 0 |
SplitToningShadowHue | 0 |
SplitToningShadowSaturation | 0 |
Tint | -4 |
ToneCurve | 0, 0, 255, 255 |
ToneCurveBlue | 0, 0, 255, 255 |
ToneCurveGreen | 0, 0, 255, 255 |
ToneCurveName | Linear |
ToneCurveName2012 | Linear |
ToneCurvePV2012 | 0, 0, 255, 255 |
ToneCurvePV2012Blue | 0, 0, 255, 255 |
ToneCurvePV2012Green | 0, 0, 255, 255 |
ToneCurvePV2012Red | 0, 0, 255, 255 |
ToneCurveRed | 0, 0, 255, 255 |
URL_List | |
Version | 10.0 |
VignetteAmount | 0 |
WhiteBalance (1) | As Shot |
WhiteBalance | Auto |
Whites2012 | +33 |