Felt | Verdi |
AlreadyApplied | True |
Aperture | 16.0 |
ApertureValue | 16.0 |
ApproximateFocusDistance | 1.26 |
AutoLateralCA | 1 |
AutoWhiteVersion | 134348800 |
BitsPerSample | 8 |
Blacks2012 | 0 |
BlueHue | 0 |
BlueSaturation | 0 |
CameraProfile | Adobe Standard |
CFAPattern | [Red,Green][Green,Blue] |
CircleOfConfusion | 0.021 mm |
Clarity2012 | 0 |
ColorComponents | 3 |
ColorNoiseReduction | 25 |
ColorNoiseReductionDetail | 50 |
ColorNoiseReductionSmoothness | 50 |
ColorSpace | sRGB |
ColorTemperature | 5300 |
ColorTransform | YCbCr |
Contrast | Normal |
Contrast2012 | +44 |
ConvertToGrayscale | False |
CreateDate (1) | 2017:07:20 13:54:19.11 |
CreateDate | 2017:07:20 13:54:19 |
CreatorTool | Adobe Photoshop Lightroom 6.12 (Windows) |
CropAngle | -0.7478 |
CropBottom | 0.978192 |
CropConstrainToWarp | 0 |
CropLeft | 0.01445 |
CropRight | 0.985492 |
CropTop | 0.021808 |
CustomRendered | Normal |
DateCreated (1) | 2017:07:20 |
DateCreated | 2017:07:20 13:54:18.30 |
DateTimeOriginal | 2017:07:20 13:54:19 |
DefringeGreenAmount | 0 |
DefringeGreenHueHi | 60 |
DefringeGreenHueLo | 40 |
DefringePurpleAmount | 0 |
DefringePurpleHueHi | 70 |
DefringePurpleHueLo | 30 |
Dehaze | 0 |
DigitalZoomRatio | 1 |
DistortionCorrectionAlreadyApplied | True |
DOF | inf (0.37 m - inf) |
Exposure2012 | 0.00 |
ExposureCompensation | -1 |
ExposureMode | Manual |
ExposureProgram | Manual |
ExposureTime | 1/160 |
Flash | Off, Did not fire |
FNumber | 16.0 |
FocalLength | 13.0 mm |
FocalLength35efl | 13.0 mm (35 mm equivalent: 19.0 mm) |
FocalLengthIn35mmFormat | 19 mm |
Format | image/jpeg |
FOV | 86.9 deg |
GainControl | None |
GrainAmount | 0 |
GreenHue | 0 |
GreenSaturation | 0 |
HasCrop | True |
HasExtendedXMP | 1354AEC20B002BBEAC6FF086736707F4 |
HasSettings | True |
Highlights2012 | 0 |
HueAdjustmentAqua | 0 |
HueAdjustmentBlue | 0 |
HueAdjustmentGreen | 0 |
HueAdjustmentMagenta | 0 |
HueAdjustmentOrange | 0 |
HueAdjustmentPurple | 0 |
HueAdjustmentRed | 0 |
HueAdjustmentYellow | 0 |
HyperfocalDistance | 0.51 m |
ImageHeight | 3184 |
ImageNumber | 29917 |
ImageSize | 4744x3184 |
ImageWidth | 4744 |
IsMergedHDR | True |
ISO | 100 |
Keywords | HAMNØY, REDIGERT, SOMMER27, ferie, lofoten |
Label | Red |
LateralChromaticAberrationCorrectionAlreadyApplied | True |
Lens | 10.0-24.0 mm f/3.5-4.5 |
LensID (1) | 161 |
LensID | AF-S DX Nikkor 10-24mm f/3.5-4.5G ED |
LensInfo | 10-24mm f/3.5-4.5 |
LensManualDistortionAmount | 0 |
LensModel | 10.0-24.0 mm f/3.5-4.5 |
LensProfileChromaticAberrationScale | 100 |
LensProfileDistortionScale | 100 |
LensProfileEnable | 1 |
LensProfileFilename | NIKON D90 (Nikon AF-S DX NIKKOR 10-24mm f3.5-4.5G ED) - RAW.lcp |
LensProfileName | Adobe (Nikon AF-S DX NIKKOR 10-24mm f/3.5-4.5G ED) |
LensProfileSetup | LensDefaults |
LensProfileVignettingScale | 100 |
LightSource | Unknown |
LightValue | 15.3 |
LuminanceAdjustmentAqua | 0 |
LuminanceAdjustmentBlue | +9 |
LuminanceAdjustmentGreen | +13 |
LuminanceAdjustmentMagenta | 0 |
LuminanceAdjustmentOrange | 0 |
LuminanceAdjustmentPurple | 0 |
LuminanceAdjustmentRed | -9 |
LuminanceAdjustmentYellow | 0 |
LuminanceSmoothing | 0 |
Make | NIKON CORPORATION |
MaxApertureValue | 3.9 |
Megapixels | 15.1 |
MeteringMode | Multi-segment |
Model | NIKON D7000 |
ModifyDate (1) | 2017:08:10 07:32:49+02:00 |
ModifyDate | 2017:08:10 07:32:49 |
PaintCorrectionActive | true |
PaintCorrectionAmount | 1.000000 |
PaintCorrectionBrightness | 0.000000 |
PaintCorrectionClarity2012 | 0.000000 |
PaintCorrectionContrast2012 (2) | 0.604650 |
PaintCorrectionContrast2012 (4) | 0.232560 |
PaintCorrectionContrast2012 (5) | 0.209300 |
PaintCorrectionContrast2012 | 0.000000 |
PaintCorrectionDefringe | 0.000000 |
PaintCorrectionExposure2012 (1) | -0.125250 |
PaintCorrectionExposure2012 | 0.000000 |
PaintCorrectionHighlights2012 (5) | 0.000000 |
PaintCorrectionHighlights2012 | 0.116280 |
PaintCorrectionHue | 39.000000 |
PaintCorrectionLocalBlacks2012 | 0.000000 |
PaintCorrectionLocalDehaze | 0.000000 |
PaintCorrectionLocalWhites2012 (4) | 0.093020 |
PaintCorrectionLocalWhites2012 (5) | 0.186050 |
PaintCorrectionLocalWhites2012 | 0.000000 |
PaintCorrectionLuminanceNoise | 0.000000 |
PaintCorrectionMaskCenterWeight | 0.133270 |
PaintCorrectionMaskFlow | 1.000000 |
PaintCorrectionMaskRadius (1) | 0.059632 |
PaintCorrectionMaskRadius (10) | 0.101735 |
PaintCorrectionMaskRadius (11) | 0.073177 |
PaintCorrectionMaskRadius (12) | 0.073604 |
PaintCorrectionMaskRadius (13) | 0.050498 |
PaintCorrectionMaskRadius (14) | 0.050214 |
PaintCorrectionMaskRadius (15) | 0.050461 |
PaintCorrectionMaskRadius (16) | 0.050930 |
PaintCorrectionMaskRadius (17) | 0.051216 |
PaintCorrectionMaskRadius (18) | 0.050919 |
PaintCorrectionMaskRadius (19) | 0.050995 |
PaintCorrectionMaskRadius (2) | 0.082693 |
PaintCorrectionMaskRadius (20) | 0.050957 |
PaintCorrectionMaskRadius (21) | 0.050606 |
PaintCorrectionMaskRadius (22) | 0.050731 |
PaintCorrectionMaskRadius (23) | 0.050405 |
PaintCorrectionMaskRadius (24) | 0.073006 |
PaintCorrectionMaskRadius (25) | 0.050400 |
PaintCorrectionMaskRadius (26) | 0.051188 |
PaintCorrectionMaskRadius (27) | 0.049994 |
PaintCorrectionMaskRadius (3) | 0.018453 |
PaintCorrectionMaskRadius (4) | 0.018463 |
PaintCorrectionMaskRadius (5) | 0.018444 |
PaintCorrectionMaskRadius (6) | 0.055746 |
PaintCorrectionMaskRadius (7) | 0.077033 |
PaintCorrectionMaskRadius (8) | 0.103583 |
PaintCorrectionMaskRadius (9) | 0.104884 |
PaintCorrectionMaskRadius | 0.050149 |
PaintCorrectionMaskValue | 0.693000 |
PaintCorrectionMaskWhat | Mask/Paint |
PaintCorrectionMoire | 0.000000 |
PaintCorrectionSaturation (11) | 0.000000 |
PaintCorrectionSaturation | 0.040000 |
PaintCorrectionShadows2012 (2) | 0.000000 |
PaintCorrectionShadows2012 (4) | 0.046510 |
PaintCorrectionShadows2012 (7) | 0.116280 |
PaintCorrectionShadows2012 | 0.093020 |
PaintCorrectionSharpness (5) | 0.020000 |
PaintCorrectionSharpness | 0.000000 |
PaintCorrectionTemperature | 0.000000 |
PaintCorrectionTint (1) | -0.010000 |
PaintCorrectionTint | 0.000000 |
PaintCorrectionWhat | Correction |
ParametricDarks | +37 |
ParametricHighlights | +31 |
ParametricHighlightSplit | 75 |
ParametricLights | -32 |
ParametricMidtoneSplit | 50 |
ParametricShadows | +13 |
ParametricShadowSplit | 25 |
PerspectiveAspect | 0 |
PerspectiveHorizontal | 0 |
PerspectiveRotate | 0.0 |
PerspectiveScale | 100 |
PerspectiveUpright | 1 |
PerspectiveVertical | 0 |
PerspectiveX | 0.00 |
PerspectiveY | 0.00 |
PostCropVignetteAmount | 0 |
ProcessVersion | 6.7 |
ProfileDescription | sRGB IEC61966-2.1 |
Rating | 5 |
RedHue | 0 |
RedSaturation | 0 |
Saturation (1) | 0 |
Saturation | Normal |
SaturationAdjustmentAqua | 0 |
SaturationAdjustmentBlue | 0 |
SaturationAdjustmentGreen | 0 |
SaturationAdjustmentMagenta | 0 |
SaturationAdjustmentOrange | 0 |
SaturationAdjustmentPurple | 0 |
SaturationAdjustmentRed | 0 |
SaturationAdjustmentYellow | 0 |
ScaleFactor35efl | 1.5 |
SceneCaptureType | Standard |
SceneType | Directly photographed |
SensingMethod | One-chip color area |
SensitivityType | Recommended Exposure Index |
SerialNumber | 6556200 |
Shadows2012 | +72 |
ShadowTint | 0 |
SharpenDetail | 25 |
SharpenEdgeMasking | 0 |
SharpenRadius | +1.0 |
Sharpness (1) | 25 |
Sharpness | Normal |
ShutterSpeed | 1/160 |
ShutterSpeedValue | 1/160 |
Software | Adobe Photoshop Lightroom 6.12 (Windows) |
SplitToningBalance | 0 |
SplitToningHighlightHue | 0 |
SplitToningHighlightSaturation | 0 |
SplitToningShadowHue | 0 |
SplitToningShadowSaturation | 0 |
Subject | HAMNØY, REDIGERT, SOMMER27, ferie, lofoten |
SubjectDistanceRange | Unknown |
Tint | +10 |
ToneCurve | 0, 0, 255, 255 |
ToneCurveBlue | 0, 0, 255, 255 |
ToneCurveGreen | 0, 0, 255, 255 |
ToneCurveName | Linear |
ToneCurveName2012 | Linear |
ToneCurvePV2012 | 0, 0, 255, 255 |
ToneCurvePV2012Blue | 0, 0, 255, 255 |
ToneCurvePV2012Green | 0, 0, 255, 255 |
ToneCurvePV2012Red | 0, 0, 255, 255 |
ToneCurveRed | 0, 0, 255, 255 |
ToneMapStrength | 0 |
Version | 9.12 |
Vibrance | 0 |
VignetteAmount | 0 |
VignetteCorrectionAlreadyApplied | True |
WhiteBalance (1) | As Shot |
WhiteBalance | Auto |
Whites2012 | 0 |