Felt | Verdi |
AlreadyApplied | True |
Aperture | 7.1 |
ApertureValue | 7.1 |
ApproximateFocusDistance | 7.5 |
AutoLateralCA | 0 |
AutoWhiteVersion | 134348800 |
BitsPerSample | 8 |
Blacks2012 | 0 |
BlueHue | 0 |
BlueSaturation | 0 |
CameraProfile | Adobe Standard |
CFAPattern | [Red,Green][Green,Blue] |
CircleOfConfusion | 0.030 mm |
Clarity2012 | +100 |
ColorComponents | 3 |
ColorMode | RGB |
ColorNoiseReduction | 25 |
ColorNoiseReductionDetail | 50 |
ColorNoiseReductionSmoothness | 50 |
ColorSpace | sRGB |
ColorTemperature | 7200 |
ColorTransform | YCbCr |
Contrast | Normal |
Contrast2012 | +58 |
ConvertToGrayscale | False |
CreateDate (1) | 2018:04:15 15:16:02+02:00 |
CreateDate | 2018:04:15 15:16:02 |
CreatorTool | Ver.1.02 |
CropAngle | 0 |
CropBottom | 1 |
CropConstrainToWarp | 1 |
CropLeft | 0 |
CropRight | 0.642431 |
CropTop | 0.207143 |
CustomRendered | Normal |
DateCreated (1) | 2018:04:15 |
DateCreated | 2018:04:15 15:16:02 |
DateTimeOriginal | 2018:04:15 15:16:02 |
DefringeGreenAmount | 0 |
DefringeGreenHueHi | 60 |
DefringeGreenHueLo | 40 |
DefringePurpleAmount | 0 |
DefringePurpleHueHi | 70 |
DefringePurpleHueLo | 30 |
Dehaze | 0 |
DigitalZoomRatio | 1 |
DOF | 0.14 m (7.43 - 7.57 m) |
ExifImageHeight | 2059 |
ExifImageWidth | 2500 |
Exposure2012 | 0.00 |
ExposureCompensation | 0 |
ExposureMode | Auto |
ExposureProgram | Aperture-priority AE |
ExposureTime | 1/1600 |
Flash | Off, Did not fire |
FNumber | 7.1 |
FocalLength | 400.0 mm |
FocalLength35efl | 400.0 mm (35 mm equivalent: 400.0 mm) |
FocalLengthIn35mmFormat | 400 mm |
Format | image/jpeg |
FOV | 5.2 deg |
GainControl | High gain up |
GrainAmount | 0 |
GreenHue | 0 |
GreenSaturation | 0 |
HasCrop | True |
HasSettings | True |
Highlights2012 | -33 |
HueAdjustmentAqua | 0 |
HueAdjustmentBlue | 0 |
HueAdjustmentGreen | 0 |
HueAdjustmentMagenta | 0 |
HueAdjustmentOrange | 0 |
HueAdjustmentPurple | 0 |
HueAdjustmentRed | 0 |
HueAdjustmentYellow | 0 |
HyperfocalDistance | 750.02 m |
ICCProfileName | sRGB IEC61966-2.1 |
ImageHeight | 2059 |
ImageNumber | 20285 |
ImageSize | 2500x2059 |
ImageWidth | 2500 |
ISO | 2000 |
LensID (1) | 101 |
LensID | AF VR Zoom-Nikkor 80-400mm f/4.5-5.6D ED |
LensInfo | 80-400mm f/4.5-5.6 |
LensManualDistortionAmount | 0 |
LensProfileEnable | 0 |
LensProfileSetup | LensDefaults |
LightSource | Shade |
LightValue | 12.0 |
LuminanceAdjustmentAqua | 0 |
LuminanceAdjustmentBlue | 0 |
LuminanceAdjustmentGreen | 0 |
LuminanceAdjustmentMagenta | 0 |
LuminanceAdjustmentOrange | 0 |
LuminanceAdjustmentPurple | 0 |
LuminanceAdjustmentRed | 0 |
LuminanceAdjustmentYellow | 0 |
LuminanceSmoothing | 0 |
Make | NIKON CORPORATION |
MaxApertureValue | 5.7 |
Megapixels | 5.1 |
MeteringMode | Multi-segment |
Model | NIKON D800 |
ModifyDate (1) | 2018:04:23 20:30:58+02:00 |
ModifyDate | 2018:04:23 20:30:58 |
Orientation | Horizontal (normal) |
ParametricDarks | 0 |
ParametricHighlights | 0 |
ParametricHighlightSplit | 75 |
ParametricLights | 0 |
ParametricMidtoneSplit | 50 |
ParametricShadows | 0 |
ParametricShadowSplit | 25 |
PerspectiveAspect | 0 |
PerspectiveHorizontal | 0 |
PerspectiveRotate | 0.0 |
PerspectiveScale | 100 |
PerspectiveUpright | 0 |
PerspectiveVertical | 0 |
PostCropVignetteAmount | 0 |
ProcessVersion | 6.7 |
ProfileDescription | sRGB IEC61966-2.1 |
Rating | 0 |
RawFileName | Mine raw fuglefoto 2018 009.NEF |
RedHue | 0 |
RedSaturation | 0 |
Saturation (1) | -16 |
Saturation | Normal |
SaturationAdjustmentAqua | 0 |
SaturationAdjustmentBlue | 0 |
SaturationAdjustmentGreen | 0 |
SaturationAdjustmentMagenta | 0 |
SaturationAdjustmentOrange | 0 |
SaturationAdjustmentPurple | 0 |
SaturationAdjustmentRed | 0 |
SaturationAdjustmentYellow | 0 |
ScaleFactor35efl | 1.0 |
SceneCaptureType | Standard |
SceneType | Directly photographed |
SensingMethod | One-chip color area |
SensitivityType | Recommended Exposure Index |
SerialNumber | 6123237 |
Shadows2012 | 0 |
ShadowTint | 0 |
SharpenDetail | 25 |
SharpenEdgeMasking | 0 |
SharpenRadius | +1.0 |
Sharpness (1) | 25 |
Sharpness | Normal |
ShutterSpeed | 1/1600 |
ShutterSpeedValue | 1/1600 |
Software | Adobe Photoshop Elements 14.0 (Windows) |
SplitToningBalance | 0 |
SplitToningHighlightHue | 0 |
SplitToningHighlightSaturation | 0 |
SplitToningShadowHue | 0 |
SplitToningShadowSaturation | 0 |
SubjectDistanceRange | Unknown |
Tint | +14 |
ToneCurve | 0, 0, 32, 22, 64, 56, 128, 128, 192, 196, 255, 255 |
ToneCurveBlue | 0, 0, 255, 255 |
ToneCurveGreen | 0, 0, 255, 255 |
ToneCurveName | Medium Contrast |
ToneCurveName2012 | Linear |
ToneCurvePV2012 | 0, 0, 255, 255 |
ToneCurvePV2012Blue | 0, 0, 255, 255 |
ToneCurvePV2012Green | 0, 0, 255, 255 |
ToneCurvePV2012Red | 0, 0, 255, 255 |
ToneCurveRed | 0, 0, 255, 255 |
ToneMapStrength | 0 |
URL_List | |
Version | 9.5 |
Vibrance | 0 |
VignetteAmount | 0 |
WhiteBalance (1) | As Shot |
WhiteBalance | Manual |
Whites2012 | 0 |