Felt | Verdi |
AlreadyApplied | True |
Aperture | 11.0 |
ApertureValue | 11.0 |
ApproximateFocusDistance | 4 |
Artist | Kristinn-Gudlaugsson |
AutoLateralCA | 0 |
AutoWhiteVersion | 134348800 |
BitsPerSample | 8 |
Blacks2012 | -6 |
BlueHue | 0 |
BlueSaturation | 0 |
By-line | Kristinn-Gudlaugsson |
CameraProfile | Adobe Standard |
CircGradBasedCorrActive | true |
CircGradBasedCorrAmount | 1.000000 |
CircGradBasedCorrBrightness | 0.000000 |
CircGradBasedCorrClarity2012 | 0.000000 |
CircGradBasedCorrContrast2012 | 0.000000 |
CircGradBasedCorrDefringe | 0.000000 |
CircGradBasedCorrExposure2012 | 0.204106 |
CircGradBasedCorrHighlights2012 | 0.000000 |
CircGradBasedCorrHue | 240.000000 |
CircGradBasedCorrLocalBlacks2012 | 0.000000 |
CircGradBasedCorrLocalDehaze | 0.000000 |
CircGradBasedCorrLocalWhites2012 | 0.000000 |
CircGradBasedCorrLuminanceNoise | 0.000000 |
CircGradBasedCorrMaskAngle | 0.000000 |
CircGradBasedCorrMaskBottom | 0.735588 |
CircGradBasedCorrMaskFeather | +100 |
CircGradBasedCorrMaskFlipped | true |
CircGradBasedCorrMaskLeft | 0.216476 |
CircGradBasedCorrMaskMidpoint | +50 |
CircGradBasedCorrMaskRight | 0.536382 |
CircGradBasedCorrMaskRoundness | 0 |
CircGradBasedCorrMaskTop | 0.386985 |
CircGradBasedCorrMaskValue | 1.000000 |
CircGradBasedCorrMaskVersion | +2 |
CircGradBasedCorrMaskWhat | Mask/CircularGradient |
CircGradBasedCorrMoire | 0.000000 |
CircGradBasedCorrSaturation | 0.000000 |
CircGradBasedCorrShadows2012 | 0.000000 |
CircGradBasedCorrSharpness | 0.405740 |
CircGradBasedCorrTemperature | 0.000000 |
CircGradBasedCorrTint | 0.000000 |
CircGradBasedCorrWhat | Correction |
CircleOfConfusion | 0.030 mm |
Clarity2012 | 0 |
ColorComponents | 3 |
ColorNoiseReduction | 25 |
ColorNoiseReductionDetail | 50 |
ColorNoiseReductionSmoothness | 50 |
ColorSpace | sRGB |
ColorTemperature | 5000 |
ColorTransform | YCbCr |
Contrast | Normal |
Contrast2012 | +10 |
ConvertToGrayscale | False |
Copyright | StiniFoto |
CopyrightNotice | StiniFoto |
CreateDate | 2018:04:20 11:02:27 |
Creator | Kristinn-Gudlaugsson |
CreatorTool | Adobe Photoshop Lightroom 6.14 (Macintosh) |
CustomRendered | Normal |
DateCreated (1) | 2018:04:20 |
DateCreated | 2018:04:20 11:02:27 |
DateTimeOriginal | 2018:04:20 11:02:27 |
DefringeGreenAmount | 0 |
DefringeGreenHueHi | 60 |
DefringeGreenHueLo | 40 |
DefringePurpleAmount | 0 |
DefringePurpleHueHi | 70 |
DefringePurpleHueLo | 30 |
Dehaze | 0 |
DOF | inf (1.22 m - inf) |
Exposure2012 | -0.45 |
ExposureCompensation | 0 |
ExposureMode | Auto |
ExposureProgram | Creative (Slow speed) |
ExposureTime | 1/100 |
Flash | Off, Did not fire |
FNumber | 11.0 |
FocalLength | 24.0 mm |
FocalLength35efl | 24.0 mm (35 mm equivalent: 24.0 mm) |
FocalLengthIn35mmFormat | 24 mm |
Format | image/jpeg |
FOV | 73.7 deg |
GrainAmount | 0 |
GreenHue | 0 |
GreenSaturation | 0 |
HasCrop | False |
HasSettings | True |
Highlights2012 | 0 |
HueAdjustmentAqua | 0 |
HueAdjustmentBlue | 0 |
HueAdjustmentGreen | 0 |
HueAdjustmentMagenta | 0 |
HueAdjustmentOrange | 0 |
HueAdjustmentPurple | 0 |
HueAdjustmentRed | 0 |
HueAdjustmentYellow | 0 |
HyperfocalDistance | 1.74 m |
ImageHeight | 1500 |
ImageSize | 2248x1500 |
ImageWidth | 2248 |
ISO | 200 |
Lens | HD PENTAX-D FA 24-70mm F2.8ED SDM WR |
LensID (1) | 8 62 |
LensID | HD PENTAX-D FA 24-70mm F2.8 ED SDM WR |
LensInfo | 24-70mm f/2.8 |
LensManualDistortionAmount | 0 |
LensModel | HD PENTAX-D FA 24-70mm F2.8ED SDM WR |
LensProfileEnable | 0 |
LensProfileSetup | LensDefaults |
LightValue | 12.6 |
LuminanceAdjustmentAqua | 0 |
LuminanceAdjustmentBlue | 0 |
LuminanceAdjustmentGreen | 0 |
LuminanceAdjustmentMagenta | 0 |
LuminanceAdjustmentOrange | 0 |
LuminanceAdjustmentPurple | 0 |
LuminanceAdjustmentRed | 0 |
LuminanceAdjustmentYellow | 0 |
LuminanceSmoothing | 0 |
Make | RICOH IMAGING COMPANY, LTD. |
Megapixels | 3.4 |
MeteringMode | Center-weighted average |
Model | PENTAX K-1 |
ModifyDate (1) | 2018:04:23 21:13:57+02:00 |
ModifyDate | 2018:04:23 21:13:57 |
PaintCorrectionActive | true |
PaintCorrectionAmount | 1.000000 |
PaintCorrectionBrightness | 0.000000 |
PaintCorrectionClarity2012 | 0.000000 |
PaintCorrectionContrast2012 | 0.000000 |
PaintCorrectionDefringe | 0.000000 |
PaintCorrectionExposure2012 | 0.000000 |
PaintCorrectionHighlights2012 | 0.000000 |
PaintCorrectionHue | 240.000000 |
PaintCorrectionLocalBlacks2012 | 0.000000 |
PaintCorrectionLocalDehaze | 0.000000 |
PaintCorrectionLocalWhites2012 | 0.000000 |
PaintCorrectionLuminanceNoise | 0.000000 |
PaintCorrectionMaskCenterWeight | 1.000000 |
PaintCorrectionMaskFlow | 0.863263 |
PaintCorrectionMaskRadius | 0.012992 |
PaintCorrectionMaskValue | 1.000000 |
PaintCorrectionMaskWhat | Mask/Paint |
PaintCorrectionMoire | 0.000000 |
PaintCorrectionSaturation | 0.000000 |
PaintCorrectionShadows2012 | 0.000000 |
PaintCorrectionSharpness | 0.405740 |
PaintCorrectionTemperature | 0.000000 |
PaintCorrectionTint | 0.000000 |
PaintCorrectionWhat | Correction |
ParametricDarks | 0 |
ParametricHighlights | 0 |
ParametricHighlightSplit | 75 |
ParametricLights | 0 |
ParametricMidtoneSplit | 50 |
ParametricShadows | 0 |
ParametricShadowSplit | 25 |
PerspectiveAspect | 0 |
PerspectiveHorizontal | 0 |
PerspectiveRotate | 0.0 |
PerspectiveScale | 100 |
PerspectiveUpright | 0 |
PerspectiveVertical | 0 |
PerspectiveX | 0.00 |
PerspectiveY | 0.00 |
PostCropVignetteAmount | 0 |
ProcessVersion | 6.7 |
ProfileDescription | sRGB IEC61966-2.1 |
RedHue | 0 |
RedSaturation | 0 |
Rights | StiniFoto |
Saturation (1) | 0 |
Saturation | Normal |
SaturationAdjustmentAqua | 0 |
SaturationAdjustmentBlue | 0 |
SaturationAdjustmentGreen | 0 |
SaturationAdjustmentMagenta | 0 |
SaturationAdjustmentOrange | 0 |
SaturationAdjustmentPurple | 0 |
SaturationAdjustmentRed | 0 |
SaturationAdjustmentYellow | 0 |
ScaleFactor35efl | 1.0 |
SceneCaptureType | Standard |
SensingMethod | One-chip color area |
SensitivityType | Standard Output Sensitivity |
Shadows2012 | +50 |
ShadowTint | 0 |
SharpenDetail | 25 |
SharpenEdgeMasking | 0 |
SharpenRadius | +1.0 |
Sharpness (1) | 25 |
Sharpness | Normal |
ShutterSpeed | 1/100 |
ShutterSpeedValue | 1/100 |
Software | Adobe Photoshop Lightroom 6.14 (Macintosh) |
SplitToningBalance | 0 |
SplitToningHighlightHue | 0 |
SplitToningHighlightSaturation | 0 |
SplitToningShadowHue | 0 |
SplitToningShadowSaturation | 0 |
StandardOutputSensitivity | 200 |
SubjectDistanceRange | Distant |
Tint | +5 |
ToneCurve | 0, 0, 255, 255 |
ToneCurveBlue | 0, 0, 255, 255 |
ToneCurveGreen | 0, 0, 255, 255 |
ToneCurveName | Linear |
ToneCurveName2012 | Linear |
ToneCurvePV2012 | 0, 0, 255, 255 |
ToneCurvePV2012Blue | 0, 0, 255, 255 |
ToneCurvePV2012Green | 0, 0, 255, 255 |
ToneCurvePV2012Red | 0, 0, 255, 255 |
ToneCurveRed | 0, 0, 255, 255 |
ToneMapStrength | 0 |
Version | 10.1 |
Vibrance | 0 |
VignetteAmount | 0 |
WhiteBalance (1) | Custom |
WhiteBalance | Auto |
Whites2012 | +38 |