Felt | Verdi |
AlreadyApplied | True |
Aperture | 9.0 |
ApertureValue | 9.0 |
ApproximateFocusDistance | 4294967295 |
AutoLateralCA | 0 |
AutoWhiteVersion | 134348800 |
BitsPerSample | 8 |
Blacks2012 | 0 |
BlueHue | 0 |
BlueSaturation | 0 |
CameraProfile | Embedded |
CircGradBasedCorrActive | true |
CircGradBasedCorrAmount | 1.000000 |
CircGradBasedCorrBrightness | 0.000000 |
CircGradBasedCorrClarity2012 | 0.044640 |
CircGradBasedCorrContrast2012 (2) | 0.010000 |
CircGradBasedCorrContrast2012 | 0.100000 |
CircGradBasedCorrDefringe | 0.000000 |
CircGradBasedCorrExposure2012 (1) | 0.080000 |
CircGradBasedCorrExposure2012 (2) | 0.187500 |
CircGradBasedCorrExposure2012 | 0.112500 |
CircGradBasedCorrHighlights2012 | 0.000000 |
CircGradBasedCorrHue | 230.000000 |
CircGradBasedCorrLocalBlacks2012 | 0.000000 |
CircGradBasedCorrLocalDehaze | 0.000000 |
CircGradBasedCorrLocalWhites2012 | 0.000000 |
CircGradBasedCorrLuminanceNoise | 0.000000 |
CircGradBasedCorrMaskAngle (1) | -1.464140 |
CircGradBasedCorrMaskAngle (2) | -26.303100 |
CircGradBasedCorrMaskAngle | -4.015390 |
CircGradBasedCorrMaskBottom (1) | 0.602301 |
CircGradBasedCorrMaskBottom (2) | 0.260144 |
CircGradBasedCorrMaskBottom (3) | 0.278989 |
CircGradBasedCorrMaskBottom (4) | 0.408518 |
CircGradBasedCorrMaskBottom (5) | 0.402085 |
CircGradBasedCorrMaskBottom | 0.411320 |
CircGradBasedCorrMaskFeather | +100 |
CircGradBasedCorrMaskFlipped | true |
CircGradBasedCorrMaskLeft (1) | 0.456511 |
CircGradBasedCorrMaskLeft (2) | 0.488023 |
CircGradBasedCorrMaskLeft (3) | 0.463016 |
CircGradBasedCorrMaskLeft (4) | 0.316082 |
CircGradBasedCorrMaskLeft (5) | 0.388171 |
CircGradBasedCorrMaskLeft | 0.263923 |
CircGradBasedCorrMaskMidpoint | +50 |
CircGradBasedCorrMaskRight (1) | 0.514309 |
CircGradBasedCorrMaskRight (2) | 0.527301 |
CircGradBasedCorrMaskRight (3) | 0.502294 |
CircGradBasedCorrMaskRight (4) | 0.380908 |
CircGradBasedCorrMaskRight (5) | 0.426253 |
CircGradBasedCorrMaskRight | 0.302005 |
CircGradBasedCorrMaskRoundness | 0 |
CircGradBasedCorrMaskTop (1) | 0.532972 |
CircGradBasedCorrMaskTop (2) | 0.251874 |
CircGradBasedCorrMaskTop (3) | 0.270719 |
CircGradBasedCorrMaskTop (4) | 0.395178 |
CircGradBasedCorrMaskTop (5) | 0.385929 |
CircGradBasedCorrMaskTop | 0.395164 |
CircGradBasedCorrMaskValue | 1.000000 |
CircGradBasedCorrMaskVersion | +2 |
CircGradBasedCorrMaskWhat | Mask/CircularGradient |
CircGradBasedCorrMoire | 0.000000 |
CircGradBasedCorrSaturation (5) | 0.050000 |
CircGradBasedCorrSaturation (9) | 0.110000 |
CircGradBasedCorrSaturation | 0.000000 |
CircGradBasedCorrShadows2012 | 0.000000 |
CircGradBasedCorrSharpness (1) | 0.110000 |
CircGradBasedCorrSharpness | 0.000000 |
CircGradBasedCorrTemperature | 0.026790 |
CircGradBasedCorrTint | 0.026790 |
CircGradBasedCorrWhat | Correction |
CircleOfConfusion | 0.019 mm |
Clarity2012 | +7 |
ColorComponents | 3 |
ColorNoiseReduction | 0 |
ColorSpace | sRGB |
ColorTransform | YCbCr |
Contrast2012 | 0 |
ConvertToGrayscale | False |
CreateDate (1) | 2018:05:04 13:37:05.45 |
CreateDate | 2018:05:04 13:37:05 |
CreatorTool | Adobe Photoshop Lightroom 6.6.1 (Windows) |
CropAngle | -1.46414 |
CropBottom | 0.774861 |
CropConstrainToWarp | 0 |
CropLeft | 0.266691 |
CropRight | 0.941121 |
CropTop | 0.191467 |
CustomRendered | Normal |
DateCreated (1) | 2018:05:04 |
DateCreated | 2018:05:04 13:37:05.45 |
DateTimeOriginal | 2018:05:04 13:37:05 |
DefringeGreenAmount | 0 |
DefringeGreenHueHi | 60 |
DefringeGreenHueLo | 40 |
DefringePurpleAmount | 0 |
DefringePurpleHueHi | 70 |
DefringePurpleHueLo | 30 |
Dehaze | 0 |
DOF | inf (17.59 m - inf) |
Exposure2012 | +0.13 |
ExposureCompensation | 0 |
ExposureMode | Auto |
ExposureProgram | Aperture-priority AE |
ExposureTime | 1/320 |
Firmware | 1.0.1 |
Flash | Off, Did not fire |
FlashCompensation | 0 |
FNumber | 9.0 |
FocalLength | 55.0 mm |
FocalLength35efl | 55.0 mm (35 mm equivalent: 86.5 mm) |
Format | image/jpeg |
FOV | 23.5 deg |
GrainAmount | 0 |
GreenHue | 0 |
GreenSaturation | 0 |
HasCrop | True |
HasExtendedXMP | CE760FED865A0CD6365FA34BF99B4EF8 |
HasSettings | True |
Highlights2012 | -16 |
HueAdjustmentAqua | 0 |
HueAdjustmentBlue | 0 |
HueAdjustmentGreen | 0 |
HueAdjustmentMagenta | 0 |
HueAdjustmentOrange | 0 |
HueAdjustmentPurple | 0 |
HueAdjustmentRed | 0 |
HueAdjustmentYellow | 0 |
HyperfocalDistance | 17.59 m |
ImageHeight | 2105 |
ImageNumber | 0 |
ImageSize | 3444x2105 |
ImageWidth | 3444 |
IncrementalTemperature | +1 |
IncrementalTint | +12 |
ISO | 200 |
Keywords | 040518, 2018, Tennfjord |
Label | Yellow |
Lens | EF-S18-55mm f/3.5-5.6 IS II |
LensID (1) | 52 |
LensID | Canon EF-S 18-55mm f/3.5-5.6 IS II |
LensInfo | 18-55mm f/? |
LensManualDistortionAmount | 0 |
LensModel | EF-S18-55mm f/3.5-5.6 IS II |
LensProfileEnable | 0 |
LensProfileSetup | LensDefaults |
LensSerialNumber | 0000137bca |
LightValue | 13.7 |
LuminanceAdjustmentAqua | 0 |
LuminanceAdjustmentBlue | 0 |
LuminanceAdjustmentGreen | 0 |
LuminanceAdjustmentMagenta | 0 |
LuminanceAdjustmentOrange | 0 |
LuminanceAdjustmentPurple | 0 |
LuminanceAdjustmentRed | 0 |
LuminanceAdjustmentYellow | 0 |
LuminanceSmoothing | 0 |
Make | Canon |
MaxApertureValue | 5.7 |
Megapixels | 7.2 |
MeteringMode | Spot |
Model | Canon EOS 600D |
ModifyDate (1) | 2018:05:04 21:40:43+02:00 |
ModifyDate | 2018:05:04 21:40:43 |
PaintCorrectionActive | true |
PaintCorrectionAmount | 1.000000 |
PaintCorrectionBrightness | 0.000000 |
PaintCorrectionClarity2012 | 0.044640 |
PaintCorrectionContrast2012 (2) | 0.010000 |
PaintCorrectionContrast2012 (4) | 0.060000 |
PaintCorrectionContrast2012 | 0.100000 |
PaintCorrectionDefringe | 0.000000 |
PaintCorrectionExposure2012 (2) | -0.340000 |
PaintCorrectionExposure2012 (3) | -0.250000 |
PaintCorrectionExposure2012 (4) | -0.300000 |
PaintCorrectionExposure2012 | -0.020000 |
PaintCorrectionHighlights2012 (1) | -0.110000 |
PaintCorrectionHighlights2012 (4) | -0.040000 |
PaintCorrectionHighlights2012 | 0.000000 |
PaintCorrectionHue | 230.000000 |
PaintCorrectionLocalBlacks2012 | 0.000000 |
PaintCorrectionLocalDehaze | 0.000000 |
PaintCorrectionLocalWhites2012 | 0.000000 |
PaintCorrectionLuminanceNoise | 0.000000 |
PaintCorrectionMaskCenterWeight | 0.000000 |
PaintCorrectionMaskFlow (1) | 0.211000 |
PaintCorrectionMaskFlow (3) | 0.186000 |
PaintCorrectionMaskFlow (4) | 0.196000 |
PaintCorrectionMaskFlow | 1.000000 |
PaintCorrectionMaskRadius (2) | 0.030592 |
PaintCorrectionMaskRadius (3) | 0.023504 |
PaintCorrectionMaskRadius (4) | 0.108473 |
PaintCorrectionMaskRadius | 0.052033 |
PaintCorrectionMaskValue | 1.000000 |
PaintCorrectionMaskWhat | Mask/Paint |
PaintCorrectionMoire | 0.000000 |
PaintCorrectionSaturation (1) | 0.050000 |
PaintCorrectionSaturation (11) | 0.110000 |
PaintCorrectionSaturation | 0.000000 |
PaintCorrectionShadows2012 | 0.000000 |
PaintCorrectionSharpness | 0.000000 |
PaintCorrectionTemperature | 0.026790 |
PaintCorrectionTint | 0.026790 |
PaintCorrectionWhat | Correction |
ParametricDarks | 0 |
ParametricHighlights | 0 |
ParametricHighlightSplit | 75 |
ParametricLights | 0 |
ParametricMidtoneSplit | 50 |
ParametricShadows | 0 |
ParametricShadowSplit | 25 |
PerspectiveAspect | 0 |
PerspectiveHorizontal | 0 |
PerspectiveRotate | 0.0 |
PerspectiveScale | 100 |
PerspectiveUpright | 0 |
PerspectiveVertical | 0 |
PerspectiveX | 0.00 |
PerspectiveY | 0.00 |
PostCropVignetteAmount | 0 |
ProcessVersion | 6.7 |
ProfileDescription | sRGB IEC61966-2.1 |
Rating | 5 |
RecommendedExposureIndex | 200 |
RedHue | 0 |
RedSaturation | 0 |
Saturation | +26 |
SaturationAdjustmentAqua | 0 |
SaturationAdjustmentBlue | 0 |
SaturationAdjustmentGreen | 0 |
SaturationAdjustmentMagenta | 0 |
SaturationAdjustmentOrange | 0 |
SaturationAdjustmentPurple | 0 |
SaturationAdjustmentRed | 0 |
SaturationAdjustmentYellow | 0 |
ScaleFactor35efl | 1.6 |
SceneCaptureType | Standard |
SensitivityType | Recommended Exposure Index |
SerialNumber | 103063092828 |
Shadows2012 | 0 |
ShadowTint | 0 |
SharpenDetail | 25 |
SharpenEdgeMasking | 0 |
SharpenRadius | +1.0 |
Sharpness | 0 |
ShutterSpeed | 1/320 |
ShutterSpeedValue | 1/320 |
Software | Adobe Photoshop Lightroom 6.6.1 (Windows) |
SplitToningBalance | 0 |
SplitToningHighlightHue | 0 |
SplitToningHighlightSaturation | 0 |
SplitToningShadowHue | 0 |
SplitToningShadowSaturation | 0 |
Subject | 040518, 2018, Tennfjord |
ToneCurve | 0, 0, 255, 255 |
ToneCurveBlue | 0, 0, 255, 255 |
ToneCurveGreen | 0, 0, 255, 255 |
ToneCurveName | Linear |
ToneCurveName2012 | Linear |
ToneCurvePV2012 | 0, 0, 255, 255 |
ToneCurvePV2012Blue | 0, 0, 255, 255 |
ToneCurvePV2012Green | 0, 0, 255, 255 |
ToneCurvePV2012Red | 0, 0, 255, 255 |
ToneCurveRed | 0, 0, 255, 255 |
ToneMapStrength | 0 |
Version | 9.6 |
Vibrance | +11 |
VignetteAmount | 0 |
WhiteBalance (1) | Custom |
WhiteBalance | Manual |
Whites2012 | -13 |