Felt | Verdi |
AlreadyApplied | True |
Aperture | 3.5 |
ApertureValue | 3.5 |
ApproximateFocusDistance | 0.84 |
AutoLateralCA | 0 |
AutoWhiteVersion | 134348800 |
BitsPerSample (1) | 8 8 8 |
BitsPerSample | 8 |
Blacks2012 | 0 |
BlueHue | 0 |
BlueSaturation | 0 |
CameraProfile | Adobe Standard |
CFAPattern | [Red,Green][Green,Blue] |
CircleOfConfusion | 0.030 mm |
Clarity2012 | +62 |
ColorComponents | 3 |
ColorMode | RGB |
ColorNoiseReduction | 25 |
ColorNoiseReductionDetail | 50 |
ColorNoiseReductionSmoothness | 50 |
ColorSpace | sRGB |
ColorTemperature | 5250 |
ColorTransform | YCbCr |
Contrast | Normal |
Contrast2012 | 0 |
ConvertToGrayscale | False |
CreateDate (1) | 2018:06:07 09:53:22+02:00 |
CreateDate | 2018:06:07 09:53:22 |
CreatorTool | Adobe Photoshop Elements 12.0 Windows |
CustomRendered | Normal |
DateCreated (1) | 2018:06:07 |
DateCreated | 2018:06:07 09:53:22.081 |
DateTimeOriginal | 2018:06:07 09:53:22 |
DefringeGreenAmount | 0 |
DefringeGreenHueHi | 60 |
DefringeGreenHueLo | 40 |
DefringePurpleAmount | 0 |
DefringePurpleHueHi | 70 |
DefringePurpleHueLo | 30 |
DigitalZoomRatio | 1 |
DOF | 0.005 m (0.837 - 0.843 m) |
ExifImageHeight | 850 |
ExifImageWidth | 850 |
Exposure2012 | 0.00 |
ExposureCompensation | 0 |
ExposureMode | Auto |
ExposureProgram | Not Defined |
ExposureTime | 1/200 |
Flash | Off, Did not fire |
FNumber | 3.5 |
FocalLength | 150.0 mm |
FocalLength35efl | 150.0 mm (35 mm equivalent: 150.0 mm) |
FocalLengthIn35mmFormat | 150 mm |
Format | image/jpeg |
FOV | 13.7 deg |
GainControl | None |
GrainAmount | 0 |
GreenHue | 0 |
GreenSaturation | 0 |
HasCrop | False |
HasSettings | True |
Highlights2012 | -100 |
HueAdjustmentAqua | 0 |
HueAdjustmentBlue | 0 |
HueAdjustmentGreen | 0 |
HueAdjustmentMagenta | 0 |
HueAdjustmentOrange | 0 |
HueAdjustmentPurple | 0 |
HueAdjustmentRed | 0 |
HueAdjustmentYellow | 0 |
HyperfocalDistance | 213.96 m |
ICCProfileName | sRGB IEC61966-2.1 |
ImageHeight (1) | 4016 |
ImageHeight | 850 |
ImageNumber | 25709 |
ImageSize | 850x850 |
ImageWidth (1) | 6016 |
ImageWidth | 850 |
ISO | 200 |
Lens | 150.0 mm f/2.8 |
LensID (1) | 153 |
LensID | Sigma APO Macro 150mm F2.8 EX DG OS HSM |
LensInfo | 150mm f/2.8 |
LensManualDistortionAmount | 0 |
LensModel | 150.0 mm f/2.8 |
LensProfileEnable | 0 |
LensProfileSetup | LensDefaults |
LightSource | Unknown |
LightValue | 10.3 |
LuminanceAdjustmentAqua | 0 |
LuminanceAdjustmentBlue | -2 |
LuminanceAdjustmentGreen | 0 |
LuminanceAdjustmentMagenta | 0 |
LuminanceAdjustmentOrange | 0 |
LuminanceAdjustmentPurple | 0 |
LuminanceAdjustmentRed | 0 |
LuminanceAdjustmentYellow | 0 |
LuminanceNoiseReductionContrast | 0 |
LuminanceNoiseReductionDetail | 50 |
LuminanceSmoothing | 35 |
Make | NIKON CORPORATION |
MaxApertureValue | 3.5 |
Megapixels | 0.723 |
MeteringMode | Multi-segment |
Model | NIKON D750 |
ModifyDate (1) | 2018:06:08 08:02:37+02:00 |
ModifyDate | 2018:06:08 08:02:37 |
Orientation | Horizontal (normal) |
ParametricDarks | -40 |
ParametricHighlights | -59 |
ParametricHighlightSplit | 75 |
ParametricLights | 0 |
ParametricMidtoneSplit | 50 |
ParametricShadows | 0 |
ParametricShadowSplit | 25 |
PerspectiveAspect | 0 |
PerspectiveHorizontal | 0 |
PerspectiveRotate | 0.0 |
PerspectiveScale | 100 |
PerspectiveUpright | 0 |
PerspectiveVertical | 0 |
PhotometricInterpretation | RGB |
PostCropVignetteAmount | 0 |
ProcessVersion | 6.7 |
ProfileDescription | sRGB IEC61966-2.1 |
RawFileName | DSC_2211.JPG |
RedHue | 0 |
RedSaturation | 0 |
SamplesPerPixel | 3 |
Saturation (1) | 0 |
Saturation | Normal |
SaturationAdjustmentAqua | 0 |
SaturationAdjustmentBlue | 0 |
SaturationAdjustmentGreen | 0 |
SaturationAdjustmentMagenta | 0 |
SaturationAdjustmentOrange | 0 |
SaturationAdjustmentPurple | 0 |
SaturationAdjustmentRed | 0 |
SaturationAdjustmentYellow | 0 |
ScaleFactor35efl | 1.0 |
SceneCaptureType | Standard |
SceneType | Directly photographed |
SensingMethod | One-chip color area |
SensitivityType | Recommended Exposure Index |
SerialNumber | 6074924 |
Shadows2012 | 0 |
ShadowTint | 0 |
SharpenDetail | 25 |
SharpenEdgeMasking | 0 |
SharpenRadius | +1.4 |
Sharpness (1) | 64 |
Sharpness | Normal |
ShutterSpeed | 1/200 |
ShutterSpeedValue | 1/200 |
Software | Adobe Photoshop Elements 12.0 Windows |
SplitToningBalance | 0 |
SplitToningHighlightHue | 0 |
SplitToningHighlightSaturation | 0 |
SplitToningShadowHue | 0 |
SplitToningShadowSaturation | 0 |
SubjectDistanceRange | Unknown |
Tint | +16 |
ToneCurve | 0, 0, 255, 255 |
ToneCurveBlue | 0, 0, 255, 255 |
ToneCurveGreen | 0, 0, 255, 255 |
ToneCurveName | Linear |
ToneCurveName2012 | Linear |
ToneCurvePV2012 | 0, 0, 255, 255 |
ToneCurvePV2012Blue | 0, 0, 255, 255 |
ToneCurvePV2012Green | 0, 0, 255, 255 |
ToneCurvePV2012Red | 0, 0, 255, 255 |
ToneCurveRed | 0, 0, 255, 255 |
URL_List | |
Version | 9.0 |
Vibrance | 0 |
VignetteAmount | 0 |
WhiteBalance (1) | As Shot |
WhiteBalance | Auto |
Whites2012 | 0 |