Felt | Verdi |
AlreadyApplied | True |
Aperture | 2.8 |
ApertureValue | 2.8 |
AutoLateralCA | 0 |
BitsPerSample | 8 |
Blacks2012 | -13 |
BlueHue | 0 |
BlueSaturation | 0 |
CameraProfile | Adobe Standard |
Caption-Abstract | OLYMPUS DIGITAL CAMERA |
CFAPattern | [Green,Red][Blue,Green] |
CircleOfConfusion | 0.005 mm |
Clarity2012 | +48 |
ColorComponents | 3 |
ColorMode | RGB |
ColorNoiseReduction | 25 |
ColorNoiseReductionDetail | 50 |
ColorNoiseReductionSmoothness | 50 |
ColorSpace | Uncalibrated |
ColorTemperature | 5700 |
ColorTransform | YCbCr |
Contrast | Normal |
Contrast2012 | 0 |
ConvertToGrayscale | False |
CreateDate | 2018:06:10 22:43:57 |
CreatorTool | Version 1.0 |
CustomRendered | Normal |
DateCreated (1) | 2018:06:10 |
DateCreated | 2018:06:10 22:43:57 |
DateTimeOriginal | 2018:06:10 22:43:57 |
DefringeGreenAmount | 0 |
DefringeGreenHueHi | 60 |
DefringeGreenHueLo | 40 |
DefringePurpleAmount | 0 |
DefringePurpleHueHi | 70 |
DefringePurpleHueLo | 30 |
Dehaze | 0 |
Description | OLYMPUS DIGITAL CAMERA |
DigitalZoomRatio | 1 |
DistortionCorrectionAlreadyApplied | True |
ExifImageHeight | 1046 |
ExifImageWidth | 1600 |
Exposure2012 | 0.00 |
ExposureCompensation | 0 |
ExposureMode | Auto |
ExposureProgram | Creative (Slow speed) |
ExposureTime | 1/800 |
Flash | Off, Did not fire |
FlashCompensation | 0 |
FNumber | 2.8 |
FocalLength | 4.5 mm |
FocalLength35efl | 4.5 mm (35 mm equivalent: 25.0 mm) |
FocalLengthIn35mmFormat | 25 mm |
Format | image/jpeg |
FOV | 71.5 deg |
GainControl | None |
GPSImgDirection | 133 |
GPSImgDirectionRef | Magnetic North |
GPSStatus | Measurement Void |
GrainAmount | 0 |
GreenHue | 0 |
GreenSaturation | 0 |
HasCrop | False |
HasSettings | True |
Highlights2012 | 0 |
HueAdjustmentAqua | 0 |
HueAdjustmentBlue | 0 |
HueAdjustmentGreen | 0 |
HueAdjustmentMagenta | 0 |
HueAdjustmentOrange | 0 |
HueAdjustmentPurple | 0 |
HueAdjustmentRed | 0 |
HueAdjustmentYellow | 0 |
HyperfocalDistance | 1.34 m |
ICCProfileName | Adobe RGB (1998) |
ImageDescription | OLYMPUS DIGITAL CAMERA |
ImageHeight | 1046 |
ImageSize | 1600x1046 |
ImageWidth | 1600 |
ISO | 100 |
LensManualDistortionAmount | 0 |
LensProfileEnable | 0 |
LensProfileSetup | LensDefaults |
LightSource | Other |
LightValue | 12.6 |
LuminanceAdjustmentAqua | +2 |
LuminanceAdjustmentBlue | +3 |
LuminanceAdjustmentGreen | -29 |
LuminanceAdjustmentMagenta | 0 |
LuminanceAdjustmentOrange | 0 |
LuminanceAdjustmentPurple | 0 |
LuminanceAdjustmentRed | 0 |
LuminanceAdjustmentYellow | 0 |
LuminanceSmoothing | 0 |
Make | OLYMPUS CORPORATION |
MaxApertureValue | 2.8 |
Megapixels | 1.7 |
MeteringMode | Multi-segment |
Model | TG-4 |
ModifyDate (1) | 2018:06:11 10:13:43+02:00 |
ModifyDate | 2018:06:11 10:13:43 |
Orientation | Horizontal (normal) |
ParametricDarks | 0 |
ParametricHighlights | 0 |
ParametricHighlightSplit | 75 |
ParametricLights | 0 |
ParametricMidtoneSplit | 50 |
ParametricShadows | 0 |
ParametricShadowSplit | 25 |
PerspectiveAspect | 0 |
PerspectiveHorizontal | 0 |
PerspectiveRotate | 0.0 |
PerspectiveScale | 100 |
PerspectiveUpright | 0 |
PerspectiveVertical | 0 |
PerspectiveX | 0.00 |
PerspectiveY | 0.00 |
PostCropVignetteAmount | 0 |
ProcessVersion | 10.0 |
ProfileDescription | Adobe RGB (1998) |
Rating | 0 |
RawFileName | P6100014.ORF |
RedHue | 0 |
RedSaturation | 0 |
Saturation (1) | 0 |
Saturation | High |
SaturationAdjustmentAqua | 0 |
SaturationAdjustmentBlue | 0 |
SaturationAdjustmentGreen | 0 |
SaturationAdjustmentMagenta | 0 |
SaturationAdjustmentOrange | 0 |
SaturationAdjustmentPurple | 0 |
SaturationAdjustmentRed | 0 |
SaturationAdjustmentYellow | 0 |
ScaleFactor35efl | 5.6 |
SceneCaptureType | Standard |
SensitivityType | Standard Output Sensitivity |
SerialNumber | BHG251477 |
Shadows2012 | 0 |
ShadowTint | 0 |
SharpenDetail | 25 |
SharpenEdgeMasking | 0 |
SharpenRadius | +1.0 |
Sharpness (1) | 25 |
Sharpness | Hard |
ShutterSpeed | 1/800 |
ShutterSpeedValue | 1/800 |
Software | Adobe Photoshop CC (Windows) |
SplitToningBalance | 0 |
SplitToningHighlightHue | 0 |
SplitToningHighlightSaturation | 0 |
SplitToningShadowHue | 0 |
SplitToningShadowSaturation | 0 |
Tint | +82 |
ToneCurve | 0, 0, 32, 22, 64, 56, 128, 128, 192, 196, 255, 255 |
ToneCurveBlue | 0, 0, 255, 255 |
ToneCurveGreen | 0, 0, 255, 255 |
ToneCurveName | Medium Contrast |
ToneCurveName2012 | Linear |
ToneCurvePV2012 | 0, 0, 255, 255 |
ToneCurvePV2012Blue | 0, 0, 255, 255 |
ToneCurvePV2012Green | 0, 0, 255, 255 |
ToneCurvePV2012Red | 0, 0, 255, 255 |
ToneCurveRed | 0, 0, 255, 255 |
URL_List | |
Version | 10.2.1 |
Vibrance | 0 |
VignetteAmount | 0 |
WhiteBalance (1) | As Shot |
WhiteBalance | Manual |
Whites2012 | +25 |