Felt | Verdi |
AlreadyApplied | True |
Aperture | 8.0 |
ApertureValue | 8.0 |
ApproximateFocusDistance | 4294967295 |
Artist | Frode Reier-Nilsen |
AutoLateralCA | 1 |
AutoWhiteVersion | 134348800 |
BitsPerSample | 8 |
Blacks2012 | -6 |
BlueHue | 0 |
BlueSaturation | 0 |
By-line | Frode Reier-Nilsen |
CameraProfile | Adobe Standard |
CircGradBasedCorrActive | true |
CircGradBasedCorrAmount | 1.000000 |
CircGradBasedCorrBrightness | 0.000000 |
CircGradBasedCorrClarity2012 | 0.000000 |
CircGradBasedCorrContrast2012 | 0.000000 |
CircGradBasedCorrDefringe | 0.000000 |
CircGradBasedCorrExposure2012 (1) | 0.132734 |
CircGradBasedCorrExposure2012 | 0.062500 |
CircGradBasedCorrHighlights2012 (1) | 0.174400 |
CircGradBasedCorrHighlights2012 | 0.000000 |
CircGradBasedCorrHue | 240.000000 |
CircGradBasedCorrLocalBlacks2012 | 0.000000 |
CircGradBasedCorrLocalDehaze | 0.000000 |
CircGradBasedCorrLocalWhites2012 | 0.000000 |
CircGradBasedCorrLuminanceNoise | 0.000000 |
CircGradBasedCorrMaskAngle (1) | -2.705860 |
CircGradBasedCorrMaskAngle | -0.089341 |
CircGradBasedCorrMaskBottom (1) | 0.923300 |
CircGradBasedCorrMaskBottom | 0.545658 |
CircGradBasedCorrMaskFeather | +100 |
CircGradBasedCorrMaskFlipped | true |
CircGradBasedCorrMaskLeft (1) | -0.357151 |
CircGradBasedCorrMaskLeft | 0.940183 |
CircGradBasedCorrMaskMidpoint | +50 |
CircGradBasedCorrMaskRight (1) | 0.915322 |
CircGradBasedCorrMaskRight | 0.940672 |
CircGradBasedCorrMaskRoundness | 0 |
CircGradBasedCorrMaskTop (1) | 0.232052 |
CircGradBasedCorrMaskTop | 0.530800 |
CircGradBasedCorrMaskValue | 1.000000 |
CircGradBasedCorrMaskVersion | +2 |
CircGradBasedCorrMaskWhat | Mask/CircularGradient |
CircGradBasedCorrMoire | 0.000000 |
CircGradBasedCorrSaturation | 0.000000 |
CircGradBasedCorrShadows2012 | 0.000000 |
CircGradBasedCorrSharpness | 0.000000 |
CircGradBasedCorrTemperature | 0.000000 |
CircGradBasedCorrTint | 0.000000 |
CircGradBasedCorrWhat | Correction |
CircleOfConfusion | 0.011 mm |
Clarity2012 | +32 |
ColorComponents | 3 |
ColorNoiseReduction | 25 |
ColorNoiseReductionDetail | 50 |
ColorNoiseReductionSmoothness | 50 |
ColorSpace | sRGB |
ColorTemperature | 5779 |
ColorTransform | YCbCr |
Contrast2012 | +26 |
ConvertToGrayscale | True |
Copyright | Frode Reier-Nilsen |
CopyrightFlag | True |
CopyrightNotice | Frode Reier-Nilsen |
CreateDate (1) | 2018:03:17 16:46:50.00 |
CreateDate | 2018:03:17 16:46:50 |
Creator | Frode Reier-Nilsen |
CreatorTool | Adobe Photoshop Lightroom 6.12 (Macintosh) |
CropAngle | 0.094073 |
CropBottom | 1 |
CropConstrainToWarp | 0 |
CropLeft | 0.001775 |
CropRight | 0.998225 |
CropTop | 0 |
CustomRendered | Normal |
DateCreated (1) | 2018:03:17 |
DateCreated | 2018:03:17 16:46:50.00 |
DateTimeOriginal | 2018:03:17 16:46:50 |
Dehaze | 0 |
DistortionCorrectionAlreadyApplied | True |
DOF | inf (11.98 m - inf) |
Exposure2012 | -0.10 |
ExposureCompensation | 0 |
ExposureMode | Manual |
ExposureProgram | Manual |
ExposureTime | 1/640 |
Firmware | 1.2.3 |
Flash | Off, Did not fire |
FlashCompensation | 0 |
FNumber | 8.0 |
FocalLength | 32.0 mm |
FocalLength35efl | 32.0 mm (35 mm equivalent: 90.0 mm) |
Format | image/jpeg |
FOV | 22.6 deg |
GradientBasedCorrActive | true |
GradientBasedCorrAmount | 1.000000 |
GradientBasedCorrBrightness | 0.000000 |
GradientBasedCorrClarity2012 (1) | 0.128078 |
GradientBasedCorrClarity2012 | 0.000000 |
GradientBasedCorrContrast2012 | 0.000000 |
GradientBasedCorrDefringe | 0.000000 |
GradientBasedCorrExposure2012 (1) | -0.044981 |
GradientBasedCorrExposure2012 | 0.123580 |
GradientBasedCorrHighlights2012 (1) | 0.373580 |
GradientBasedCorrHighlights2012 | -0.153567 |
GradientBasedCorrHue | 240.000000 |
GradientBasedCorrLocalBlacks2012 | 0.000000 |
GradientBasedCorrLocalDehaze | 0.000000 |
GradientBasedCorrLocalWhites2012 | 0.000000 |
GradientBasedCorrLuminanceNoise (1) | 0.507181 |
GradientBasedCorrLuminanceNoise | 0.000000 |
GradientBasedCorrMaskFullX (1) | 0.497966 |
GradientBasedCorrMaskFullX | 0.461795 |
GradientBasedCorrMaskFullY (1) | 0.288888 |
GradientBasedCorrMaskFullY | 0.612986 |
GradientBasedCorrMaskValue | 1.000000 |
GradientBasedCorrMaskWhat | Mask/Gradient |
GradientBasedCorrMaskZeroX (1) | 0.501744 |
GradientBasedCorrMaskZeroX | 0.458402 |
GradientBasedCorrMaskZeroY (1) | 0.414835 |
GradientBasedCorrMaskZeroY | 0.494823 |
GradientBasedCorrMoire | 0.000000 |
GradientBasedCorrSaturation | 0.000000 |
GradientBasedCorrShadows2012 (1) | 0.000000 |
GradientBasedCorrShadows2012 | 0.404672 |
GradientBasedCorrSharpness | 0.000000 |
GradientBasedCorrTemperature | 0.000000 |
GradientBasedCorrTint | 0.000000 |
GradientBasedCorrWhat | Correction |
GrainAmount | 0 |
GrayMixerAqua | -20 |
GrayMixerBlue | -30 |
GrayMixerGreen | -25 |
GrayMixerMagenta | +4 |
GrayMixerOrange | -16 |
GrayMixerPurple | +12 |
GrayMixerRed | -8 |
GrayMixerYellow | -20 |
GreenHue | 0 |
GreenSaturation | 0 |
HasCrop | True |
HasExtendedXMP | 410DEFF89EFB660D92A1E475A2CC1D8C |
HasSettings | True |
Highlights2012 | -4 |
HyperfocalDistance | 11.98 m |
ImageHeight | 1365 |
ImageNumber | 0 |
ImageSize | 2048x1365 |
ImageWidth | 2048 |
ISO | 100 |
LateralChromaticAberrationCorrectionAlreadyApplied | True |
Lens | EF17-40mm f/4L USM |
LensID (1) | 231 |
LensID | Canon EF 17-40mm f/4L USM |
LensInfo | 17-40mm f/? |
LensManualDistortionAmount | 0 |
LensModel | EF17-40mm f/4L USM |
LensProfileChromaticAberrationScale | 100 |
LensProfileDistortionScale | 100 |
LensProfileEnable | 1 |
LensProfileFilename | Canon EOS-1Ds Mark III (Canon EF 17-40mm f4 L USM) - RAW.lcp |
LensProfileName | Adobe (Canon EF 17-40mm f/4 L USM) |
LensProfileSetup | LensDefaults |
LensProfileVignettingScale | 100 |
LensSerialNumber | 0000000000 |
LightValue | 15.3 |
LuminanceNoiseReductionContrast | 0 |
LuminanceNoiseReductionDetail | 50 |
LuminanceSmoothing | 40 |
Make | Canon |
Marked | True |
MaxApertureValue | 4.0 |
Megapixels | 2.8 |
MeteringMode | Multi-segment |
Model | Canon EOS 5D Mark III |
ModifyDate (1) | 2018:08:14 22:10:25+02:00 |
ModifyDate | 2018:08:14 22:10:25 |
PaintCorrectionActive | true |
PaintCorrectionAmount | 1.000000 |
PaintCorrectionBrightness | 0.000000 |
PaintCorrectionClarity2012 | 0.000000 |
PaintCorrectionContrast2012 | 0.000000 |
PaintCorrectionDefringe | 0.000000 |
PaintCorrectionExposure2012 | 0.051136 |
PaintCorrectionHighlights2012 | 0.000000 |
PaintCorrectionHue | 240.000000 |
PaintCorrectionLocalBlacks2012 | 0.000000 |
PaintCorrectionLocalDehaze | 0.000000 |
PaintCorrectionLocalWhites2012 | 0.000000 |
PaintCorrectionLuminanceNoise | 0.000000 |
PaintCorrectionMaskCenterWeight | 0.052228 |
PaintCorrectionMaskFlow | 1.000000 |
PaintCorrectionMaskRadius (1) | 0.023912 |
PaintCorrectionMaskRadius (10) | 0.012360 |
PaintCorrectionMaskRadius (11) | 0.012394 |
PaintCorrectionMaskRadius (13) | 0.012367 |
PaintCorrectionMaskRadius (16) | 0.012347 |
PaintCorrectionMaskRadius (17) | 0.012354 |
PaintCorrectionMaskRadius (18) | 0.012351 |
PaintCorrectionMaskRadius (19) | 0.012350 |
PaintCorrectionMaskRadius (21) | 0.012371 |
PaintCorrectionMaskRadius (22) | 0.047453 |
PaintCorrectionMaskRadius (25) | 0.012349 |
PaintCorrectionMaskRadius (28) | 0.006879 |
PaintCorrectionMaskRadius (31) | 0.002024 |
PaintCorrectionMaskRadius (32) | 0.006934 |
PaintCorrectionMaskRadius (33) | 0.006922 |
PaintCorrectionMaskRadius (35) | 0.006865 |
PaintCorrectionMaskRadius (36) | 0.006872 |
PaintCorrectionMaskRadius (37) | 0.006880 |
PaintCorrectionMaskRadius (38) | 0.006870 |
PaintCorrectionMaskRadius (4) | 0.012372 |
PaintCorrectionMaskRadius (41) | 0.006867 |
PaintCorrectionMaskRadius (42) | 0.017945 |
PaintCorrectionMaskRadius (43) | 0.012361 |
PaintCorrectionMaskRadius (44) | 0.012383 |
PaintCorrectionMaskRadius (45) | 0.012409 |
PaintCorrectionMaskRadius (46) | 0.012362 |
PaintCorrectionMaskRadius (5) | 0.012366 |
PaintCorrectionMaskRadius (50) | 0.012343 |
PaintCorrectionMaskRadius (51) | 0.012408 |
PaintCorrectionMaskRadius (52) | 0.012348 |
PaintCorrectionMaskRadius (55) | 0.012342 |
PaintCorrectionMaskRadius (57) | 0.012341 |
PaintCorrectionMaskRadius (59) | 0.012345 |
PaintCorrectionMaskRadius (6) | 0.012344 |
PaintCorrectionMaskRadius (60) | 0.012352 |
PaintCorrectionMaskRadius (64) | 0.006885 |
PaintCorrectionMaskRadius (65) | 0.006871 |
PaintCorrectionMaskRadius (69) | 0.006863 |
PaintCorrectionMaskRadius (71) | 0.006947 |
PaintCorrectionMaskRadius (73) | 0.006945 |
PaintCorrectionMaskRadius (74) | 0.006907 |
PaintCorrectionMaskRadius (75) | 0.006892 |
PaintCorrectionMaskRadius (76) | 0.006946 |
PaintCorrectionMaskRadius (77) | 0.006933 |
PaintCorrectionMaskRadius (78) | 0.006932 |
PaintCorrectionMaskRadius (79) | 0.006925 |
PaintCorrectionMaskRadius (8) | 0.012459 |
PaintCorrectionMaskRadius (81) | 0.006873 |
PaintCorrectionMaskRadius (83) | 0.006874 |
PaintCorrectionMaskRadius (85) | 0.006890 |
PaintCorrectionMaskRadius (86) | 0.006893 |
PaintCorrectionMaskRadius (87) | 0.006902 |
PaintCorrectionMaskRadius (88) | 0.006910 |
PaintCorrectionMaskRadius (89) | 0.006918 |
PaintCorrectionMaskRadius (9) | 0.012377 |
PaintCorrectionMaskRadius (90) | 0.006868 |
PaintCorrectionMaskRadius | 0.006864 |
PaintCorrectionMaskValue | 1.000000 |
PaintCorrectionMaskWhat | Mask/Paint |
PaintCorrectionMoire | 0.000000 |
PaintCorrectionSaturation | 0.000000 |
PaintCorrectionShadows2012 | 0.000000 |
PaintCorrectionSharpness | 0.000000 |
PaintCorrectionTemperature | 0.000000 |
PaintCorrectionTint | 0.000000 |
PaintCorrectionWhat | Correction |
ParametricDarks | 0 |
ParametricHighlights | 0 |
ParametricHighlightSplit | 75 |
ParametricLights | 0 |
ParametricMidtoneSplit | 50 |
ParametricShadows | 0 |
ParametricShadowSplit | 25 |
PerspectiveAspect | 0 |
PerspectiveHorizontal | 0 |
PerspectiveRotate | 0.0 |
PerspectiveScale | 100 |
PerspectiveUpright | 0 |
PerspectiveVertical | 0 |
PerspectiveX | 0.00 |
PerspectiveY | 0.00 |
PostCropVignetteAmount | 0 |
ProcessVersion | 6.7 |
ProfileDescription | sRGB IEC61966-2.1 |
RecommendedExposureIndex | 100 |
RedHue | 0 |
RedSaturation | 0 |
Rights | Frode Reier-Nilsen |
ScaleFactor35efl | 2.8 |
SceneCaptureType | Standard |
SensitivityType | Recommended Exposure Index |
SerialNumber | 203020003756 |
Shadows2012 | +100 |
ShadowTint | 0 |
SharpenDetail | 35 |
SharpenEdgeMasking | 58 |
SharpenRadius | +0.8 |
Sharpness | 59 |
ShutterSpeed | 1/640 |
ShutterSpeedValue | 1/640 |
Software | Adobe Photoshop Lightroom 6.12 (Macintosh) |
SplitToningBalance | 0 |
SplitToningHighlightHue | 0 |
SplitToningHighlightSaturation | 0 |
SplitToningShadowHue | 0 |
SplitToningShadowSaturation | 0 |
Tint | +20 |
ToneCurve | 0, 0, 255, 255 |
ToneCurveBlue | 0, 0, 255, 255 |
ToneCurveGreen | 0, 0, 255, 255 |
ToneCurveName | Linear |
ToneCurveName2012 | Linear |
ToneCurvePV2012 | 0, 0, 255, 255 |
ToneCurvePV2012Blue | 0, 0, 255, 255 |
ToneCurvePV2012Green | 0, 0, 255, 255 |
ToneCurvePV2012Red | 0, 0, 255, 255 |
ToneCurveRed | 0, 0, 255, 255 |
ToneMapStrength | 0 |
Version | 9.12 |
VignetteAmount | 0 |
VignetteCorrectionAlreadyApplied | True |
WhiteBalance (1) | Custom |
WhiteBalance | Manual |
Whites2012 | +61 |