Felt | Verdi |
AlreadyApplied | True |
Aperture | 4.0 |
ApertureValue | 4.0 |
ApproximateFocusDistance | 0.84 |
AutoLateralCA | 0 |
BitsPerSample | 8 |
Blacks2012 | -31 |
BlueHue | 0 |
BlueSaturation | 0 |
CameraProfile | Adobe Standard |
CFAPattern | [Red,Green][Green,Blue] |
CircleOfConfusion | 0.030 mm |
Clarity2012 | +20 |
ColorComponents | 3 |
ColorNoiseReduction | 25 |
ColorNoiseReductionDetail | 50 |
ColorNoiseReductionSmoothness | 50 |
ColorSpace | sRGB |
ColorTemperature | 4950 |
ColorTransform | YCbCr |
Contrast | Normal |
Contrast2012 | -28 |
ConvertToGrayscale | False |
CreateDate (1) | 2018:09:01 11:20:30.38 |
CreateDate | 2018:09:01 11:20:30 |
CreatorTool | Adobe Lightroom CC 1.5 (Windows) |
CropAngle | 27.83 |
CropBottom | 0.731954 |
CropConstrainToWarp | 0 |
CropLeft | 0.374685 |
CropRight | 0.558256 |
CropTop | 0.224389 |
CustomRendered | Normal |
DateCreated (1) | 2018:09:01 |
DateCreated | 2018:09:01 11:20:30.38 |
DateTimeOriginal | 2018:09:01 11:20:30 |
DefringeGreenAmount | 0 |
DefringeGreenHueHi | 60 |
DefringeGreenHueLo | 40 |
DefringePurpleAmount | 0 |
DefringePurpleHueHi | 70 |
DefringePurpleHueLo | 30 |
Dehaze | +15 |
DOF | 0.29 m (0.72 - 1.01 m) |
Exposure2012 | -0.17 |
ExposureCompensation | 0 |
ExposureMode | Auto |
ExposureProgram | Program AE |
ExposureTime | 1/25 |
Flash | No Flash |
FNumber | 4.0 |
FocalLength | 24.0 mm |
FocalLength35efl | 24.0 mm (35 mm equivalent: 24.0 mm) |
FocalLengthIn35mmFormat | 24 mm |
Format | image/jpeg |
FOV | 73.7 deg |
GainControl | None |
GrainAmount | 0 |
GreenHue | 0 |
GreenSaturation | 0 |
HasCrop | True |
HasExtendedXMP | 319430E699C1B95A6C5AFDC7E9BEA4A0 |
HasSettings | True |
Highlights2012 | -75 |
HueAdjustmentAqua | 0 |
HueAdjustmentBlue | 0 |
HueAdjustmentGreen | 0 |
HueAdjustmentMagenta | 0 |
HueAdjustmentOrange | 0 |
HueAdjustmentPurple | 0 |
HueAdjustmentRed | 0 |
HueAdjustmentYellow | 0 |
HyperfocalDistance | 4.79 m |
ImageHeight | 1763 |
ImageNumber | 11867 |
ImageSize | 2644x1763 |
ImageWidth | 2644 |
ISO | 180 |
Lens | 24.0-120.0 mm f/4.0 |
LensID (1) | 170 |
LensID | AF-S Nikkor 24-120mm f/4G ED VR |
LensInfo | 24-120mm f/4 |
LensManualDistortionAmount | 0 |
LensModel | 24.0-120.0 mm f/4.0 |
LensProfileEnable | 0 |
LensProfileSetup | LensDefaults |
LightSource | Unknown |
LightValue | 7.8 |
LookAmount | 1.000000 |
LookGroup | Profiles |
LookName | Adobe Color |
LookParametersCameraProfile | Adobe Standard |
LookParametersConvertToGrayscale | False |
LookParametersLookTable | E1095149FDB39D7A057BAB208837E2E1 |
LookParametersProcessVersion | 10.0 |
LookParametersToneCurvePV2012 | 0, 0, 22, 16, 40, 35, 127, 127, 224, 230, 240, 246, 255, 255 |
LookParametersToneCurvePV2012Blue | 0, 0, 255, 255 |
LookParametersToneCurvePV2012Green | 0, 0, 255, 255 |
LookParametersToneCurvePV2012Red | 0, 0, 255, 255 |
LookParametersVersion | 10.5 |
LookSupportsAmount | false |
LookSupportsMonochrome | false |
LookSupportsOutputReferred | false |
LuminanceAdjustmentAqua | 0 |
LuminanceAdjustmentBlue | 0 |
LuminanceAdjustmentGreen | 0 |
LuminanceAdjustmentMagenta | 0 |
LuminanceAdjustmentOrange | 0 |
LuminanceAdjustmentPurple | 0 |
LuminanceAdjustmentRed | 0 |
LuminanceAdjustmentYellow | 0 |
LuminanceSmoothing | 0 |
Make | NIKON CORPORATION |
MaxApertureValue | 4.0 |
Megapixels | 4.7 |
MeteringMode | Multi-segment |
Model | NIKON D850 |
ModifyDate (1) | 2018:09:03 23:33:39+02:00 |
ModifyDate | 2018:09:03 23:33:39 |
OverrideLookVignette | False |
PaintCorrectionActive | true |
PaintCorrectionAmount | 1.000000 |
PaintCorrectionBrightness | 0.000000 |
PaintCorrectionClarity2012 | 0.000000 |
PaintCorrectionContrast2012 | 0.000000 |
PaintCorrectionCorrectionRangeMaskColorAmount | 0.500000 |
PaintCorrectionCorrectionRangeMaskLumFeather | 0.500000 |
PaintCorrectionCorrectionRangeMaskLumMax | 1.000000 |
PaintCorrectionCorrectionRangeMaskLumMin | 0.000000 |
PaintCorrectionCorrectionRangeMaskType | 0 |
PaintCorrectionCorrectionRangeMaskVersion | +2 |
PaintCorrectionDefringe | 0.000000 |
PaintCorrectionExposure2012 | 0.000000 |
PaintCorrectionHighlights2012 | 0.000000 |
PaintCorrectionHue | 0.000000 |
PaintCorrectionLocalBlacks2012 (4) | -1.000000 |
PaintCorrectionLocalBlacks2012 | 0.000000 |
PaintCorrectionLocalDehaze | 0.000000 |
PaintCorrectionLocalWhites2012 | 0.000000 |
PaintCorrectionLuminanceNoise | 0.000000 |
PaintCorrectionMaskCenterWeight | 0.000000 |
PaintCorrectionMaskFlow | 0.500000 |
PaintCorrectionMaskRadius (1) | 0.013013 |
PaintCorrectionMaskRadius (2) | 0.032876 |
PaintCorrectionMaskRadius (3) | 0.024465 |
PaintCorrectionMaskRadius | 0.016286 |
PaintCorrectionMaskValue | 1.000000 |
PaintCorrectionMaskWhat | Mask/Paint |
PaintCorrectionMoire | 0.000000 |
PaintCorrectionSaturation | 0.000000 |
PaintCorrectionShadows2012 (4) | -0.921951 |
PaintCorrectionShadows2012 | 0.000000 |
PaintCorrectionSharpness | 1.000000 |
PaintCorrectionTemperature | 0.000000 |
PaintCorrectionTint | 0.000000 |
PaintCorrectionWhat | Correction |
ParametricDarks | 0 |
ParametricHighlights | 0 |
ParametricHighlightSplit | 75 |
ParametricLights | 0 |
ParametricMidtoneSplit | 50 |
ParametricShadows | 0 |
ParametricShadowSplit | 25 |
PerspectiveAspect | 0 |
PerspectiveHorizontal | 0 |
PerspectiveRotate | 0.0 |
PerspectiveScale | 100 |
PerspectiveUpright | 0 |
PerspectiveVertical | 0 |
PerspectiveX | 0.00 |
PerspectiveY | 0.00 |
PostCropVignetteAmount | -19 |
PostCropVignetteFeather | 50 |
PostCropVignetteHighlightContrast | 0 |
PostCropVignetteMidpoint | 50 |
PostCropVignetteRoundness | 0 |
PostCropVignetteStyle | 1 |
ProcessVersion | 10.0 |
ProfileDescription | sRGB IEC61966-2.1 |
RawFileName | _DSC0802.NEF |
RecommendedExposureIndex | 180 |
RedHue | 0 |
RedSaturation | 0 |
Saturation (1) | -1 |
Saturation | Normal |
SaturationAdjustmentAqua | 0 |
SaturationAdjustmentBlue | 0 |
SaturationAdjustmentGreen | 0 |
SaturationAdjustmentMagenta | 0 |
SaturationAdjustmentOrange | 0 |
SaturationAdjustmentPurple | 0 |
SaturationAdjustmentRed | 0 |
SaturationAdjustmentYellow | 0 |
ScaleFactor35efl | 1.0 |
SceneCaptureType | Standard |
SceneType | Directly photographed |
SensingMethod | One-chip color area |
SensitivityType | Recommended Exposure Index |
SerialNumber | 6025955 |
Shadows2012 | +45 |
ShadowTint | 0 |
SharpenDetail | 25 |
SharpenEdgeMasking | 0 |
SharpenRadius | +1.0 |
Sharpness (1) | 40 |
Sharpness | Normal |
ShutterSpeed | 1/25 |
ShutterSpeedValue | 1/25 |
Software | Adobe Lightroom CC 1.5 (Windows) |
SplitToningBalance | 0 |
SplitToningHighlightHue | 0 |
SplitToningHighlightSaturation | 0 |
SplitToningShadowHue | 0 |
SplitToningShadowSaturation | 0 |
SubjectDistanceRange | Unknown |
Tint | +16 |
ToneCurve | 0, 0, 255, 255 |
ToneCurveBlue | 0, 0, 255, 255 |
ToneCurveGreen | 0, 0, 255, 255 |
ToneCurveName | Linear |
ToneCurveName2012 | Linear |
ToneCurvePV2012 | 0, 0, 255, 255 |
ToneCurvePV2012Blue | 0, 0, 255, 255 |
ToneCurvePV2012Green | 0, 0, 255, 255 |
ToneCurvePV2012Red | 0, 0, 255, 255 |
ToneCurveRed | 0, 0, 255, 255 |
ToneMapStrength | 0 |
Version | 10.5 |
Vibrance | +14 |
VignetteAmount | 0 |
WhiteBalance (1) | As Shot |
WhiteBalance | Auto |
Whites2012 | +19 |