Felt | Verdi |
AlreadyApplied | True |
Aperture | 11.0 |
ApertureValue | 11.0 |
ApproximateFocusDistance | 4294967295 |
Artist | Andre Garcia Bonotto |
AutoLateralCA | 1 |
AutoWhiteVersion | 134348800 |
BitsPerSample | 8 |
Blacks2012 | +50 |
BlueHue | 0 |
BlueSaturation | 0 |
By-line | Andre Garcia Bonotto |
CameraProfile | Adobe Standard |
CFAPattern | [Red,Green][Green,Blue] |
CircleOfConfusion | 0.030 mm |
Clarity2012 | +13 |
ColorComponents | 3 |
ColorNoiseReduction | 25 |
ColorNoiseReductionDetail | 50 |
ColorNoiseReductionSmoothness | 50 |
ColorSpace | sRGB |
ColorTemperature | 3705 |
ColorTransform | YCbCr |
Contrast | Normal |
Contrast2012 | -4 |
ConvertToGrayscale | True |
Copyright | Andre Garcia Bonotto |
CopyrightNotice | Andre Garcia Bonotto |
CreateDate (1) | 2018:08:29 20:51:39.30 |
CreateDate | 2018:08:29 20:51:39 |
Creator | Andre Garcia Bonotto |
CreatorTool | Adobe Photoshop Lightroom 6.8 (Windows) |
CropAngle | 0.197177 |
CropBottom | 0.937878 |
CropConstrainToWarp | 0 |
CropLeft | 0.082775 |
CropRight | 0.96545 |
CropTop | 0.048602 |
CustomRendered | Normal |
DateCreated (1) | 2018:08:29 |
DateCreated | 2018:08:29 20:51:39.30 |
DateTimeOriginal | 2018:08:29 20:51:39 |
Dehaze | 0 |
DigitalZoomRatio | 1 |
DOF | inf (19.36 m - inf) |
Exposure2012 | +1.20 |
ExposureCompensation | -5 |
ExposureMode | Manual |
ExposureProgram | Manual |
ExposureTime | 391 |
Flash | No Flash |
FNumber | 11.0 |
FocalLength | 80.0 mm |
FocalLength35efl | 80.0 mm (35 mm equivalent: 80.0 mm) |
FocalLengthIn35mmFormat | 80 mm |
Format | image/jpeg |
FOV | 25.4 deg |
GainControl | None |
GradientBasedCorrActive | true |
GradientBasedCorrAmount | 1.000000 |
GradientBasedCorrBrightness | 0.000000 |
GradientBasedCorrClarity2012 | 0.000000 |
GradientBasedCorrContrast2012 (1) | 0.000000 |
GradientBasedCorrContrast2012 | 0.591000 |
GradientBasedCorrDefringe | 0.000000 |
GradientBasedCorrExposure2012 (1) | -0.621000 |
GradientBasedCorrExposure2012 (2) | -0.212000 |
GradientBasedCorrExposure2012 (3) | -0.015000 |
GradientBasedCorrExposure2012 (4) | 0.348000 |
GradientBasedCorrExposure2012 | 0.000000 |
GradientBasedCorrHighlights2012 | 0.000000 |
GradientBasedCorrHue | 240.000000 |
GradientBasedCorrLocalBlacks2012 | 0.000000 |
GradientBasedCorrLocalDehaze | 0.000000 |
GradientBasedCorrLocalWhites2012 (4) | -1.000000 |
GradientBasedCorrLocalWhites2012 | 0.000000 |
GradientBasedCorrLuminanceNoise | 0.000000 |
GradientBasedCorrMaskFullX (1) | 0.199034 |
GradientBasedCorrMaskFullX (2) | 0.697574 |
GradientBasedCorrMaskFullX (3) | 0.323951 |
GradientBasedCorrMaskFullX (4) | 0.666266 |
GradientBasedCorrMaskFullX (5) | 0.642007 |
GradientBasedCorrMaskFullX | 0.800078 |
GradientBasedCorrMaskFullY (1) | 0.038613 |
GradientBasedCorrMaskFullY (2) | 0.993415 |
GradientBasedCorrMaskFullY (3) | 0.261136 |
GradientBasedCorrMaskFullY (4) | 0.893058 |
GradientBasedCorrMaskFullY (5) | 0.905982 |
GradientBasedCorrMaskFullY | 1.000580 |
GradientBasedCorrMaskValue | 1.000000 |
GradientBasedCorrMaskWhat | Mask/Gradient |
GradientBasedCorrMaskZeroX (1) | 0.283895 |
GradientBasedCorrMaskZeroX (2) | 0.594046 |
GradientBasedCorrMaskZeroX (3) | 0.472965 |
GradientBasedCorrMaskZeroX (4) | 0.566558 |
GradientBasedCorrMaskZeroX (5) | 0.521480 |
GradientBasedCorrMaskZeroX | 0.682135 |
GradientBasedCorrMaskZeroY (1) | 0.746030 |
GradientBasedCorrMaskZeroY (2) | 0.445904 |
GradientBasedCorrMaskZeroY (3) | 1.052960 |
GradientBasedCorrMaskZeroY (4) | 0.344869 |
GradientBasedCorrMaskZeroY (5) | 0.440104 |
GradientBasedCorrMaskZeroY | 0.515137 |
GradientBasedCorrMoire | 0.000000 |
GradientBasedCorrSaturation | 0.000000 |
GradientBasedCorrShadows2012 | 0.000000 |
GradientBasedCorrSharpness | 0.000000 |
GradientBasedCorrTemperature | 0.000000 |
GradientBasedCorrTint | 0.000000 |
GradientBasedCorrWhat | Correction |
GrainAmount | 0 |
GrayMixerAqua | -14 |
GrayMixerBlue | +19 |
GrayMixerGreen | -29 |
GrayMixerMagenta | +5 |
GrayMixerOrange | -22 |
GrayMixerPurple | +22 |
GrayMixerRed | -12 |
GrayMixerYellow | -27 |
GreenHue | 0 |
GreenSaturation | 0 |
HasCrop | True |
HasSettings | True |
Highlights2012 | -100 |
HyperfocalDistance | 19.36 m |
ImageHeight | 2902 |
ImageNumber | 95189 |
ImageSize | 4360x2902 |
ImageWidth | 4360 |
ISO | 71 |
Lens | 70.0-200.0 mm f/2.8 |
LensID (1) | 119 |
LensID | AF-S VR Zoom-Nikkor 70-200mm f/2.8G IF-ED |
LensInfo | 70-200mm f/2.8 |
LensManualDistortionAmount | 0 |
LensModel | 70.0-200.0 mm f/2.8 |
LensProfileChromaticAberrationScale | 100 |
LensProfileDistortionScale | 100 |
LensProfileEnable | 1 |
LensProfileFilename | NIKON D3X (Nikon FX 70-200mm f2.8 G IF ED) - RAW.lcp |
LensProfileName | Adobe (Nikon AF-S VR Zoom-Nikkor 70-200mm f/2.8G IF-ED) |
LensProfileSetup | LensDefaults |
LensProfileVignettingScale | 100 |
LightSource | Fine Weather |
LightValue | -1.2 |
LuminanceSmoothing | 0 |
Make | NIKON CORPORATION |
MaxApertureValue | 2.8 |
Megapixels | 12.7 |
MeteringMode | Multi-segment |
Model | NIKON D4 |
ModifyDate (1) | 2018:08:29 22:33:28+02:00 |
ModifyDate | 2018:08:29 22:33:28 |
PaintCorrectionActive | true |
PaintCorrectionAmount | 1.000000 |
PaintCorrectionBrightness | 0.000000 |
PaintCorrectionClarity2012 | 0.000000 |
PaintCorrectionContrast2012 (2) | 0.000000 |
PaintCorrectionContrast2012 | -1.000000 |
PaintCorrectionDefringe | 0.000000 |
PaintCorrectionExposure2012 (1) | 1.000000 |
PaintCorrectionExposure2012 (2) | -0.106000 |
PaintCorrectionExposure2012 (3) | 0.424000 |
PaintCorrectionExposure2012 | 0.000000 |
PaintCorrectionHighlights2012 | 0.000000 |
PaintCorrectionHue | 240.000000 |
PaintCorrectionLocalBlacks2012 | 0.000000 |
PaintCorrectionLocalDehaze | 0.000000 |
PaintCorrectionLocalWhites2012 | 0.000000 |
PaintCorrectionLuminanceNoise | 0.000000 |
PaintCorrectionMaskCenterWeight | 0.243463 |
PaintCorrectionMaskFlow | 0.323000 |
PaintCorrectionMaskRadius (1) | 0.090861 |
PaintCorrectionMaskRadius (10) | 0.058407 |
PaintCorrectionMaskRadius (11) | 0.058455 |
PaintCorrectionMaskRadius (12) | 0.058742 |
PaintCorrectionMaskRadius (13) | 0.058458 |
PaintCorrectionMaskRadius (14) | 0.058414 |
PaintCorrectionMaskRadius (15) | 0.058424 |
PaintCorrectionMaskRadius (16) | 0.058450 |
PaintCorrectionMaskRadius (17) | 0.058492 |
PaintCorrectionMaskRadius (18) | 0.058756 |
PaintCorrectionMaskRadius (19) | 0.015421 |
PaintCorrectionMaskRadius (2) | 0.032580 |
PaintCorrectionMaskRadius (7) | 0.058760 |
PaintCorrectionMaskRadius (8) | 0.058757 |
PaintCorrectionMaskRadius (9) | 0.112401 |
PaintCorrectionMaskRadius | 0.112388 |
PaintCorrectionMaskValue | 0.360000 |
PaintCorrectionMaskWhat | Mask/Paint |
PaintCorrectionMoire | 0.000000 |
PaintCorrectionSaturation | 0.000000 |
PaintCorrectionShadows2012 | 0.000000 |
PaintCorrectionSharpness | 0.000000 |
PaintCorrectionTemperature | 0.000000 |
PaintCorrectionTint | 0.000000 |
PaintCorrectionWhat | Correction |
ParametricDarks | -36 |
ParametricHighlights | 0 |
ParametricHighlightSplit | 75 |
ParametricLights | +23 |
ParametricMidtoneSplit | 50 |
ParametricShadows | +60 |
ParametricShadowSplit | 25 |
PerspectiveAspect | 0 |
PerspectiveHorizontal | 0 |
PerspectiveRotate | 0.0 |
PerspectiveScale | 100 |
PerspectiveUpright | 0 |
PerspectiveVertical | 0 |
PerspectiveX | 0.00 |
PerspectiveY | 0.00 |
PostCropVignetteAmount | -7 |
PostCropVignetteFeather | 50 |
PostCropVignetteHighlightContrast | 0 |
PostCropVignetteMidpoint | 50 |
PostCropVignetteRoundness | 0 |
PostCropVignetteStyle | 1 |
ProcessVersion | 6.7 |
ProfileDescription | sRGB IEC61966-2.1 |
RedHue | 0 |
RedSaturation | 0 |
Rights | Andre Garcia Bonotto |
Saturation | Normal |
ScaleFactor35efl | 1.0 |
SceneCaptureType | Standard |
SceneType | Directly photographed |
SensingMethod | One-chip color area |
SensitivityType | Recommended Exposure Index |
SerialNumber | 2040241 |
Shadows2012 | +16 |
ShadowTint | 0 |
SharpenDetail | 25 |
SharpenEdgeMasking | 0 |
SharpenRadius | +0.5 |
Sharpness (1) | 8 |
Sharpness | Normal |
ShutterSpeed | 391 |
ShutterSpeedValue | 391 |
Software | Adobe Photoshop Lightroom 6.8 (Windows) |
SplitToningBalance | 0 |
SplitToningHighlightHue | 0 |
SplitToningHighlightSaturation | 0 |
SplitToningShadowHue | 0 |
SplitToningShadowSaturation | 0 |
SubjectDistanceRange | Unknown |
Tint | 0 |
ToneCurve | 0, 0, 255, 255 |
ToneCurveBlue | 0, 0, 255, 255 |
ToneCurveGreen | 0, 0, 255, 255 |
ToneCurveName | Linear |
ToneCurveName2012 | Linear |
ToneCurvePV2012 | 0, 0, 255, 255 |
ToneCurvePV2012Blue | 0, 0, 255, 255 |
ToneCurvePV2012Green | 0, 0, 255, 255 |
ToneCurvePV2012Red | 0, 0, 255, 255 |
ToneCurveRed | 0, 0, 255, 255 |
ToneMapStrength | 0 |
Version | 9.8 |
VignetteAmount | 0 |
WhiteBalance (1) | Custom |
WhiteBalance | Manual |
Whites2012 | +38 |