Felt | Verdi |
2018-10-27T10:17:40+02:00 Filen _B0018306-HDRDEC10FD9CE1B22D0946274163E74A899.psb er lagret
2018-10-27T11:13:41+02:00 Filen B0018306-HDR.tif er lagret
2018-11-03T10:24:58+01:00 Fil B0018306-HDR.tif åpnet
2018-11-03T10:33:16+01:00 Filen B0018306-HDR kopi.tif er lagret
2018-11-03T10:42:19+01:00 Fil B0018306-HDR kopi.tif åpnet
2018-11-03T10:42:48+01:00 Filen B0018306-HDR kopi kopi.jpg er lagret
AlreadyApplied | True |
Aperture | 4.8 |
ApertureValue | 4.8 |
ApproximateFocusDistance | 4294967295 |
AutoLateralCA | 0 |
BitsPerSample (1) | 8 8 8 |
BitsPerSample | 8 |
Blacks2012 | -3 |
BlueHue | 0 |
BlueSaturation | 0 |
CameraProfile | Camera Standard |
CircleOfConfusion | 0.038 mm |
Clarity2012 | 0 |
ColorComponents | 3 |
ColorMode | RGB |
ColorNoiseReduction | 25 |
ColorNoiseReductionDetail | 50 |
ColorNoiseReductionSmoothness | 50 |
ColorSpace | Uncalibrated |
ColorTemperature | 9200 |
ColorTransform | YCbCr |
Contrast2012 | -22 |
ConvertToGrayscale | False |
Copyright | Hasselblad X1D |
CopyrightNotice | Hasselblad X1D |
CreateDate | 2018:09:25 04:19:14.1 |
CreatorTool | Adobe Photoshop CC 2019 (Macintosh) |
CropAngle | 0 |
CropBottom | 0.998262 |
CropConstrainToWarp | 1 |
CropLeft | 0.001819 |
CropRight | 0.99818 |
CropTop | 0.001901 |
DateCreated (1) | 2018:09:25 |
DateCreated | 2018:09:25 04:19:14 |
DateTimeOriginal | 2018:09:25 04:19:14 |
DefringeGreenAmount | 0 |
DefringeGreenHueHi | 60 |
DefringeGreenHueLo | 40 |
DefringePurpleAmount | 0 |
DefringePurpleHueHi | 70 |
DefringePurpleHueLo | 30 |
Dehaze | 0 |
DOF | inf (3.16 m - inf) |
ExifImageHeight | 888 |
ExifImageWidth | 1366 |
Exposure2012 | +1.08 |
ExposureCompensation | -2 |
ExposureProgram | Aperture-priority AE |
ExposureTime | 0.3 |
FNumber | 4.8 |
FocalLength | 24.0 mm |
FocalLength35efl | 24.0 mm (35 mm equivalent: 19.0 mm) |
FocalLengthIn35mmFormat | 19 mm |
Format | image/jpeg |
FOV | 86.9 deg |
GrainAmount | 0 |
GreenHue | 0 |
GreenSaturation | 0 |
HasCrop | True |
HasSettings | True |
Highlights2012 | -89 |
HueAdjustmentAqua | 0 |
HueAdjustmentBlue | 0 |
HueAdjustmentGreen | 0 |
HueAdjustmentMagenta | 0 |
HueAdjustmentOrange | 0 |
HueAdjustmentPurple | 0 |
HueAdjustmentRed | 0 |
HueAdjustmentYellow | 0 |
HyperfocalDistance | 3.16 m |
ICCProfileName | Adobe RGB (1998) |
ImageHeight (1) | 7677 |
ImageHeight | 888 |
ImageSize | 1366x888 |
ImageWidth (1) | 11811 |
ImageWidth | 1366 |
IsMergedHDR | True |
ISO | 800 |
Lens | HCD 24 |
LensMake | Hasselblad |
LensManualDistortionAmount | 0 |
LensModel | HCD 24 |
LensProfileEnable | 0 |
LensProfileSetup | LensDefaults |
LightValue | 3.3 |
LuminanceAdjustmentAqua | 0 |
LuminanceAdjustmentBlue | 0 |
LuminanceAdjustmentGreen | 0 |
LuminanceAdjustmentMagenta | 0 |
LuminanceAdjustmentOrange | 0 |
LuminanceAdjustmentPurple | 0 |
LuminanceAdjustmentRed | 0 |
LuminanceAdjustmentYellow | 0 |
LuminanceSmoothing | 0 |
Make | Hasselblad |
Megapixels | 1.2 |
MeteringMode | Center-weighted average |
Model | Hasselblad X1D |
ModifyDate (1) | 2018:11:03 10:42:48+01:00 |
ModifyDate | 2018:11:03 10:42:48 |
Orientation | Horizontal (normal) |
OverrideLookVignette | False |
ParametricDarks | 0 |
ParametricHighlights | 0 |
ParametricHighlightSplit | 75 |
ParametricLights | 0 |
ParametricMidtoneSplit | 50 |
ParametricShadows | 0 |
ParametricShadowSplit | 25 |
PerspectiveAspect | 0 |
PerspectiveHorizontal | 0 |
PerspectiveRotate | 0.0 |
PerspectiveScale | 100 |
PerspectiveUpright | 0 |
PerspectiveVertical | 0 |
PerspectiveX | 0.00 |
PerspectiveY | 0.00 |
PhotometricInterpretation | RGB |
PlanarConfiguration | Chunky |
PostCropVignetteAmount | 0 |
ProcessVersion | 11.0 |
ProfileDescription | Adobe RGB (1998) |
Rating | 0 |
RawFileName | B0018306-HDR.dng |
RedHue | 0 |
RedSaturation | 0 |
Rights | Hasselblad X1D |
SamplesPerPixel | 3 |
Saturation | +4 |
SaturationAdjustmentAqua | 0 |
SaturationAdjustmentBlue | 0 |
SaturationAdjustmentGreen | 0 |
SaturationAdjustmentMagenta | 0 |
SaturationAdjustmentOrange | 0 |
SaturationAdjustmentPurple | 0 |
SaturationAdjustmentRed | 0 |
SaturationAdjustmentYellow | 0 |
ScaleFactor35efl | 0.8 |
Shadows2012 | +49 |
ShadowTint | 0 |
SharpenDetail | 25 |
SharpenEdgeMasking | 0 |
SharpenRadius | +1.0 |
Sharpness | 40 |
ShutterSpeed | 0.3 |
ShutterSpeedValue | 0.3 |
Software | Adobe Photoshop CC 2019 (Macintosh) |
SplitToningBalance | 0 |
SplitToningHighlightHue | 0 |
SplitToningHighlightSaturation | 0 |
SplitToningShadowHue | 0 |
SplitToningShadowSaturation | 0 |
SubjectDistance | 4294967295 m |
Tint | +11 |
ToneCurve | 0, 0, 255, 255 |
ToneCurveBlue | 0, 0, 255, 255 |
ToneCurveGreen | 0, 0, 255, 255 |
ToneCurveName | Linear |
ToneCurveName2012 | Linear |
ToneCurvePV2012 | 0, 0, 255, 255 |
ToneCurvePV2012Blue | 0, 0, 255, 255 |
ToneCurvePV2012Green | 0, 0, 255, 255 |
ToneCurvePV2012Red | 0, 0, 255, 255 |
ToneCurveRed | 0, 0, 255, 255 |
ToneMapStrength | 0 |
URL_List | |
Version | 11.0 |
Vibrance | +39 |
VignetteAmount | 0 |
WhiteBalance | Custom |
Whites2012 | -23 |