Felt | Verdi |
AlreadyApplied | True |
Aperture | 5.6 |
ApertureValue | 5.6 |
AutoLateralCA | 0 |
AutoWhiteVersion | 134348800 |
BitsPerSample | 16 16 16 |
BlackClip | 0.000000 |
Blacks2012 | -20 |
BlueHue | 0 |
BlueSaturation | 0 |
CameraProfile | Embedded |
Caption-Abstract | OLYMPUS DIGITAL CAMERA |
CFAPattern | [Red,Green][Green,Blue] |
CircGradBasedCorrActive | true |
CircGradBasedCorrAmount | 1.000000 |
CircGradBasedCorrBrightness | 0.000000 |
CircGradBasedCorrClarity2012 | 0.000000 |
CircGradBasedCorrContrast2012 | 0.000000 |
CircGradBasedCorrDefringe | 0.000000 |
CircGradBasedCorrExposure2012 | -0.077000 |
CircGradBasedCorrHighlights2012 | 0.000000 |
CircGradBasedCorrHue | 67.000000 |
CircGradBasedCorrLocalBlacks2012 | 0.000000 |
CircGradBasedCorrLocalWhites2012 | 0.000000 |
CircGradBasedCorrLuminanceNoise | 0.000000 |
CircGradBasedCorrMaskAngle | 0.000000 |
CircGradBasedCorrMaskBottom | 0.672629 |
CircGradBasedCorrMaskFeather | +50 |
CircGradBasedCorrMaskFlipped | true |
CircGradBasedCorrMaskLeft | -0.086622 |
CircGradBasedCorrMaskMidpoint | +50 |
CircGradBasedCorrMaskRight | 1.289140 |
CircGradBasedCorrMaskRoundness | 0 |
CircGradBasedCorrMaskTop | 0.407077 |
CircGradBasedCorrMaskValue | 1.000000 |
CircGradBasedCorrMaskVersion | +2 |
CircGradBasedCorrMaskWhat | Mask/CircularGradient |
CircGradBasedCorrMoire | 0.000000 |
CircGradBasedCorrSaturation | 0.000000 |
CircGradBasedCorrShadows2012 | 0.000000 |
CircGradBasedCorrSharpness | 0.000000 |
CircGradBasedCorrTemperature | 0.000000 |
CircGradBasedCorrTint | 0.000000 |
CircGradBasedCorrWhat | Correction |
Clarity2012 | +25 |
ColorNoiseReduction | 30 |
ColorNoiseReductionDetail | 50 |
ColorNoiseReductionSmoothness | 50 |
ColorSaturation | 46.0 |
ColorTemperature | 0.0 |
Contrast | Normal |
Contrast2012 | +20 |
ConvertToGrayscale | False |
CreatorTool | Adobe Photoshop Lightroom 6.1 (Windows) |
CropAngle | 0 |
CropBottom | 0.981308 |
CropConstrainToWarp | 0 |
CropLeft | 0 |
CropRight | 0.985986 |
CropTop | 0 |
CustomRendered | Normal |
DefringeGreenAmount | 0 |
DefringeGreenHueHi | 60 |
DefringeGreenHueLo | 40 |
DefringePurpleAmount | 0 |
DefringePurpleHueHi | 70 |
DefringePurpleHueLo | 30 |
Dehaze | 0 |
Description | OLYMPUS DIGITAL CAMERA |
DigitalZoomRatio | 1 |
Exposure2012 | 0.00 |
ExposureCompensation | 0 |
ExposureMode | Manual |
ExposureProgram | Manual |
ExposureTime | 1/640 |
Flash | On, Did not fire |
FlashCompensation | 0 |
FNumber | 5.6 |
FocalLength | 25.0 mm |
FocalLength35efl | 25.0 mm |
Format | image/tiff |
GainControl | High gain up |
Gamma | 1.00 |
GradientBasedCorrActive | true |
GradientBasedCorrAmount | 1.000000 |
GradientBasedCorrBrightness | 0.000000 |
GradientBasedCorrClarity2012 | 0.000000 |
GradientBasedCorrContrast2012 | 0.000000 |
GradientBasedCorrDefringe | 0.000000 |
GradientBasedCorrExposure2012 | -0.055000 |
GradientBasedCorrHighlights2012 | 0.000000 |
GradientBasedCorrHue | 67.000000 |
GradientBasedCorrLocalBlacks2012 | 0.000000 |
GradientBasedCorrLocalWhites2012 | 0.000000 |
GradientBasedCorrLuminanceNoise | 0.000000 |
GradientBasedCorrMaskFullX | 0.472841 |
GradientBasedCorrMaskFullY | -0.006043 |
GradientBasedCorrMaskValue | 1.000000 |
GradientBasedCorrMaskWhat | Mask/Gradient |
GradientBasedCorrMaskZeroX | 0.472711 |
GradientBasedCorrMaskZeroY | 0.527381 |
GradientBasedCorrMoire | 0.000000 |
GradientBasedCorrSaturation | 0.000000 |
GradientBasedCorrShadows2012 | 0.000000 |
GradientBasedCorrSharpness | 0.000000 |
GradientBasedCorrTemperature | 0.164840 |
GradientBasedCorrTint | 0.000000 |
GradientBasedCorrWhat | Correction |
GrainAmount | 0 |
GreenHue | 0 |
GreenSaturation | 0 |
HasCrop | True |
HasSettings | True |
Highlights2012 | -80 |
HighlightsSmoothing | 0.0 |
HueAdjustmentAqua | 0 |
HueAdjustmentBlue | 0 |
HueAdjustmentGreen | 0 |
HueAdjustmentMagenta | 0 |
HueAdjustmentOrange | 0 |
HueAdjustmentPurple | 0 |
HueAdjustmentRed | 0 |
HueAdjustmentYellow | 0 |
ImageDescription | OLYMPUS DIGITAL CAMERA |
ImageHeight | 2685 |
ImageSize | 3597x2685 |
ImageWidth | 3597 |
IncrementalTemperature | 0 |
IncrementalTint | 0 |
ISO | 800 |
IsPano360 | No |
Lens | 18.0-180.0 mm f/3.5-6.3 |
LensInfo | 18-180mm f/3.5-6.3 |
LensManualDistortionAmount | 0 |
LensModel | 18.0-180.0 mm f/3.5-6.3 |
LensProfileEnable | 1 |
LensProfileSetup | LensDefaults |
LensSerialNumber | 000000000 |
LightSource | Flash |
LightValue | 11.3 |
LuminanceAdjustmentAqua | 0 |
LuminanceAdjustmentBlue | 0 |
LuminanceAdjustmentGreen | 0 |
LuminanceAdjustmentMagenta | 0 |
LuminanceAdjustmentOrange | 0 |
LuminanceAdjustmentPurple | 0 |
LuminanceAdjustmentRed | 0 |
LuminanceAdjustmentYellow | 0 |
LuminanceNoiseReductionContrast | 20 |
LuminanceNoiseReductionDetail | 50 |
LuminanceSmoothing | 23 |
Luminosity | 0.0 |
Make | OLYMPUS IMAGING CORP. |
MaxApertureValue | 3.5 |
Megapixels | 9.7 |
MeteringMode | Multi-segment |
Method | Details Enhancer |
Microcontrast | 0.0 |
Microsmoothing | 2.0 |
Model | E-420 |
ModifyDate (1) | 2018:11:12 08:11:52+01:00 |
ModifyDate | 2018:11:12 08:11:52 |
Orientation | Horizontal (normal) |
ParametricDarks | 0 |
ParametricHighlights | 0 |
ParametricHighlightSplit | 75 |
ParametricLights | 0 |
ParametricMidtoneSplit | 50 |
ParametricShadows | 0 |
ParametricShadowSplit | 25 |
PerspectiveAspect | 0 |
PerspectiveHorizontal | 0 |
PerspectiveRotate | 0.0 |
PerspectiveScale | 100 |
PerspectiveUpright | 1 |
PerspectiveVertical | 0 |
PhotometricInterpretation | RGB |
PlanarConfiguration | Chunky |
PostCropVignetteAmount | -7 |
PostCropVignetteFeather | 50 |
PostCropVignetteHighlightContrast | 0 |
PostCropVignetteMidpoint | 50 |
PostCropVignetteRoundness | 0 |
PostCropVignetteStyle | 1 |
ProcessVersion | 6.7 |
ProfileDescription | Adobe RGB (1998) |
RawFileName | india31.tif |
RedHue | 0 |
RedSaturation | 0 |
RowsPerStrip | 2685 |
SamplesPerPixel | 3 |
Saturation (1) | -5 |
Saturation | Normal |
SaturationAdjustmentAqua | 0 |
SaturationAdjustmentBlue | 0 |
SaturationAdjustmentGreen | 0 |
SaturationAdjustmentMagenta | 0 |
SaturationAdjustmentOrange | 0 |
SaturationAdjustmentPurple | 0 |
SaturationAdjustmentRed | 0 |
SaturationAdjustmentYellow | 0 |
SaturationHighlights | 0.0 |
SaturationShadows | 0.0 |
SceneCaptureType | Standard |
SerialNumber | G21615072 |
Shadows2012 | +80 |
ShadowsClipping | 0.0 |
ShadowsSmoothing | 0.0 |
ShadowTint | 0 |
SharpenDetail | 40 |
SharpenEdgeMasking | 50 |
SharpenRadius | +1.5 |
Sharpness (1) | 50 |
Sharpness | Normal |
ShutterSpeed | 1/640 |
ShutterSpeedValue | 1/640 |
Smoothing | -8.0 |
SmoothingMode | Slider |
Software | Adobe Photoshop Lightroom 6.1 (Windows) |
SplitToningBalance | 0 |
SplitToningHighlightHue | 0 |
SplitToningHighlightSaturation | 0 |
SplitToningShadowHue | 0 |
SplitToningShadowSaturation | 0 |
Strength | 54.0 |
StripByteCounts | 57947670 |
StripOffsets | 31224 |
SubfileType | Full-resolution Image |
ToneCurve | 0, 0, 255, 255 |
ToneCurveBlue | 0, 0, 255, 255 |
ToneCurveGreen | 0, 0, 255, 255 |
ToneCurveName | Linear |
ToneCurveName2012 | Linear |
ToneCurvePV2012 | 0, 0, 255, 255 |
ToneCurvePV2012Blue | 0, 0, 255, 255 |
ToneCurvePV2012Green | 0, 0, 255, 255 |
ToneCurvePV2012Red | 0, 0, 255, 255 |
ToneCurveRed | 0, 0, 255, 255 |
ToneMapStrength | 0 |
Version (1) | 5.0 |
Version | 9.1 |
Vibrance | +5 |
VignetteAmount | 0 |
WhiteBalance (1) | Manual |
WhiteBalance | As Shot |
WhiteClip | 0.096657 |
Whites2012 | +40 |