Felt | Verdi |
AlreadyApplied | True |
Aperture | 2.8 |
ApertureValue | 2.8 |
AutoLateralCA | 1 |
BitsPerSample | 8 |
Blacks2012 | -20 |
BlueHue | +20 |
BlueSaturation | -30 |
BrightnessValue | 2.62 |
CameraProfile | Camera CLASSIC CHROME |
CircleOfConfusion | 0.020 mm |
Clarity2012 | +20 |
ColorComponents | 3 |
ColorNoiseReduction | 25 |
ColorNoiseReductionDetail | 50 |
ColorNoiseReductionSmoothness | 50 |
ColorSpace | sRGB |
ColorTemperature | 4600 |
ColorTransform | YCbCr |
Contrast2012 | +20 |
ConvertToGrayscale | True |
CreateDate | 2018:03:17 15:59:21 |
CreatorTool | Adobe Photoshop Lightroom Classic 7.1 (Macintosh) |
CropAngle | 0 |
CropBottom | 1 |
CropConstrainToWarp | 0 |
CropLeft | 0.329715 |
CropRight | 1 |
CropTop | 0.310259 |
CustomRendered | Normal |
DateCreated (1) | 2018:03:17 |
DateCreated | 2018:03:17 15:59:21 |
DateTimeOriginal | 2018:03:17 15:59:21 |
Dehaze | +10 |
DistortionCorrectionAlreadyApplied | True |
Exposure2012 | 0.00 |
ExposureCompensation | 0 |
ExposureMode | Auto |
ExposureProgram | Aperture-priority AE |
ExposureTime | 1/180 |
Flash | No Flash |
FNumber | 2.8 |
FocalLength | 50.0 mm |
FocalLength35efl | 50.0 mm (35 mm equivalent: 75.0 mm) |
FocalLengthIn35mmFormat | 75 mm |
Format | image/jpeg |
FOV | 27.0 deg |
GrainAmount | 20 |
GrainFrequency | 35 |
GrainSize | 20 |
GrayMixerAqua | -15 |
GrayMixerBlue | -10 |
GrayMixerGreen | -25 |
GrayMixerMagenta | -25 |
GrayMixerOrange | -15 |
GrayMixerPurple | +5 |
GrayMixerRed | -15 |
GrayMixerYellow | -10 |
GreenHue | 0 |
GreenSaturation | 0 |
HasCrop | True |
HasSettings | True |
Highlights2012 | -10 |
HyperfocalDistance | 44.57 m |
ImageHeight | 4022 |
ImageSize | 2759x4022 |
ImageWidth | 2759 |
ISO | 800 |
LateralChromaticAberrationCorrectionAlreadyApplied | True |
Lens | XF50-140mmF2.8 R LM OIS WR |
LensInfo | 50-140mm f/2.8 |
LensMake | FUJIFILM |
LensManualDistortionAmount | 0 |
LensModel | XF50-140mmF2.8 R LM OIS WR |
LensProfileEnable | 0 |
LensProfileSetup | LensDefaults |
LensSerialNumber | 48A01504 |
LightSource | Unknown |
LightValue | 7.5 |
LuminanceSmoothing | 0 |
Make | FUJIFILM |
MaxApertureValue | 2.8 |
Megapixels | 11.1 |
MeteringMode | Center-weighted average |
Model | X-T2 |
ModifyDate (1) | 2018:03:17 18:53:45+01:00 |
ModifyDate | 2018:03:17 18:53:45 |
ParametricDarks | 0 |
ParametricHighlights | 0 |
ParametricHighlightSplit | 75 |
ParametricLights | 0 |
ParametricMidtoneSplit | 50 |
ParametricShadows | 0 |
ParametricShadowSplit | 25 |
PerspectiveAspect | 0 |
PerspectiveHorizontal | 0 |
PerspectiveRotate | 0.0 |
PerspectiveScale | 100 |
PerspectiveUpright | 0 |
PerspectiveVertical | 0 |
PerspectiveX | 0.00 |
PerspectiveY | 0.00 |
PostCropVignetteAmount | 0 |
ProcessVersion | 10.0 |
ProfileDescription | sRGB IEC61966-2.1 |
RedHue | 0 |
RedSaturation | -20 |
ScaleFactor35efl | 1.5 |
SceneCaptureType | Standard |
SceneType | Directly photographed |
SensingMethod | One-chip color area |
SensitivityType | Standard Output Sensitivity |
SerialNumber | 71M63207 |
Shadows2012 | 0 |
ShadowTint | 0 |
SharpenDetail | 50 |
SharpenEdgeMasking | 50 |
SharpenRadius | +1.0 |
Sharpness (1) | 25 |
Sharpness | Normal |
ShutterSpeed | 1/180 |
ShutterSpeedValue | 1/180 |
Software | Adobe Photoshop Lightroom Classic 7.1 (Macintosh) |
SplitToningBalance | 0 |
SplitToningHighlightHue | 0 |
SplitToningHighlightSaturation | 0 |
SplitToningShadowHue | 0 |
SplitToningShadowSaturation | 0 |
SubjectDistanceRange | Unknown |
Tint | +17 |
ToneCurve | 0, 0, 255, 255 |
ToneCurveBlue | 0, 0, 255, 255 |
ToneCurveGreen | 0, 0, 255, 255 |
ToneCurveName | Linear |
ToneCurveName2012 | Custom |
ToneCurvePV2012 | 0, 0, 255, 255 |
ToneCurvePV2012Blue | 0, 0, 21, 21, 113, 134, 255, 255 |
ToneCurvePV2012Green | 0, 0, 21, 21, 113, 134, 255, 255 |
ToneCurvePV2012Red | 0, 0, 21, 21, 113, 134, 255, 255 |
ToneCurveRed | 0, 0, 255, 255 |
Version | 10.1 |
VignetteAmount | 0 |
VignetteCorrectionAlreadyApplied | True |
WhiteBalance (1) | As Shot |
WhiteBalance | Auto |
Whites2012 | +15 |