Felt | Verdi |
AlreadyApplied | True |
Aperture | 6.3 |
ApertureValue | 6.3 |
ApproximateFocusDistance | 27.3 |
AutoLateralCA | 0 |
BitsPerSample (1) | 8 8 8 |
BitsPerSample | 8 |
Blacks2012 | 0 |
BlueHue | 0 |
BlueSaturation | 0 |
CameraProfile | Adobe Standard |
CircleOfConfusion | 0.004 mm |
Clarity2012 | +100 |
ColorComponents | 3 |
ColorMode | RGB |
ColorNoiseReduction | 25 |
ColorNoiseReductionDetail | 50 |
ColorNoiseReductionSmoothness | 50 |
ColorSpace | Uncalibrated |
ColorTemperature | 4250 |
ColorTransform | YCbCr |
Contrast2012 | +100 |
ConvertToGrayscale | False |
CreateDate | 2018:10:08 15:43:31 |
CreatorTool | Adobe Photoshop CC (Windows) |
CustomRendered | Normal |
DateCreated (1) | 2018:10:08 |
DateCreated | 2018:10:08 15:43:31.011 |
DateTimeOriginal | 2018:10:08 15:43:31 |
DefringeGreenAmount | 0 |
DefringeGreenHueHi | 60 |
DefringeGreenHueLo | 40 |
DefringePurpleAmount | 0 |
DefringePurpleHueHi | 70 |
DefringePurpleHueLo | 30 |
Dehaze | 0 |
DOF | 3.81 m (25.53 - 29.34 m) |
ExifImageHeight | 900 |
ExifImageWidth | 1215 |
Exposure2012 | -0.40 |
ExposureCompensation | -1/3 |
ExposureMode | Auto |
ExposureProgram | Program AE |
ExposureTime | 1/200 |
Firmware | 1.0.5 |
Flash | Off, Did not fire |
FlashCompensation | 0 |
FNumber | 6.3 |
FocalLength | 103.0 mm |
FocalLength35efl | 103.0 mm (35 mm equivalent: 719.0 mm) |
Format | image/jpeg |
FOV | 2.9 deg |
GrainAmount | 0 |
GreenHue | 0 |
GreenSaturation | 0 |
HasCrop | False |
HasSettings | True |
Highlights2012 | 0 |
HueAdjustmentAqua | 0 |
HueAdjustmentBlue | 0 |
HueAdjustmentGreen | 0 |
HueAdjustmentMagenta | 0 |
HueAdjustmentOrange | 0 |
HueAdjustmentPurple | 0 |
HueAdjustmentRed | 0 |
HueAdjustmentYellow | 0 |
HyperfocalDistance | 391.24 m |
ICCProfileName | Adobe RGB (1998) |
ImageHeight (1) | 3648 |
ImageHeight | 900 |
ImageNumber | 0 |
ImageSize | 1215x900 |
ImageWidth (1) | 5472 |
ImageWidth | 1215 |
ISO | 800 |
Lens | TAMRON 16-300mm F/3.5-6.3 Di II VC PZD B016 |
LensID (1) | 213 |
LensID | Tamron 16-300mm f/3.5-6.3 Di II VC PZD Macro (B016) |
LensInfo | 16-300mm f/? |
LensManualDistortionAmount | 0 |
LensModel | TAMRON 16-300mm F/3.5-6.3 Di II VC PZD B016 |
LensProfileEnable | 0 |
LensProfileSetup | LensDefaults |
LensSerialNumber | 0000000000 |
LightValue | 10.0 |
LuminanceAdjustmentAqua | 0 |
LuminanceAdjustmentBlue | 0 |
LuminanceAdjustmentGreen | 0 |
LuminanceAdjustmentMagenta | 0 |
LuminanceAdjustmentOrange | 0 |
LuminanceAdjustmentPurple | 0 |
LuminanceAdjustmentRed | 0 |
LuminanceAdjustmentYellow | 0 |
LuminanceSmoothing | 0 |
Make | Canon |
MaxApertureValue | 5.7 |
Megapixels | 1.1 |
MeteringMode | Multi-segment |
Model | Canon EOS 7D Mark II |
ModifyDate (1) | 2018:11:03 15:55:58+01:00 |
ModifyDate | 2018:11:03 15:55:58 |
Orientation | Horizontal (normal) |
ParametricDarks | 0 |
ParametricHighlights | 0 |
ParametricHighlightSplit | 75 |
ParametricLights | 0 |
ParametricMidtoneSplit | 50 |
ParametricShadows | 0 |
ParametricShadowSplit | 25 |
PerspectiveAspect | 0 |
PerspectiveHorizontal | 0 |
PerspectiveRotate | 0.0 |
PerspectiveScale | 100 |
PerspectiveUpright | 0 |
PerspectiveVertical | 0 |
PerspectiveX | 0.00 |
PerspectiveY | 0.00 |
PhotometricInterpretation | RGB |
PostCropVignetteAmount | 0 |
ProcessVersion | 10.0 |
ProfileDescription | Adobe RGB (1998) |
Rating | 0 |
RawFileName | 529A6588.CR2 |
RecommendedExposureIndex | 800 |
RedHue | 0 |
RedSaturation | 0 |
SamplesPerPixel | 3 |
Saturation | +64 |
SaturationAdjustmentAqua | 0 |
SaturationAdjustmentBlue | 0 |
SaturationAdjustmentGreen | 0 |
SaturationAdjustmentMagenta | 0 |
SaturationAdjustmentOrange | 0 |
SaturationAdjustmentPurple | 0 |
SaturationAdjustmentRed | 0 |
SaturationAdjustmentYellow | 0 |
ScaleFactor35efl | 7.0 |
SceneCaptureType | Standard |
SensitivityType | Recommended Exposure Index |
SerialNumber | 153053001829 |
Shadows2012 | 0 |
ShadowTint | 0 |
SharpenDetail | 25 |
SharpenEdgeMasking | 0 |
SharpenRadius | +1.0 |
Sharpness | 25 |
ShutterSpeed | 1/200 |
ShutterSpeedValue | 1/200 |
Software | Adobe Photoshop CC (Windows) |
SplitToningBalance | 0 |
SplitToningHighlightHue | 0 |
SplitToningHighlightSaturation | 0 |
SplitToningShadowHue | 0 |
SplitToningShadowSaturation | 0 |
Tint | +23 |
ToneCurve | 0, 0, 32, 22, 64, 56, 128, 128, 192, 196, 255, 255 |
ToneCurveBlue | 0, 0, 255, 255 |
ToneCurveGreen | 0, 0, 255, 255 |
ToneCurveName | Medium Contrast |
ToneCurveName2012 | Linear |
ToneCurvePV2012 | 0, 0, 255, 255 |
ToneCurvePV2012Blue | 0, 0, 255, 255 |
ToneCurvePV2012Green | 0, 0, 255, 255 |
ToneCurvePV2012Red | 0, 0, 255, 255 |
ToneCurveRed | 0, 0, 255, 255 |
URL_List | |
Version | 10.1 |
Vibrance | +63 |
VignetteAmount | 0 |
WhiteBalance (1) | As Shot |
WhiteBalance | Auto |
Whites2012 | 0 |