Felt | Verdi |
AlreadyApplied | True |
Aperture | 16.0 |
ApertureValue | 16.0 |
AutoLateralCA | 0 |
AutoWhiteVersion | 134348800 |
BitsPerSample | 8 |
BlackClip | 0.010000 |
Blacks2012 | -52 |
BlueHue | 0 |
BlueSaturation | 0 |
CameraProfile | Embedded |
Clarity2012 | +14 |
ColorComponents | 3 |
ColorNoiseReduction | 49 |
ColorNoiseReductionDetail | 55 |
ColorNoiseReductionSmoothness | 13 |
ColorSaturation | 50.0 |
ColorSpace | sRGB |
ColorTemperature | 0.0 |
ColorTransform | YCbCr |
Contrast2012 | -31 |
ConvertToGrayscale | False |
Copyright | Glenn O Olsen |
CopyrightFlag | True |
CopyrightNotice | Glenn O Olsen |
CreatorTool | Adobe Photoshop Lightroom 6.14 (Windows) |
DateCreated (1) | 2018:12:26 |
DateCreated | 2018:12:26 09:17:58 |
DateTimeOriginal | 2018:12:26 09:17:58 |
DefringeGreenAmount | 0 |
DefringeGreenHueHi | 60 |
DefringeGreenHueLo | 40 |
DefringePurpleAmount | 0 |
DefringePurpleHueHi | 70 |
DefringePurpleHueLo | 30 |
Dehaze | 0 |
Exposure2012 | -1.07 |
ExposureTime | 2.6 |
FNumber | 16.0 |
FocalLength | 19.0 mm |
FocalLength35efl | 19.0 mm |
Format | image/jpeg |
Gamma | 1.00 |
GrainAmount | 0 |
GreenHue | 0 |
GreenSaturation | 0 |
HasCrop | False |
HasSettings | True |
Highlights2012 | -55 |
HighlightsSmoothing | 0.0 |
HueAdjustmentAqua | 0 |
HueAdjustmentBlue | 0 |
HueAdjustmentGreen | 0 |
HueAdjustmentMagenta | 0 |
HueAdjustmentOrange | 0 |
HueAdjustmentPurple | 0 |
HueAdjustmentRed | 0 |
HueAdjustmentYellow | -2 |
ImageHeight | 1600 |
ImageSize | 2403x1600 |
ImageWidth | 2403 |
IncrementalTemperature | +10 |
IncrementalTint | 0 |
ISO | 100 |
IsPano360 | No |
Lens | 18-35mm |
LensManualDistortionAmount | 0 |
LensModel | 18-35mm |
LensProfileEnable | 0 |
LensProfileSetup | LensDefaults |
LightValue | 6.6 |
LuminanceAdjustmentAqua | 0 |
LuminanceAdjustmentBlue | +33 |
LuminanceAdjustmentGreen | 0 |
LuminanceAdjustmentMagenta | -9 |
LuminanceAdjustmentOrange | 0 |
LuminanceAdjustmentPurple | 0 |
LuminanceAdjustmentRed | 0 |
LuminanceAdjustmentYellow | -9 |
LuminanceNoiseReductionContrast | 21 |
LuminanceNoiseReductionDetail | 26 |
LuminanceSmoothing | 18 |
Luminosity | 6.0 |
Make | Canon |
Marked | True |
Megapixels | 3.8 |
Method | Details Enhancer |
Microcontrast | 6.0 |
Microsmoothing | 3.0 |
Model | Canon EOS 7D |
ModifyDate (1) | 2018:12:27 20:58:46+01:00 |
ModifyDate | 2018:12:27 20:58:46 |
ParametricDarks | +1 |
ParametricHighlights | +32 |
ParametricHighlightSplit | 75 |
ParametricLights | +11 |
ParametricMidtoneSplit | 50 |
ParametricShadows | -9 |
ParametricShadowSplit | 25 |
PerspectiveAspect | 0 |
PerspectiveHorizontal | 0 |
PerspectiveRotate | 0.0 |
PerspectiveScale | 100 |
PerspectiveUpright | 0 |
PerspectiveVertical | 0 |
PerspectiveX | 0.00 |
PerspectiveY | 0.00 |
PostCropVignetteAmount | 0 |
ProcessVersion | 6.7 |
ProfileDescription | sRGB IEC61966-2.1 |
RedHue | 0 |
RedSaturation | 0 |
Rights | Glenn O Olsen |
Saturation | 0 |
SaturationAdjustmentAqua | 0 |
SaturationAdjustmentBlue | 0 |
SaturationAdjustmentGreen | 0 |
SaturationAdjustmentMagenta | 0 |
SaturationAdjustmentOrange | 0 |
SaturationAdjustmentPurple | 0 |
SaturationAdjustmentRed | 0 |
SaturationAdjustmentYellow | -7 |
SaturationHighlights | 0.0 |
SaturationShadows | 0.0 |
Shadows2012 | +33 |
ShadowsClipping | 0.0 |
ShadowsSmoothing | 0.0 |
ShadowTint | 0 |
SharpenDetail | 26 |
SharpenEdgeMasking | 17 |
SharpenRadius | +0.8 |
Sharpness | 43 |
ShutterSpeed | 2.6 |
ShutterSpeedValue | 2.6 |
Smoothing | Medium |
SmoothingMode | Light |
Software | Adobe Photoshop Lightroom 6.14 (Windows) |
SplitToningBalance | 0 |
SplitToningHighlightHue | 0 |
SplitToningHighlightSaturation | 0 |
SplitToningShadowHue | 0 |
SplitToningShadowSaturation | 0 |
Strength | 100.0 |
ToneCurve | 0, 0, 255, 255 |
ToneCurveBlue | 0, 0, 255, 255 |
ToneCurveGreen | 0, 0, 255, 255 |
ToneCurveName | Linear |
ToneCurveName2012 | Linear |
ToneCurvePV2012 | 0, 0, 255, 255 |
ToneCurvePV2012Blue | 0, 0, 255, 255 |
ToneCurvePV2012Green | 0, 0, 255, 255 |
ToneCurvePV2012Red | 0, 0, 255, 255 |
ToneCurveRed | 0, 0, 255, 255 |
ToneMapStrength | 0 |
UsageTerms | Etter avtale |
Version (1) | 5.1 |
Version | 10.1 |
Vibrance | -2 |
VignetteAmount | 0 |
WhiteBalance | Custom |
WhiteClip | 0.500000 |
Whites2012 | +52 |